BEGIN:VCALENDAR
VERSION:2.0
PRODID:-//VIEWLAGOS - ECPv6.15.11//NONSGML v1.0//EN
CALSCALE:GREGORIAN
METHOD:PUBLISH
X-ORIGINAL-URL:https://viewlagos.ng
X-WR-CALDESC:Events for VIEWLAGOS
REFRESH-INTERVAL;VALUE=DURATION:PT1H
X-Robots-Tag:noindex
X-PUBLISHED-TTL:PT1H
BEGIN:VTIMEZONE
TZID:Africa/Lagos
BEGIN:STANDARD
TZOFFSETFROM:+0100
TZOFFSETTO:+0100
TZNAME:WAT
DTSTART:20240101T000000
END:STANDARD
END:VTIMEZONE
BEGIN:VEVENT
DTSTART;TZID=Africa/Lagos:20250330T160000
DTEND;TZID=Africa/Lagos:20250330T180000
DTSTAMP:20260420T020824
CREATED:20250327T173619Z
LAST-MODIFIED:20250327T173655Z
UID:10000104-1743350400-1743357600@viewlagos.ng
SUMMARY:Mutation Monthly Series - March Edition
DESCRIPTION:Attachment style refers to the way people form emotional bonds and connections with others. \nAttachment Theory states that the way we bond with our primary caregiver forms the way we attach to people throughout our lives. \nWe view early relationships as a rule for future ones. \nIf you are always fixated on relationships and need lots of assurance\, then you might have Anxious Attachment. \nIf you act like attachment is a threat to your freedom. You prefer short-term flings than committed relationships; then you might have Avoidant Attachment. \nPeople with Insecure Attachment Styles often struggle with Adult Relationships. They might find it hard to be in healthy relationships. \n  \nThis March edition of the Mutation Monthly Series is captioned: Let’s Talk About ATTACHMENT STYLES \nDate: Sunday\, the 30th of March\, 2025 \nTime: 4 pm Prompt (GMT+1) \nVenue:13 Georgious Cole Estate\, Off College Road\, Estate Bus Stop\, Ogba\, Lagos \nAttendance is FREE\, but Registration is Compulsory!
URL:https://viewlagos.ng/event/mutation-monthly-series-march-edition/
LOCATION:George Cole Estate\, 13 Georgious Cole Estate\, Off College Road\, Estate Bus Stop\, Ogba\, Lagos\, 101232\, Nigeria
CATEGORIES:Health,Networking
ATTACH;FMTTYPE=image/jpeg:https://viewlagos.ng/wp-content/uploads/2025/03/attache.jpeg
END:VEVENT
BEGIN:VEVENT
DTSTART;TZID=Africa/Lagos:20250330T163000
DTEND;TZID=Africa/Lagos:20250330T200000
DTSTAMP:20260420T020824
CREATED:20250321T093143Z
LAST-MODIFIED:20250321T093429Z
UID:10000073-1743352200-1743364800@viewlagos.ng
SUMMARY:Lagos Karaoke & Games with Alali VI
DESCRIPTION:Lagos Karaoke & Games with Alali VI \nJoin us for an evening of fun and entertainment at the Lagos Karaoke & Games with Alali VI event! Get ready to unleash your inner superstar and show off your singing skills in the heart of Lagos. \nOn Sundays\, starting at 16:30\, come down to 32 Musa Yar’ Adua St. and be part of this exciting event. Whether you’re a seasoned karaoke enthusiast or a first-timer\, this is the perfect opportunity to showcase your talent and have a blast with friends and family. \nGet ready to sing your heart out with a wide selection of songs\, ranging from classic hits to the latest chart-toppers. \nBut wait\, there’s more! In addition to karaoke\, we have an array of instagrammable games lined up for you. Challenge your friends to a friendly competition and see who comes out on top. From interactive trivia to exciting dance-offs\, there’s something for everyone. \nSo mark your calendars and don’t miss out on the Lagos Karaoke & Games with Alali VI event. It’s going to be an evening filled with laughter\, music\, and memories. Grab your friends\, warm up those vocal cords\, and get ready for an unforgettable night of entertainment. We can’t wait to see you there!
URL:https://viewlagos.ng/event/lagos-karaoke-games-with-alali-vi/2025-03-30/
LOCATION:Alali\, 32 Musa Yar' Adua Street\, Victoria Island\, Lagos State\, 106104\, Nigeria
CATEGORIES:Things To Do In Lagos
ATTACH;FMTTYPE=image/jpeg:https://viewlagos.ng/wp-content/uploads/2025/03/karaoke.jpeg
END:VEVENT
BEGIN:VEVENT
DTSTART;TZID=Africa/Lagos:20250330T163000
DTEND;TZID=Africa/Lagos:20250330T230000
DTSTAMP:20260420T020824
CREATED:20250316T201958Z
LAST-MODIFIED:20250316T211947Z
UID:10000011-1743352200-1743375600@viewlagos.ng
SUMMARY:Its Selfie Sunday at Alali VI!
DESCRIPTION:Welcome to Its Selfie Sunday at Alali VI! Looking for fun things to do in Lagos every Sunday? Look no further! Join us at Alali VI for a day filled with selfie-taking\, music\, food\, and good vibes. Whether you’re a selfie pro or just looking to snap a few pics with friends\, this event is perfect for you. Don’t miss out on the opportunity to capture some amazing memories in one of Lagos’s hottest spots. See you there!
URL:https://viewlagos.ng/event/its-selfie-sunday-at-alali-vi/2025-03-30/
LOCATION:Alali\, 32 Musa Yar' Adua Street\, Victoria Island\, Lagos State\, 106104\, Nigeria
CATEGORIES:Things To Do In Lagos
ATTACH;FMTTYPE=image/jpeg:https://viewlagos.ng/wp-content/uploads/2025/03/selfie.jpeg
END:VEVENT
END:VCALENDAR