BEGIN:VCALENDAR
VERSION:2.0
PRODID:-//VIEWLAGOS - ECPv6.15.11//NONSGML v1.0//EN
CALSCALE:GREGORIAN
METHOD:PUBLISH
X-WR-CALNAME:VIEWLAGOS
X-ORIGINAL-URL:https://viewlagos.ng
X-WR-CALDESC:Events for VIEWLAGOS
REFRESH-INTERVAL;VALUE=DURATION:PT1H
X-Robots-Tag:noindex
X-PUBLISHED-TTL:PT1H
BEGIN:VTIMEZONE
TZID:Africa/Lagos
BEGIN:STANDARD
TZOFFSETFROM:+0100
TZOFFSETTO:+0100
TZNAME:WAT
DTSTART:20240101T000000
END:STANDARD
END:VTIMEZONE
BEGIN:VEVENT
DTSTART;TZID=Africa/Lagos:20250721T080000
DTEND;TZID=Africa/Lagos:20250807T170000
DTSTAMP:20260420T021427
CREATED:20250702T103453Z
LAST-MODIFIED:20250718T183620Z
UID:10000573-1753084800-1754586000@viewlagos.ng
SUMMARY:Video Editing & Sound Design Training
DESCRIPTION:If you’ve ever dreamt of seeing your name in the credits as a creator\, this is your moment. \nAt KAP Film & Television Academy\, we’ve designed an incredible hands-on programs to bring you closer to the heart of filmmaking\, whether you’re behind the camera or shaping the final cut. \nVideo Editing & Sound Editing | July 15–28 \n\nCraft immersive soundscapes and edit with rhythm\nWork on real film scenes using pro software\nLearn the invisible art that makes movies unforgettable\nCertificate + Portfolio Work\n\n Date: July 15–28\, 2025\n Location: 41 Ogundana Street\, Off Allen Avenue\, Ikeja\, Lagos\n Tuition: ₦250\,000\nAccommodation: Available upon request at ₦280\,000 for 14 nights \nThese are not classroom lectures. They’re real\, creative training labs led by industry pros who’ve worked on the films you love. You’ll walk away with practical skills\, project experience\, and clarity about your voice in this industry.
URL:https://viewlagos.ng/event/video-editing-sound-design-training/
LOCATION:KAP Hub\, 41 Ogundana Street off Allen Avenue\, Ikeja\, Lagos\, 100102\, Nigeria
CATEGORIES:Education
ATTACH;FMTTYPE=image/png:https://viewlagos.ng/wp-content/uploads/2025/07/Screenshot-2025-07-02-at-10.50.59.png
ORGANIZER;CN="KAP Film & Television Academy":MAILTO:info@kap.academy
END:VEVENT
BEGIN:VEVENT
DTSTART;TZID=Africa/Lagos:20250729T080000
DTEND;TZID=Africa/Lagos:20250729T170000
DTSTAMP:20260420T021427
CREATED:20250630T135413Z
LAST-MODIFIED:20250630T135624Z
UID:10000571-1753776000-1753808400@viewlagos.ng
SUMMARY:Nigeria Fintech Forum 2025
DESCRIPTION:🚀Get ready to explore the future of finance and technology at\nNigeria Fintech Forum 2025! \nDive deep into the latest innovations in payments\, fintech\, banking\, e-commerce and telcos across Nigeria. \nDon’t miss out on this opportunity to connect with industry leaders-Join us at the Balmoral Convention Centre\, Lagos\, on 29th July 2025! \n🚨1\,700+ Attendees | 50+ Exhibitors | 450+ Companies | 3 Stages
URL:https://viewlagos.ng/event/nigeria-fintech-forum-2025/
LOCATION:Balmoral Convention Centre\, Federal Palace Hotel and Casino\, 6-8 Ahmadu Bello Wy\,\, Victoria Island\, Lagos\, 101241\, Nigeria
CATEGORIES:Forum,Technology
ATTACH;FMTTYPE=image/jpeg:https://viewlagos.ng/wp-content/uploads/2025/06/Screenshot_30-6-2025_145039_www.instagram.com_.jpeg
END:VEVENT
BEGIN:VEVENT
DTSTART;TZID=Africa/Lagos:20250729T090000
DTEND;TZID=Africa/Lagos:20250730T180000
DTSTAMP:20260420T021427
CREATED:20250714T164722Z
LAST-MODIFIED:20250714T164722Z
UID:10000578-1753779600-1753898400@viewlagos.ng
SUMMARY:ICTEL EXPO 2025
DESCRIPTION:Mark your calendar for the date 29th and 30th of July 2025! Join us at 11th edition of ICTEL EXPO 2025 for a tech-packed extravaganza that will reshape your digital perspective. \nLet’s make the magic together\, let’s leverage on technology for INNOVATION\, let’s leverage technology for NEW DEVELOPMENTS and harness NEW OPPORTUNITIES!!!. \nJoin Key industry players\, Tech enthusiast\, Innovators\, Business professionals for an unforgettable experience where ideas collide and opportunities abound. \nDate: Tuesday 29th – Wednesday 30th July\, 2025\nVenue: Lagos Oriental Hotel\, 3 Lekki-Epe Expressway\, Victoria Island\, Lagos.
URL:https://viewlagos.ng/event/ictel-expo-2025/
LOCATION:Oriental Hotel\, 3 Lekki - Epe Expy\, Victoria Island\, Victoria Island\, Lagos\, 106104\, Nigeria
CATEGORIES:Exhibition,Expo
ATTACH;FMTTYPE=image/webp:https://viewlagos.ng/wp-content/uploads/2025/07/downloadgram.org_504456306_18001354754789368_1712989665916529152_n.webp
END:VEVENT
END:VCALENDAR