BEGIN:VCALENDAR
VERSION:2.0
PRODID:-//VIEWLAGOS - ECPv6.15.11//NONSGML v1.0//EN
CALSCALE:GREGORIAN
METHOD:PUBLISH
X-WR-CALNAME:VIEWLAGOS
X-ORIGINAL-URL:https://viewlagos.ng
X-WR-CALDESC:Events for VIEWLAGOS
REFRESH-INTERVAL;VALUE=DURATION:PT1H
X-Robots-Tag:noindex
X-PUBLISHED-TTL:PT1H
BEGIN:VTIMEZONE
TZID:Africa/Lagos
BEGIN:STANDARD
TZOFFSETFROM:+0100
TZOFFSETTO:+0100
TZNAME:WAT
DTSTART:20240101T000000
END:STANDARD
END:VTIMEZONE
BEGIN:VEVENT
DTSTART;TZID=Africa/Lagos:20250809T090000
DTEND;TZID=Africa/Lagos:20250809T170000
DTSTAMP:20260420T020950
CREATED:20250724T192857Z
LAST-MODIFIED:20250724T192857Z
UID:10000602-1754730000-1754758800@viewlagos.ng
SUMMARY:APEX Tech summit
DESCRIPTION:Africa stands at the brink of a digital revolution—one that promises to unlock unprecedented economic opportunities across the continent. At our upcoming event\, The African Digital Economy: Building the Infrastructure for the Next Billion Users\, we will take a deep dive into the technologies\, policies\, and partnerships needed to establish a strong digital foundation. \nTogether\, we will explore how to create inclusive\, scalable systems that empower individuals\, businesses\, and governments\, laying the groundwork for sustainable growth and seamless connectivity for the next billion Africans entering the digital economy.
URL:https://viewlagos.ng/event/apex-tech-summit/
LOCATION:Landmark Event Centre\, Plot 2 & 3\, Water Corporation Drive\, Victoria Island\, Lagos State\, 106104\, Nigeria
CATEGORIES:Summit
ATTACH;FMTTYPE=image/jpeg:https://viewlagos.ng/wp-content/uploads/2025/07/https___cdn.evbuc_.com_images_1077840763_2835642771771_1_original.jpeg
END:VEVENT
BEGIN:VEVENT
DTSTART;TZID=Africa/Lagos:20250809T100000
DTEND;TZID=Africa/Lagos:20250809T120000
DTSTAMP:20260420T020950
CREATED:20250719T141904Z
LAST-MODIFIED:20250719T141904Z
UID:10000600-1754733600-1754740800@viewlagos.ng
SUMMARY:Wealth Summit 2025
DESCRIPTION:🔥 1 Day | 1000+ Attendees | 10+ Speakers | 1 Wealth-Building Experience 🔥 \nJoin us for the highly anticipated Wealth Summit 2025\, a transformational gathering of industry leaders\, wealth strategists\, entrepreneurs\, and visionaries. This year’s theme: “Unlocking Generational Wealth in a Changing World.” \nWhether you’re looking to grow your income\, scale your business\, invest smartly\, or leave a legacy\, this summit is where your next level begins. \nWhat to Expect\n\nKeynotes from Financial Icons like Pastor Matthew Ashimolowo\nPractical Sessions on Real Estate\, Investment\, and Digital Wealth\nLive Q&A with Industry Experts\nNetworking Opportunities with Decision Makers & Investors\n\nWho Should Attend?\n\nBusiness Owners\nAspiring Entrepreneurs\nReal Estate Investors\nWorking Professionals\nStudents seeking financial literacy\nAnyone serious about wealth and legacy\n\nTicket Options\n🎟 General Admission – ₦0\nAccess to all sessions + digital workbook \n🎟 VIP Admission – ₦0\nFront-row seating + exclusive networking lunch + “40 Secrets of Wealth” audio package \n🎟 Online Access – ₦0\nLive stream + digital resources \nSpeakers\n\nOlushola Olaleye – Global Wealth Coach\nDr. Sunday Olorunsheyi – Africa’s No.1 Investment Coach\nMr Wisdom Ezekiel. – – Africa’s No.1Real estate Mogul\nDamilola Hassan – Managing Director Meristem Trustees\nCosmas Maduka – CEO Cosmas Group
URL:https://viewlagos.ng/event/wealth-summit-2025/
LOCATION:G3 Event center\, G3 Event Centre 19 Oki Lane Lagos\, LA\, Lagos\, Lagos\, 105102\, Nigeria
CATEGORIES:Summit
ATTACH;FMTTYPE=image/jpeg:https://viewlagos.ng/wp-content/uploads/2025/07/https___cdn.evbuc_.com_images_1024206643_1384686989913_1_original.jpeg
END:VEVENT
BEGIN:VEVENT
DTSTART;TZID=Africa/Lagos:20250809T100000
DTEND;TZID=Africa/Lagos:20250809T170000
DTSTAMP:20260420T020950
CREATED:20250806T151945Z
LAST-MODIFIED:20250806T151945Z
UID:10000683-1754733600-1754758800@viewlagos.ng
SUMMARY:Career Connect 2.0
DESCRIPTION:Are you ready to take your career to the next level? Career Connect 2.0 is back; bigger\, better\, and packed with game changing insights! \nJoin us for an exclusive edition Career Connect with The Projectpreneur featuring top industry leaders who have walked the path and are ready to guide you toward success. Gain practical strategies\, expand your network\, and unlock opportunities that will set you apart in your career journey. \n🔥 What to Expect:\n✅ High-impact mentorship with top industry professionals\n✅ Proven strategies for career growth and business success\n✅ Powerful networking opportunities with like-minded professionals\n✅ Practical insights to elevate your career in 2025 and beyond \n🗓 Date: Saturday\, 12th April 2025\n⏰ Time: 10 AM\n📍 Location: Lagos\n🎟 FREE attendance – but registration is mandatory!\n🔗 Secure your spot now: bit.ly/CareerConnect25
URL:https://viewlagos.ng/event/career-connect-2-0/
LOCATION:Eko Hotel and Suites\, 1415 Adetokunbo Ademola Street\,\, Victoria Island\, Lagos State\, 106104\, Nigeria
CATEGORIES:Conference,Networking
ATTACH;FMTTYPE=image/jpeg:https://viewlagos.ng/wp-content/uploads/2025/08/https___cdn.evbuc_.com_images_1077244363_186842207828_1_original.jpg
END:VEVENT
END:VCALENDAR