BEGIN:VCALENDAR
VERSION:2.0
PRODID:-//VIEWLAGOS - ECPv6.15.11//NONSGML v1.0//EN
CALSCALE:GREGORIAN
METHOD:PUBLISH
X-WR-CALNAME:VIEWLAGOS
X-ORIGINAL-URL:https://viewlagos.ng
X-WR-CALDESC:Events for VIEWLAGOS
REFRESH-INTERVAL;VALUE=DURATION:PT1H
X-Robots-Tag:noindex
X-PUBLISHED-TTL:PT1H
BEGIN:VTIMEZONE
TZID:Africa/Lagos
BEGIN:STANDARD
TZOFFSETFROM:+0100
TZOFFSETTO:+0100
TZNAME:WAT
DTSTART:20240101T000000
END:STANDARD
END:VTIMEZONE
BEGIN:VEVENT
DTSTART;TZID=Africa/Lagos:20250815T090000
DTEND;TZID=Africa/Lagos:20250815T180000
DTSTAMP:20260420T020956
CREATED:20250801T102759Z
LAST-MODIFIED:20250801T102759Z
UID:10000669-1755248400-1755280800@viewlagos.ng
SUMMARY:Open Source Festival 2025
DESCRIPTION:Open Source Festival is a prestigious yearly conference that garners a significant turnout of students\, developers\, designers\, and corporate entities. It encompasses an array of talks\, workshops\, and initiatives aimed at promoting the growth of open source culture\, contribution\, development\, community\, etc.\, across the continent. \nTheme: Beyond Borders.\nDates: August 15th to 16th\, 2025.\n\nThis year\, the festival will include co-located events and incorporate opportunities for networking\, discussions\, and brainstorming on both existing and emerging open source technologies. You can expect numerous topics from tracks like: Cloud and Containers (hosted by KCD Nigeria)\, AI/ML\, Design\, OSS Security\, Web Development\, Web3/Blockchain\, Mobile Development\, Internet of Things (Embedded Systems\, Hardware)\, Digital Transformation (OSPO\, InnerSource\, DPG\, DPI)\, and Community (Technical Writing\, Career Growth\, Open Source 101). \nFAQs: https://festival.oscafrica.org/faqs.\n 
URL:https://viewlagos.ng/event/open-source-festival-2025/
LOCATION:Landmark Event Centre\, Plot 2 & 3\, Water Corporation Drive\, Victoria Island\, Lagos State\, 106104\, Nigeria
CATEGORIES:Festival
ATTACH;FMTTYPE=image/webp:https://viewlagos.ng/wp-content/uploads/2025/08/xopynhylkztwic19negg-scaled.webp
END:VEVENT
END:VCALENDAR