BEGIN:VCALENDAR
VERSION:2.0
PRODID:-//VIEWLAGOS - ECPv6.15.11//NONSGML v1.0//EN
CALSCALE:GREGORIAN
METHOD:PUBLISH
X-ORIGINAL-URL:https://viewlagos.ng
X-WR-CALDESC:Events for VIEWLAGOS
REFRESH-INTERVAL;VALUE=DURATION:PT1H
X-Robots-Tag:noindex
X-PUBLISHED-TTL:PT1H
BEGIN:VTIMEZONE
TZID:Africa/Lagos
BEGIN:STANDARD
TZOFFSETFROM:+0100
TZOFFSETTO:+0100
TZNAME:WAT
DTSTART:20240101T000000
END:STANDARD
END:VTIMEZONE
BEGIN:VEVENT
DTSTART;TZID=Africa/Lagos:20250830T070000
DTEND;TZID=Africa/Lagos:20250830T120000
DTSTAMP:20260420T021322
CREATED:20250815T184620Z
LAST-MODIFIED:20250815T184620Z
UID:10000692-1756537200-1756555200@viewlagos.ng
SUMMARY:ZERO RUN CLUB
DESCRIPTION:ZERO RUN CLUB — Lace up\, Lagos!Join us this Saturday\, 16th August\, for a refreshing 5KM run. Whether you’re walking\, jogging\, or sprinting\, it’s all about moving together and having fun. \n📍 Meeting Point: VGC Club Roundabout🕖 Time: 7:00 AM📏 Distance: 5KM🎯 Pace: All levels welcome \nBring your energy\, your friends\, and let’s make the road ours!
URL:https://viewlagos.ng/event/zero-run-club/2025-08-30/
LOCATION:VGC\, Eti-Osa\, VGC\, Lagos\, 106104\, Nigeria
CATEGORIES:Sports
ATTACH;FMTTYPE=image/webp:https://viewlagos.ng/wp-content/uploads/2025/08/rk6vv2vgalcynv9kocn9.webp
END:VEVENT
BEGIN:VEVENT
DTSTART;TZID=Africa/Lagos:20250830T110000
DTEND;TZID=Africa/Lagos:20250830T220000
DTSTAMP:20260420T021322
CREATED:20250816T170734Z
LAST-MODIFIED:20250818T122435Z
UID:10000708-1756551600-1756591200@viewlagos.ng
SUMMARY:GAME ON\, LAGOS!
DESCRIPTION:🎮 GAME ON LAGOS\nGame Land\, Lekki🗓️ Saturday\, August 30th\, 2025🕚 11:00 AM – 10:00 PM \n\nIt’s time to level up your weekend — Game On Lagos is here! 🚀 Gather your crew and dive into a full day of competitive fun\, good vibes\, and unforgettable memories at Game Land\, Lekki. \nPull up with your friends and enjoy: \n\n\n♟ Board Games \n\n\n🃏 Card Games \n\n\n🎱 Snooker & More! \n\n\nThis isn’t just about the games — it’s about the energy\, the laughter\, and the connections you’ll make. Whether you’re a casual player or a game-night veteran\, Game On Lagos has something for everyone. \n📍 Venue: Game Land\, Lekki\, Lagos🕚 Doors Open: 11:00 AM🎮 Till: 10:00 PM🎟️ Entry Fee: ₦8\,000 \n\nDon’t miss out on the vibe\, the games\, and the chance to connect with fellow gamers and fun-lovers. Mark your calendar\, bring your friends\, and get ready to play! 🕹️✨
URL:https://viewlagos.ng/event/game-on-lagos/
LOCATION:Gameland\, The Lekki Coliseum - 14 Providence street\, off Admiralty Way\,\, Lekki Phase 1\, Lagos\, 106104\, Nigeria
CATEGORIES:Entertainment
ATTACH;FMTTYPE=image/jpeg:https://viewlagos.ng/wp-content/uploads/2025/08/WhatsApp-Image-2025-08-16-at-13.20.03_cf4c4a97.jpg
END:VEVENT
BEGIN:VEVENT
DTSTART;TZID=Africa/Lagos:20250830T140000
DTEND;TZID=Africa/Lagos:20250831T040000
DTSTAMP:20260420T021322
CREATED:20250815T183606Z
LAST-MODIFIED:20250815T183606Z
UID:10000688-1756562400-1756612800@viewlagos.ng
SUMMARY:PM2AM: HOT BODY SUMMER
DESCRIPTION:WE ARE BACK AND BETTER\, THIS TIME\, ANOTHER MAZZA AT VODA BEACH WITH MAVIN \nInspired by all the hot bodies out there\, it’s about to be a Hot Body Summer for real. We want everybody to come out\, get lit\, and get wet with the gang. Expect a lot of pop-up activities during the day before we transition into a full-on party at night. \n\nSet agains the Coastline of Lagos\, Hot Body Summer brings together music\, fashion\, and soft-life energy for a truly unforgettable day-to-night experience.\nThe day kicks off with the pop-up before we shift into rave mode. Think your favourite makeup\, swimwear\, and beauty brands (brand stalls are limited\, so apply early to secure yours).\nFrom golden-hour slushies to midnight dancefloors\, the event will uplift all expressions of beauty and create a space where anything goes.\nExpect a euphoric sonic journey across Afrobeats\, Amapiano\, and Afrohouse—fused with immersive attractions\, playful side activities\, and fashion-forward energy.\nWhether you’re showing skin or just showing up\, this summer\, your body is the vibe.
URL:https://viewlagos.ng/event/pm2am-hot-body-summer/
LOCATION:VODA BEACH\, CFFM+54\, Eti-Osa\, Lekki\, Lagos\, 106104\, Nigeria
CATEGORIES:Things To Do In Lagos
ATTACH;FMTTYPE=image/webp:https://viewlagos.ng/wp-content/uploads/2025/08/jssgvnmeuys3ifmh2qhm.webp
END:VEVENT
END:VCALENDAR