BEGIN:VCALENDAR
VERSION:2.0
PRODID:-//VIEWLAGOS - ECPv6.15.11//NONSGML v1.0//EN
CALSCALE:GREGORIAN
METHOD:PUBLISH
X-ORIGINAL-URL:https://viewlagos.ng
X-WR-CALDESC:Events for VIEWLAGOS
REFRESH-INTERVAL;VALUE=DURATION:PT1H
X-Robots-Tag:noindex
X-PUBLISHED-TTL:PT1H
BEGIN:VTIMEZONE
TZID:Africa/Lagos
BEGIN:STANDARD
TZOFFSETFROM:+0100
TZOFFSETTO:+0100
TZNAME:WAT
DTSTART:20240101T000000
END:STANDARD
END:VTIMEZONE
BEGIN:VEVENT
DTSTART;TZID=Africa/Lagos:20251122T070000
DTEND;TZID=Africa/Lagos:20251122T120000
DTSTAMP:20260423T173349
CREATED:20250815T184620Z
LAST-MODIFIED:20250815T184620Z
UID:10000704-1763794800-1763812800@viewlagos.ng
SUMMARY:ZERO RUN CLUB
DESCRIPTION:ZERO RUN CLUB — Lace up\, Lagos!Join us this Saturday\, 16th August\, for a refreshing 5KM run. Whether you’re walking\, jogging\, or sprinting\, it’s all about moving together and having fun. \n📍 Meeting Point: VGC Club Roundabout🕖 Time: 7:00 AM📏 Distance: 5KM🎯 Pace: All levels welcome \nBring your energy\, your friends\, and let’s make the road ours!
URL:https://viewlagos.ng/event/zero-run-club/2025-11-22/
LOCATION:VGC\, Eti-Osa\, VGC\, Lagos\, 106104\, Nigeria
CATEGORIES:Sports
ATTACH;FMTTYPE=image/webp:https://viewlagos.ng/wp-content/uploads/2025/08/rk6vv2vgalcynv9kocn9.webp
END:VEVENT
BEGIN:VEVENT
DTSTART;TZID=Africa/Lagos:20251122T090000
DTEND;TZID=Africa/Lagos:20251122T150000
DTSTAMP:20260423T173349
CREATED:20251028T212009Z
LAST-MODIFIED:20251028T212115Z
UID:10001944-1763802000-1763823600@viewlagos.ng
SUMMARY:NorthStar 2.0
DESCRIPTION:NorthStar is a tech mixer that offers networking opportunities for tech professionals to learn from industry leaders. It also provides a platform that connects African tech talent to job opportunities in top companies across the US\, UK\, and Canada. \nTicket Details \nFree Pass \n\nAccess to all main sessions & panels\nNetworking with attendees\nEvent materials & resources\n\nVIP Pass – ₦10\,000 (Only 30 available) \n\nAll Free Pass benefits\n1:1 access with speakers\nPrivate mentorship opportunities\nFood & refreshments\nReserved front-row seating
URL:https://viewlagos.ng/event/northstar-2-0/
LOCATION:Lagos
CATEGORIES:Technology
ATTACH;FMTTYPE=image/jpeg:https://viewlagos.ng/wp-content/uploads/2025/10/northstar-original.jpeg
END:VEVENT
BEGIN:VEVENT
DTSTART;TZID=Africa/Lagos:20251122T180000
DTEND;TZID=Africa/Lagos:20251122T220000
DTSTAMP:20260423T173349
CREATED:20251013T212253Z
LAST-MODIFIED:20251013T212253Z
UID:10001145-1763834400-1763848800@viewlagos.ng
SUMMARY:Ako By Terra Kulture’s Live Performance Nights
DESCRIPTION:Step into an unforgettable evening of music\, theatre\, and fine dining at Terra Kulture’s Live Performance Nights.Experience soulful performances in an intimate setting where great food meets artistic expression. Whether you’re winding down after a long week or planning a cozy night out\, this is where the rhythm\, art\, and atmosphere come alive. \nEvent Schedule:Friday: 6 PM – 10 PMSaturday: 6 PM – 10 PMSunday: 5 PM – 8 PM \nVenue: Plot 1376\, Tiamiyu Savage\, Off Ahmadu Bello Way\, Victoria Island\, LagosReservations: 08104224137 \nDine with music and theatre — stay for the vibe.
URL:https://viewlagos.ng/event/ako-by-terra-kultures-live-performance-nights/2025-11-22/
LOCATION:Terra Kulture Arena\, Plot 1376 Tiamiyu Savage Street\, Victoria Island\, Lagos State\, 106104\, Nigeria
CATEGORIES:Things To Do In Lagos
ATTACH;FMTTYPE=image/webp:https://viewlagos.ng/wp-content/uploads/2025/10/Live-performance.webp
END:VEVENT
BEGIN:VEVENT
DTSTART;TZID=Africa/Lagos:20251122T210000
DTEND;TZID=Africa/Lagos:20251122T233000
DTSTAMP:20260423T173349
CREATED:20251121T111504Z
LAST-MODIFIED:20251121T111504Z
UID:10002861-1763845200-1763854200@viewlagos.ng
SUMMARY:A Lit Night with Emmy Brown
DESCRIPTION:Get ready for an electrifying night as Bellies Lounge brings you A Lit Night with Emmy Brown! Join us for an explosive evening of music\, energy\, and unforgettable performances from some of the hottest rising acts. With powerful stage vibes\, nonstop entertainment\, and the best crowd in the city\, this is one Saturday you don’t want to miss. \nCome turn up\, sing along\, and party late into the night as DJ Alex Rolex delivers the baddest mixes and HypeMan Skezayo keeps the energy sky-high. \nBellies Club is the place to be — pull up with your squad!
URL:https://viewlagos.ng/event/a-lit-night-with-emmy-brown/
LOCATION:Bellies Club\, Roof Top\, 30 Addo Road\, Ajah\, Lagos\, 106104\, Nigeria
CATEGORIES:Things To Do In Lagos
ATTACH;FMTTYPE=image/jpeg:https://viewlagos.ng/wp-content/uploads/2025/11/WhatsApp-Image-2025-11-21-at-08.57.01.jpeg
END:VEVENT
END:VCALENDAR