BEGIN:VCALENDAR
VERSION:2.0
PRODID:-//VIEWLAGOS - ECPv6.15.11//NONSGML v1.0//EN
CALSCALE:GREGORIAN
METHOD:PUBLISH
X-WR-CALNAME:VIEWLAGOS
X-ORIGINAL-URL:https://viewlagos.ng
X-WR-CALDESC:Events for VIEWLAGOS
REFRESH-INTERVAL;VALUE=DURATION:PT1H
X-Robots-Tag:noindex
X-PUBLISHED-TTL:PT1H
BEGIN:VTIMEZONE
TZID:Africa/Lagos
BEGIN:STANDARD
TZOFFSETFROM:+0100
TZOFFSETTO:+0100
TZNAME:WAT
DTSTART:20240101T000000
END:STANDARD
END:VTIMEZONE
BEGIN:VEVENT
DTSTART;TZID=Africa/Lagos:20251129T070000
DTEND;TZID=Africa/Lagos:20251129T120000
DTSTAMP:20260423T124251
CREATED:20250815T184620Z
LAST-MODIFIED:20250815T184620Z
UID:10000705-1764399600-1764417600@viewlagos.ng
SUMMARY:ZERO RUN CLUB
DESCRIPTION:ZERO RUN CLUB — Lace up\, Lagos!Join us this Saturday\, 16th August\, for a refreshing 5KM run. Whether you’re walking\, jogging\, or sprinting\, it’s all about moving together and having fun. \n📍 Meeting Point: VGC Club Roundabout🕖 Time: 7:00 AM📏 Distance: 5KM🎯 Pace: All levels welcome \nBring your energy\, your friends\, and let’s make the road ours!
URL:https://viewlagos.ng/event/zero-run-club/2025-11-29/
LOCATION:VGC\, Eti-Osa\, VGC\, Lagos\, 106104\, Nigeria
CATEGORIES:Sports
ATTACH;FMTTYPE=image/webp:https://viewlagos.ng/wp-content/uploads/2025/08/rk6vv2vgalcynv9kocn9.webp
END:VEVENT
BEGIN:VEVENT
DTSTART;TZID=Africa/Lagos:20251129T090000
DTEND;TZID=Africa/Lagos:20251129T140000
DTSTAMP:20260423T124251
CREATED:20251103T223910Z
LAST-MODIFIED:20251103T223910Z
UID:10001956-1764406800-1764424800@viewlagos.ng
SUMMARY:Data Protection Tech Summit
DESCRIPTION:Data Privacy: The New Currency of Trust \nJoin industry leaders\, tech professionals\, and innovators at the Data Protection Tech Summit 2025\, hosted by Dataverse Solutions\, as we explore the evolving landscape of data privacy and digital trust in the age of artificial intelligence. \nThis year’s summit dives deep into how organizations can safeguard user data\, build transparent systems\, and stay compliant in a data-driven world. Expect thought-provoking sessions\, practical insights\, and collaborative opportunities that empower you to lead in the digital privacy era. \n📅 Date: 29th November 2025🕘 Time: 9:00 AM – 2:00 PM (WAT)📍 Venue: Ikeja\, Lagos \nEvent Highlights: \n\n\n🔍 The Future of AI & Data Privacy \n\n\n💡 Panel Sessions with Industry Experts \n\n\n👩🏽‍💻 Privacy Hackathon \n\n\n🎓 Scholarship Awards \n\n\n🌐 Networking Opportunities \n\n\nDon’t miss this opportunity to connect\, learn\, and shape the future of data protection. \n  \n👉 Register now: bit.ly/dataprotection-summit📱 Follow: @the_dataverse_solutions
URL:https://viewlagos.ng/event/data-protection-tech-summit/
LOCATION:Stella Hall\, A3C Ikosi Rd\, Oregun\, Ikeja\, Lagos\, 101233\, Nigeria
CATEGORIES:Career,Summit,Technology
ATTACH;FMTTYPE=image/jpeg:https://viewlagos.ng/wp-content/uploads/2025/11/WhatsApp-Image-2025-11-03-at-23.17.34.jpeg
END:VEVENT
BEGIN:VEVENT
DTSTART;TZID=Africa/Lagos:20251129T090000
DTEND;TZID=Africa/Lagos:20251129T210000
DTSTAMP:20260423T124251
CREATED:20250718T173027Z
LAST-MODIFIED:20250718T173027Z
UID:10000588-1764406800-1764450000@viewlagos.ng
SUMMARY:PAN-AFRICA WEDDING EXPO'25
DESCRIPTION:Pan Africa Wedding Expo 2025: Uniting Love\, Family\, and Communities across the continent. We invite you to be part of the largest and most anticipated event for families – the Pan Africa Wedding Expo 2025! offers a unique opportunity to connect with families\, couples\, and individuals across all works of life. \n\nThe two-day event aims to bring families together\, especially in Nigeria. It is specially designed for Family centric brands\, intending/newly married couples\, people interested in family development\, and relationships. It provides unparalleled business opportunities \, foster collaboration and partnership between family oriented-brands in Nigeria\, sponsors\, exhibitors\, and investors. \n\nBy partnering with us\, you’ll increase your brand’s visibility and reach across the continent\, connect with target audience\, and unlock new business opportunities. Join the movement and be part of the Pan Africa Wedding Expo 2025!\nThe day two of the expo tagged Wedding Concert and Award Night will feature African legendary musicians\, seasoned comedians\, Djs and Stage performances\, cocktail party and so much more. \n\nDate: November 28th-29th\nContact us today to explore sponsorship opportunities!\nCall 07041642913
URL:https://viewlagos.ng/event/pan-africa-wedding-expo25/2025-11-29/
LOCATION:NECA House Events Centre\, NECA HOUSE BUILDING\, Hakeem Balogun St\, Alausa\, Ikeja\, Lagos State\, 101233\, Nigeria
CATEGORIES:Expo
ATTACH;FMTTYPE=image/webp:https://viewlagos.ng/wp-content/uploads/2025/07/rmi9lrjejtaekoghfunh.webp
END:VEVENT
BEGIN:VEVENT
DTSTART;TZID=Africa/Lagos:20251129T100000
DTEND;TZID=Africa/Lagos:20251129T220000
DTSTAMP:20260423T124251
CREATED:20251117T193427Z
LAST-MODIFIED:20251130T194141Z
UID:10003653-1764410400-1764453600@viewlagos.ng
SUMMARY:Isimi Lagos Polo Festival 2025
DESCRIPTION:Welcome to the Isimi Lagos Polo Festival 2025\, where tradition meets modern expression\, and blends seamlessly with nature. Set within the serene hills of Isimi Lagos\, this annual event brings together Nigeria’s finest in polo\, culture\, fashion\, and elevated living \, all in one unforgettable weekend.
URL:https://viewlagos.ng/event/isimi-lagos-polo-festival-2025/
LOCATION:Isimi Lagos\, Isimi Lagos\, Ikorodu-Epe Rd\, LGA\, Epe\, Epe\, Lagos\, 101245\, Nigeria
CATEGORIES:Festival
ATTACH;FMTTYPE=image/jpeg:https://viewlagos.ng/wp-content/uploads/2025/11/WhatsApp-Image-2025-07-03-at-2.47.15-PM.jpeg
END:VEVENT
BEGIN:VEVENT
DTSTART;TZID=Africa/Lagos:20251129T120000
DTEND;TZID=Africa/Lagos:20251129T160000
DTSTAMP:20260423T124251
CREATED:20251124T000352Z
LAST-MODIFIED:20251124T000352Z
UID:10003246-1764417600-1764432000@viewlagos.ng
SUMMARY:Heirs Insurance Travel Festival 2025
DESCRIPTION:Travel lovers\, adventure seekers\, culture explorers – this one is for YOU. \nHeirs Insurance Travel Festival 2025! is finally here!\nJoin us at Harbour Point for a day filled with exciting travel adventures\, insurance insights\, and fun activities. Whether you’re a seasoned traveller or just starting to explore the world\, this event is perfect for you. Get ready to connect with fellow travel enthusiasts\, learn from industry experts\, and discover amazing travel destinations. Don’t miss out on this incredible opportunity to expand your horizons and make unforgettable memories. See you there!\n\nWhat to expect:\n1️⃣ Immersive travel adventures\n2️⃣ Hidden travel gems\n3️⃣ Networking + games\n4️⃣ Games & challenges\n5️⃣ Hot prizes & Rewards\, and more. \nEntry is FREE\, but registration is compulsory. \nClick the link below to register\nhttps://app.figoevents.com/app/partners/heirsinsurance/travel-fest/register/1e3af1d7-77fd-427b-8183-5d286d1107d2
URL:https://viewlagos.ng/event/heirs-insurance-travel-festival-2025/
LOCATION:Harbour Point\, Harbour Point 4 Wilmot Point Rd\, Victoria Island\, Lagos\, Lagos\, 106104\, Nigeria
CATEGORIES:Festival
ATTACH;FMTTYPE=image/webp:https://viewlagos.ng/wp-content/uploads/2025/11/heirs.webp
END:VEVENT
BEGIN:VEVENT
DTSTART;TZID=Africa/Lagos:20251129T140000
DTEND;TZID=Africa/Lagos:20251129T230000
DTSTAMP:20260423T124251
CREATED:20251101T143310Z
LAST-MODIFIED:20251101T143310Z
UID:10001955-1764424800-1764457200@viewlagos.ng
SUMMARY:Aproko Nation Fiesta
DESCRIPTION:Get ready\, Lagos! 🎉The Aproko Nation Fiesta is back — bigger\, bolder\, and brighter with the Y2K Edition! Step into a world of nostalgia\, vibrant energy\, and nonstop fun as Aproko Doctor brings the ultimate experience blending music\, games\, laughter\, and positive vibes. \nJoin thousands of fun lovers for a clean\, healthy\, and electrifying celebration filled with good music\, throwback fashion\, and that unmistakable Lagos groove. \n📍 Venue: Lagos📅 Date: 29th November💸 Ticket: ₦7\,499🎵 Theme: Y2K Edition✨ Vibe: Clean • Healthy • Fun \nGrab your crew\, dress your best\, and let’s light up Lagos this November! 🔥🎟 Get your tickets now at https://links.mvendy.com/aprokodoctor
URL:https://viewlagos.ng/event/aproko-nation-fiesta/
LOCATION:EridanSpace\, Plot A Obafemi Awolowo Way\, Ikeja\, Lagos\, 101233\, Nigeria
CATEGORIES:Fiesta,Health,Party
ATTACH;FMTTYPE=image/jpeg:https://viewlagos.ng/wp-content/uploads/2025/11/aprokonation-fiesta-lagos-selar.com-690234a9b529c.jpeg
END:VEVENT
BEGIN:VEVENT
DTSTART;TZID=Africa/Lagos:20251129T160000
DTEND;TZID=Africa/Lagos:20251129T210000
DTSTAMP:20260423T124251
CREATED:20251121T072104Z
LAST-MODIFIED:20251121T072104Z
UID:10002856-1764432000-1764450000@viewlagos.ng
SUMMARY:SIP & PAINT Live in Ajah
DESCRIPTION:Bellies Lounge presents SIP & PAINT Live in Ajah—a vibrant night designed for fun seekers\, art lovers\, and anyone ready to unwind in style. It’s the perfect blend of creativity\, music\, and pure good vibes\, all happening under one exciting rooftop atmosphere. \nGet ready for an unforgettable evening filled with color\, laughter\, and non-stop entertainment. \nWhat to Expect\n\n\nCanvas & Tote Bag PaintingCreate your own masterpiece and take home personalized art. \n\n\nUnlimited CocktailsSip\, relax\, and let the creativity flow. \n\n\nKaraoke ChallengeShow off your vocals and win the crowd. \n\n\nMusic & GamesKeep the energy high with fun activities throughout the night. \n\n\nLive Music by DJ Alex RolexBringing the best tunes to keep the vibe alive. \n\n\nA night crafted for pure enjoyment — come ready to paint\, sip\, dance\, and connect. \nLet the colors and cocktails flow! 🎨🍹
URL:https://viewlagos.ng/event/sip-paint-live-in-ajah/
LOCATION:Bellies Club\, Roof Top\, 30 Addo Road\, Ajah\, Lagos\, 106104\, Nigeria
CATEGORIES:Exhibition,Things To Do In Lagos
ATTACH;FMTTYPE=image/jpeg:https://viewlagos.ng/wp-content/uploads/2025/11/sip-and-paint.jpg
END:VEVENT
BEGIN:VEVENT
DTSTART;TZID=Africa/Lagos:20251129T180000
DTEND;TZID=Africa/Lagos:20251129T220000
DTSTAMP:20260423T124251
CREATED:20251013T212253Z
LAST-MODIFIED:20251013T212253Z
UID:10001148-1764439200-1764453600@viewlagos.ng
SUMMARY:Ako By Terra Kulture’s Live Performance Nights
DESCRIPTION:Step into an unforgettable evening of music\, theatre\, and fine dining at Terra Kulture’s Live Performance Nights.Experience soulful performances in an intimate setting where great food meets artistic expression. Whether you’re winding down after a long week or planning a cozy night out\, this is where the rhythm\, art\, and atmosphere come alive. \nEvent Schedule:Friday: 6 PM – 10 PMSaturday: 6 PM – 10 PMSunday: 5 PM – 8 PM \nVenue: Plot 1376\, Tiamiyu Savage\, Off Ahmadu Bello Way\, Victoria Island\, LagosReservations: 08104224137 \nDine with music and theatre — stay for the vibe.
URL:https://viewlagos.ng/event/ako-by-terra-kultures-live-performance-nights/2025-11-29/
LOCATION:Terra Kulture Arena\, Plot 1376 Tiamiyu Savage Street\, Victoria Island\, Lagos State\, 106104\, Nigeria
CATEGORIES:Things To Do In Lagos
ATTACH;FMTTYPE=image/webp:https://viewlagos.ng/wp-content/uploads/2025/10/Live-performance.webp
END:VEVENT
BEGIN:VEVENT
DTSTART;TZID=Africa/Lagos:20251129T200000
DTEND;TZID=Africa/Lagos:20251130T040000
DTSTAMP:20260423T124251
CREATED:20251029T095344Z
LAST-MODIFIED:20251029T095344Z
UID:10001953-1764446400-1764475200@viewlagos.ng
SUMMARY:Movie & Game Hangout
DESCRIPTION:Come See Lagos presents: Movie & Game Night! ✨🎲🎬 \nWe’ve got a fun-packed evening lined up for you! 💃🕺\n🌟 First\, we kick off with movies & networking while we wait for more amazing people to arrive.\n🎮 Then we switch gears into exciting games to keep the energy high.\n🎧 And when the night matures\, the DJ takes over till dawn! 🔥 \n📍 Somewhere in Ogudu\, Lagos\n🗓️ Nov 29th | 8 PM – Till Dawn\n🎟️ Gate Fee: 10K\n🍻 Snacks & beer available \n👉 Come with a friend or bring your game collection!\n👉 18+ only \nFor Info & Payment:\n📞 0913 459 1455\n💰 9023697344 Opay (send POP screenshot) \n#MovieNight #GameNight #ComeSeeLagos #Networking #Games #DJParty #LagosEvents
URL:https://viewlagos.ng/event/movie-game-hangout/
LOCATION:MORA LOUNGE\, Nigeria
CATEGORIES:Dance,Games,Party,Things To Do In Lagos
ATTACH;FMTTYPE=image/png:https://viewlagos.ng/wp-content/uploads/2025/10/Come-See-Lagos-Nov-MovieGame-Night-.png
END:VEVENT
END:VCALENDAR