BEGIN:VCALENDAR
VERSION:2.0
PRODID:-//VIEWLAGOS - ECPv6.15.11//NONSGML v1.0//EN
CALSCALE:GREGORIAN
METHOD:PUBLISH
X-ORIGINAL-URL:https://viewlagos.ng
X-WR-CALDESC:Events for VIEWLAGOS
REFRESH-INTERVAL;VALUE=DURATION:PT1H
X-Robots-Tag:noindex
X-PUBLISHED-TTL:PT1H
BEGIN:VTIMEZONE
TZID:Africa/Lagos
BEGIN:STANDARD
TZOFFSETFROM:+0100
TZOFFSETTO:+0100
TZNAME:WAT
DTSTART:20240101T000000
END:STANDARD
END:VTIMEZONE
BEGIN:VEVENT
DTSTART;TZID=Africa/Lagos:20251213T090000
DTEND;TZID=Africa/Lagos:20251213T120000
DTSTAMP:20260424T195522
CREATED:20251128T153935Z
LAST-MODIFIED:20251128T153935Z
UID:10003628-1765616400-1765627200@viewlagos.ng
SUMMARY:Feast at His Feet Lagos | December 2025 Edition
DESCRIPTION:It’s Year end! Join us for an intimate time of worship\, feasting & fostering God-ordained connections at the feet of Jesus. \nGod is deeply invested in pouring into you and I\, intently watching over His word to perform it; and so we are leaving nothing behind in 2025!!!\n“…Moses said Therefore\, our livestock too shall go with us; not a hoof shall be left behind” Exodus 10:26 \nPls keep praying along with us as we prepare for destiny-defining encounters this December. God alone will be revealed and Glorified
URL:https://viewlagos.ng/event/feast-at-his-feet-lagos-december-2025-edition/
LOCATION:Cafe One VI\, 300 Adeola Odeku Street\, Victoria Island\, Lagos\, 101241\, Nigeria
CATEGORIES:Christian,Christmas in Lagos,Spirituality
ATTACH;FMTTYPE=image/jpeg:https://viewlagos.ng/wp-content/uploads/2025/11/feastaHF.jpg
END:VEVENT
BEGIN:VEVENT
DTSTART;TZID=Africa/Lagos:20251213T150000
DTEND;TZID=Africa/Lagos:20251213T233000
DTSTAMP:20260424T195522
CREATED:20251129T124930Z
LAST-MODIFIED:20251129T125523Z
UID:10003649-1765638000-1765668600@viewlagos.ng
SUMMARY:AFROVIBES FEST
DESCRIPTION:Born from the soulful intimacy of Afrovibes Live\, Afrovibes Fest has grown into one of Lagos’ most exciting large-scale concert experiences\, and this year it finds its home at Detty December Fest.  With past performances by stars like Chike and Mannywellz\, the festival delivers a signature fusion of soul\, rhythm\, and authentic African vibes..  \nFor Tables\, please contact this number on WhatsApp: +44 7902 535584
URL:https://viewlagos.ng/event/afrovibes-fest/
LOCATION:Livespot Entertarium\, 4 Oba Elegushi Beach Road\, Lekki\, Lagos\, 106104\, Nigeria
CATEGORIES:Concert,Detty December,Things To Do In Lagos
ATTACH;FMTTYPE=image/png:https://viewlagos.ng/wp-content/uploads/2025/11/Afrovibes-fest-x-detty-december-fest-e1764420626491.png
END:VEVENT
BEGIN:VEVENT
DTSTART;TZID=Africa/Lagos:20251213T180000
DTEND;TZID=Africa/Lagos:20251213T220000
DTSTAMP:20260424T195522
CREATED:20251013T212253Z
LAST-MODIFIED:20251013T212253Z
UID:10001154-1765648800-1765663200@viewlagos.ng
SUMMARY:Ako By Terra Kulture’s Live Performance Nights
DESCRIPTION:Step into an unforgettable evening of music\, theatre\, and fine dining at Terra Kulture’s Live Performance Nights.Experience soulful performances in an intimate setting where great food meets artistic expression. Whether you’re winding down after a long week or planning a cozy night out\, this is where the rhythm\, art\, and atmosphere come alive. \nEvent Schedule:Friday: 6 PM – 10 PMSaturday: 6 PM – 10 PMSunday: 5 PM – 8 PM \nVenue: Plot 1376\, Tiamiyu Savage\, Off Ahmadu Bello Way\, Victoria Island\, LagosReservations: 08104224137 \nDine with music and theatre — stay for the vibe.
URL:https://viewlagos.ng/event/ako-by-terra-kultures-live-performance-nights/2025-12-13/
LOCATION:Terra Kulture Arena\, Plot 1376 Tiamiyu Savage Street\, Victoria Island\, Lagos State\, 106104\, Nigeria
CATEGORIES:Things To Do In Lagos
ATTACH;FMTTYPE=image/webp:https://viewlagos.ng/wp-content/uploads/2025/10/Live-performance.webp
END:VEVENT
BEGIN:VEVENT
DTSTART;TZID=Africa/Lagos:20251213T210000
DTEND;TZID=Africa/Lagos:20251214T020000
DTSTAMP:20260424T195522
CREATED:20251209T171724Z
LAST-MODIFIED:20251209T171724Z
UID:10004414-1765659600-1765677600@viewlagos.ng
SUMMARY:DJames Live In Lagos 2025
DESCRIPTION:I can’t believe it’s been a whole year since my last show in Nigeria!\nThis year we’re doing it bigger and better!\nI hope you can join me for what promises to be a memorable night in Lagos! 🇳🇬
URL:https://viewlagos.ng/event/djames-live-in-lagos-2025/
LOCATION:Landmark Event Centre\, Plot 2 & 3\, Water Corporation Drive\, Victoria Island\, Lagos State\, 106104\, Nigeria
CATEGORIES:Detty December,Party,Things To Do In Lagos
ATTACH;FMTTYPE=image/webp:https://viewlagos.ng/wp-content/uploads/2025/12/djjames.webp
END:VEVENT
END:VCALENDAR