BEGIN:VCALENDAR
VERSION:2.0
PRODID:-//VIEWLAGOS - ECPv6.15.11//NONSGML v1.0//EN
CALSCALE:GREGORIAN
METHOD:PUBLISH
X-WR-CALNAME:VIEWLAGOS
X-ORIGINAL-URL:https://viewlagos.ng
X-WR-CALDESC:Events for VIEWLAGOS
REFRESH-INTERVAL;VALUE=DURATION:PT1H
X-Robots-Tag:noindex
X-PUBLISHED-TTL:PT1H
BEGIN:VTIMEZONE
TZID:Africa/Lagos
BEGIN:STANDARD
TZOFFSETFROM:+0100
TZOFFSETTO:+0100
TZNAME:WAT
DTSTART:20250101T000000
END:STANDARD
END:VTIMEZONE
BEGIN:VEVENT
DTSTART;TZID=Africa/Lagos:20260207T080000
DTEND;TZID=Africa/Lagos:20260321T170000
DTSTAMP:20260421T092137
CREATED:20260218T210101Z
LAST-MODIFIED:20260218T210101Z
UID:10005340-1770451200-1774112400@viewlagos.ng
SUMMARY:Of Presence and Absence
DESCRIPTION:kó is pleased to present Of Presence and Absence\, an exhibition featuring new work by British-Nigerian artists Motunrayo Akinola and Aisha Seriki. \nAkinola and Seriki’s distinct practices both emerge from performative methodologies that question the politics of access\, visibility\, and belonging. Working largely within monochromatic palettes\, both artists consider how history and ritual intersect\, drawing on their experiences between Nigeria and the United Kingdom to reimagine concepts of representation and spirituality. While this exhibition places the two artists in conversation for the first time\, both develop symbolic visual languages through immersive installations and share overlapping conceptual concerns.
URL:https://viewlagos.ng/event/of-presence-and-absence/
LOCATION:kó gallery\, Flat 2\, 36 Cameron Road\, Ikoyi\, Lagos 106104\, Lagos\, Lagos\, Lagos\, 106104\, Nigeria
CATEGORIES:Art,Education,Exhibition
ATTACH;FMTTYPE=image/jpeg:https://viewlagos.ng/wp-content/uploads/2026/02/SaveClip.App_632303230_18378238240081162_6877033766781398807_n.jpg
END:VEVENT
BEGIN:VEVENT
DTSTART;TZID=Africa/Lagos:20260302T200000
DTEND;TZID=Africa/Lagos:20270104T030000
DTSTAMP:20260421T092137
CREATED:20260304T093503Z
LAST-MODIFIED:20260320T195546Z
UID:10005407-1772481600-1799031600@viewlagos.ng
SUMMARY:Obi's House Lagos- Monday Nights
DESCRIPTION:Mondays in Lagos just got a permanent upgrade. \nObi’s House Lagos is the ultimate start-of-the-week escape — a high-energy night party hosted by DJ Obi\, taking over the iconic Shiro Lagos every single Monday night. \nKicking off on March 2nd and running weekly all the way through January 4th\, 2027\, Obi’s House isn’t a one-off — it’s a weekly ritual. A space where music lovers\, tastemakers\, creatives\, and nightlife enthusiasts gather to reset the vibe and set the tone for the week ahead. \nExpect electrifying DJ sets\, infectious energy\, curated sounds that move from smooth grooves to high-tempo anthems\, and a dancefloor that refuses to slow down. This isn’t your typical “ease into the week” kind of night — it’s bold\, stylish\, and unapologetically Lagos. \nFrom after-work linkups to full-blown late-night turn-ups\, Obi’s House blends premium ambiance\, good drinks\, great company\, and the signature musical mastery that DJ Obi is known for. \nIf your Mondays have been boring\, consider that officially over. \n📅 Every Monday🗓 March 2\, 2026 – January 4\, 2027📍 Shiro Lagos \nThe week starts here. Don’t just hear about it — be in the House. 🔥
URL:https://viewlagos.ng/event/obis-house-lagos-monday-nights/
LOCATION:Shiro Lagos\, Block XVI 3 & 4\, Oniru Estate\, Victoria Island\, Lagos 101241\, Lagos\, Lagos\, Lagos\, 101241\, Nigeria
CATEGORIES:Dance,Party
ATTACH;FMTTYPE=image/jpeg:https://viewlagos.ng/wp-content/uploads/2026/03/SaveClip.App_642451740_18043489583738847_1090962558812456707_n.jpg
END:VEVENT
BEGIN:VEVENT
DTSTART;TZID=Africa/Lagos:20260319T100000
DTEND;TZID=Africa/Lagos:20260322T170000
DTSTAMP:20260421T092137
CREATED:20260314T112822Z
LAST-MODIFIED:20260316T155937Z
UID:10005433-1773914400-1774198800@viewlagos.ng
SUMMARY:ÌTÚNU ÀWẸ̀ – A Sallah Fiesta
DESCRIPTION:Ramadan is almost coming to a close 🌙\nAfter the prayers\, patience\, discipline and reflection… àkókò ìtúnu ti dé. \nJoin us for ÌTÚNU ÀWẸ̀ – A Sallah Fiesta \n📍 J. Randle Centre\, Onikan\, Lagos Island\n📅 March 19 – 22 \nA gentle celebration of joy after devotion with the Muslim community. \nWhat to expect: \n🎡 Children’s Fun Fair\n🎶 Music Concert (Saoty Arẹwa)\n🤲 ÀZÍKÌRÌ (Divine Remembrance)\n👨‍👩‍👧‍👦 Family Time Out
URL:https://viewlagos.ng/event/itunu-awe-a-sallah-fiesta/
LOCATION:J Randle Centre\, J.K. Randle Rd\, Onikan Round About\, Onikan\, Lagos\, 102273\, Nigeria
CATEGORIES:Fiesta,Spirituality,Things To Do In Lagos
ATTACH;FMTTYPE=image/jpeg:https://viewlagos.ng/wp-content/uploads/2026/03/dPUFwb1AxX.jpeg
END:VEVENT
BEGIN:VEVENT
DTSTART;VALUE=DATE:20260320
DTEND;VALUE=DATE:20260321
DTSTAMP:20260421T092137
CREATED:20260324T233025Z
LAST-MODIFIED:20260324T233025Z
UID:10005478-1773964800-1774051199@viewlagos.ng
SUMMARY:EASTER AT KYMA
DESCRIPTION:Celebrate Easter in style at KYMA Beach Lagos and enjoy a perfect day of relaxation\, good vibes\, and unforgettable moments by the water. Your best Easter starts here with great music\, delicious food\, refreshing drinks\, and the beautiful beachside atmosphere KYMA is known for. \nGather your friends and family for a festive experience filled with fun\, laughter\, and premium hospitality in one of Lagos’ favorite beach destinations. Whether you’re looking to unwind\, party\, or simply enjoy the holiday outdoors\, KYMA Beach is the place to be this Easter. \nMake it a celebration to remember — Easter is better together at KYMA Beach Lagos. 🐣🥂✨
URL:https://viewlagos.ng/event/easter-at-kyma/2026-03-20/
LOCATION:KYMA Beach\, Elegushi Beach\, Ikate\, Lagos\, 234100\, Nigeria
CATEGORIES:Easter,Things To Do In Lagos
ATTACH;FMTTYPE=image/jpeg:https://viewlagos.ng/wp-content/uploads/2026/03/kyma.jpg
END:VEVENT
BEGIN:VEVENT
DTSTART;TZID=Africa/Lagos:20260320T180000
DTEND;TZID=Africa/Lagos:20260320T220000
DTSTAMP:20260421T092137
CREATED:20251013T212253Z
LAST-MODIFIED:20251013T212253Z
UID:10001195-1774029600-1774044000@viewlagos.ng
SUMMARY:Ako By Terra Kulture’s Live Performance Nights
DESCRIPTION:Step into an unforgettable evening of music\, theatre\, and fine dining at Terra Kulture’s Live Performance Nights.Experience soulful performances in an intimate setting where great food meets artistic expression. Whether you’re winding down after a long week or planning a cozy night out\, this is where the rhythm\, art\, and atmosphere come alive. \nEvent Schedule:Friday: 6 PM – 10 PMSaturday: 6 PM – 10 PMSunday: 5 PM – 8 PM \nVenue: Plot 1376\, Tiamiyu Savage\, Off Ahmadu Bello Way\, Victoria Island\, LagosReservations: 08104224137 \nDine with music and theatre — stay for the vibe.
URL:https://viewlagos.ng/event/ako-by-terra-kultures-live-performance-nights/2026-03-20/
LOCATION:Terra Kulture Arena\, Plot 1376 Tiamiyu Savage Street\, Victoria Island\, Lagos State\, 106104\, Nigeria
CATEGORIES:Things To Do In Lagos
ATTACH;FMTTYPE=image/webp:https://viewlagos.ng/wp-content/uploads/2025/10/Live-performance.webp
END:VEVENT
BEGIN:VEVENT
DTSTART;TZID=Africa/Lagos:20260320T190000
DTEND;TZID=Africa/Lagos:20260320T230000
DTSTAMP:20260421T092137
CREATED:20260302T165940Z
LAST-MODIFIED:20260302T165940Z
UID:10005404-1774033200-1774047600@viewlagos.ng
SUMMARY:Francophonie Festival & VIP Gala Night
DESCRIPTION:Welcome to Francophonie Festival & VIP Gala Night — a standout moment you won’t want to miss. This isn’t just another business event—it’s a curated environment for professionals to meet\, ideate\, and move industries forward. Expect a mix of strategic insight\, networking opportunities\, and actionable takeaways. Whether you’re scaling up\, starting out\, or just exploring\, this event welcomes thinkers and doers alike. Mark your calendar—Thursday\, March 19\, 2026 is when it happens. Be sure to arrive by 7:00 PM. The event is happening at The Lagos Continental Hotel\, located at Victoria Island\, Lagos. This business is built with intention\, energy\, and something truly special. Come ready for an experience that will stay with you long after it’s over.
URL:https://viewlagos.ng/event/francophonie-festival-vip-gala-night/
LOCATION:Lagos Continental Hotel\, 52a Kofo Abayomi Street\, Victoria Island\, Lagos State\, 101241\, Nigeria
CATEGORIES:Business,Festival,Networking
ATTACH;FMTTYPE=image/jpeg:https://viewlagos.ng/wp-content/uploads/2026/03/1770906647_WhatsApp_Image_2026_02_12_at_06_23_29.jpeg
END:VEVENT
END:VCALENDAR