BEGIN:VCALENDAR
VERSION:2.0
PRODID:-//VIEWLAGOS - ECPv6.15.11//NONSGML v1.0//EN
CALSCALE:GREGORIAN
METHOD:PUBLISH
X-WR-CALNAME:VIEWLAGOS
X-ORIGINAL-URL:https://viewlagos.ng
X-WR-CALDESC:Events for VIEWLAGOS
REFRESH-INTERVAL;VALUE=DURATION:PT1H
X-Robots-Tag:noindex
X-PUBLISHED-TTL:PT1H
BEGIN:VTIMEZONE
TZID:Africa/Lagos
BEGIN:STANDARD
TZOFFSETFROM:+0100
TZOFFSETTO:+0100
TZNAME:WAT
DTSTART:20250101T000000
END:STANDARD
END:VTIMEZONE
BEGIN:VEVENT
DTSTART;TZID=Africa/Lagos:20260307T160000
DTEND;TZID=Africa/Lagos:20260307T173000
DTSTAMP:20260420T001822
CREATED:20260306T175630Z
LAST-MODIFIED:20260306T175630Z
UID:10005420-1772899200-1772904600@viewlagos.ng
SUMMARY:Women In The Creative Space | Lagos Gallery Weekend
DESCRIPTION:As part of Women’s Art Week\, Women in the Creative Space brings together voices shaping the future of the arts for an engaging panel discussion on leadership\, accessibility\, and the evolving role of women within the creative industry. \nTaking place on March 7th from 4:00PM – 5:30PM at the Alliance Française de Lagos / Mike Adenuga Centre\, this thought-provoking session will explore the journeys\, challenges\, and achievements of women working across the art sector in Nigeria and beyond. \nThrough open conversation and shared experiences\, panelists will reflect on their personal and professional paths in the creative space — discussing how women continue to navigate\, influence\, and redefine the structures of the contemporary art world. The discussion will also highlight the importance of accessibility\, representation\, and leadership in ensuring that more women can thrive within the global art ecosystem. \nCurated by Alliance Française de Lagos in collaboration with Wo’ama Africa\, this event offers a platform for meaningful dialogue\, insight\, and inspiration for creatives\, art enthusiasts\, and anyone interested in the future of the cultural landscape. \nExpect an engaging and reflective conversation that celebrates the contributions of women while examining the possibilities ahead for the creative industry. \n📍 LGW Hub\, Alliance Française de Lagos / Mike Adenuga Centre🗓 March 7th\, 2026⏰ 4:00PM – 5:30PM
URL:https://viewlagos.ng/event/women-in-the-creative-space-lagos-gallery-weekend/
LOCATION:Mike Adenuga Centre\, 9 Osborne Road\, Ikoyi\, Lagos\, 106104\, Nigeria
CATEGORIES:Art,Awareness,Career
ATTACH;FMTTYPE=image/webp:https://viewlagos.ng/wp-content/uploads/2026/03/ppthzl5wk0m9vqkj5rji.webp
END:VEVENT
BEGIN:VEVENT
DTSTART;TZID=Africa/Lagos:20260312T120000
DTEND;TZID=Africa/Lagos:20260312T130000
DTSTAMP:20260420T001822
CREATED:20260228T180435Z
LAST-MODIFIED:20260228T180435Z
UID:10005382-1773316800-1773320400@viewlagos.ng
SUMMARY:Legal Structures for Businesses: What Works & Why
DESCRIPTION:​Choosing the right legal structure is one of the most important decisions you’ll make as a business owner — yet it’s one many entrepreneurs overlook or get wrong. From sole proprietorships to limited liability companies\, the structure you choose affects everything: your taxes\, personal liability\, ability to raise funding\, and long-term growth potential. \n​Join us for this edition of the Zitra Business Webinar as corporate law expert Adaobi Metuh breaks down the different legal structures available to Nigerian businesses\, who each one is best suited for\, and the real-world implications of getting it right (or wrong). \n​What you’ll learn: \n\n\n​The key legal structures available for businesses in Nigeria and how they differ \n\n\n​How to determine which structure fits your business stage\, size\, and goals \n\n\n​Common mistakes entrepreneurs make when registering their businesses \n\n\n​Tax\, liability\, and compliance considerations for each structure \n\n\n​When and how to transition from one structure to another as your business grows \n\n\n​Who should attend: \n​This webinar is ideal for aspiring entrepreneurs\, early-stage founders\, small business owners looking to formalize or restructure\, and anyone curious about the legal foundations of running a business in Nigeria.
URL:https://viewlagos.ng/event/legal-structures-for-businesses-what-works-why/
LOCATION:Online
CATEGORIES:Business,Career
ATTACH;FMTTYPE=image/jpeg:https://viewlagos.ng/wp-content/uploads/2026/02/7d4e151a-4fb0-4071-90e2-4a1fb8bab077.jpg
END:VEVENT
BEGIN:VEVENT
DTSTART;TZID=Africa/Lagos:20260313T120000
DTEND;TZID=Africa/Lagos:20260313T160000
DTSTAMP:20260420T001822
CREATED:20260219T100410Z
LAST-MODIFIED:20260314T101734Z
UID:10005346-1773403200-1773417600@viewlagos.ng
SUMMARY:Be Empowered 2026
DESCRIPTION:Be Empowered was founded with a clear and powerful mission: to help women not only start businesses\, but sustain and scale them successfully — with the right support system\, practical structure\, access to resources\, and the confidence to lead boldly. \nWe understand that talent and ambition are everywhere\, but opportunity and guidance are not always equally accessible. That’s why Be Empowered was created to bridge that gap — providing women entrepreneurs with more than just inspiration. We provide strategy\, mentorship\, funding access\, and a strong community that encourages long-term growth and accountability. \nSince its launch\, Be Empowered has successfully delivered three impactful editions\, reaching and supporting hundreds of women across diverse industries. Through financial grants\, enterprise development support\, hands-on training\, and capacity-building programs\, participants have gained practical business knowledge\, refined their operations\, strengthened their leadership skills\, and positioned their ventures for sustainable growth. \nFrom idea-stage founders to growing business owners looking to expand\, Be Empowered has equipped women with the tools they need to grow confidently\, lead effectively\, and thrive competitively in today’s business landscape. The results have been inspiring — stronger businesses\, increased revenue streams\, expanded networks\, and women stepping fully into their entrepreneurial potential. \nI am excited to announce that the 4th edition of Be Empowered will take place this March in Lagos. This new cohort will bring together ambitious\, forward-thinking women entrepreneurs who are ready to elevate their businesses to the next level. \nRegister Here https://bit.ly/BeEmpowered4thEdition \nIf you’re ready for growth\, clarity\, and real impact\, this is your moment. The journey continues — and this next edition promises to be even more transformative.
URL:https://viewlagos.ng/event/be-empowered-2026/
LOCATION:Lagos\, Lagos\, Lagos\, 100101\, Nigeria
CATEGORIES:Business,Career,Conference
ATTACH;FMTTYPE=image/jpeg:https://viewlagos.ng/wp-content/uploads/2026/02/SaveClip.App_632276009_18562671343032815_3797607904201348264_n.jpg
END:VEVENT
BEGIN:VEVENT
DTSTART;TZID=Africa/Lagos:20260314T080000
DTEND;TZID=Africa/Lagos:20260314T140000
DTSTAMP:20260420T001822
CREATED:20260225T112536Z
LAST-MODIFIED:20260225T112536Z
UID:10005372-1773475200-1773496800@viewlagos.ng
SUMMARY:She Builds The Future (BAI 2026’s International Women’s Day)
DESCRIPTION:10 Women. 1 Mission. Infinite Impact. \nThe wait is over! Meet the speakers joining us for the International Women’s Day Conference 2026. \nThis isn’t just a conference; it’s a masterclass in building a legacy. Whether you’re an entrepreneur\, a professional\, or a visionary\, come and learn from those who have paved the way. \n📍 Where: First Registrars Building\, Lagos\n🗓️ When: March 14th\, 2026\n🕗 Time: 8 AM prompt\nDon’t miss out\, scan the QR code to secure your seat today
URL:https://viewlagos.ng/event/she-builds-the-future-bai-2026s-international-womens-day/
LOCATION:First Registrars Building\, 2 Abebe Village Rd\, Iganmu\, Lagos 12242\, Lagos\, Lagos\, Lagos\, 12242\, Nigeria
CATEGORIES:Business,Career,Conference
ATTACH;FMTTYPE=image/jpeg:https://viewlagos.ng/wp-content/uploads/2026/02/SaveClip.App_640382169_17920551135259513_5341393657802101577_n.jpg
END:VEVENT
BEGIN:VEVENT
DTSTART;TZID=Africa/Lagos:20260314T090000
DTEND;TZID=Africa/Lagos:20260314T140000
DTSTAMP:20260420T001822
CREATED:20260222T173737Z
LAST-MODIFIED:20260222T173737Z
UID:10005355-1773478800-1773496800@viewlagos.ng
SUMMARY:Women Kreatives Connect Summit 2.0
DESCRIPTION:Calling All Female Creatives! 🥳\nThis is not just another summit—it’s your launchpad! \nThe Women Kreatives Connect Summit 2.0 is here to help you build\, grow\, and OWN your space in Nigeria’s creative industry! \nWhat’s in it for you?\n✅ Free content creation kits for female creators\n✅ Free CAC business name registration for creatives\n✅ Business lunch with top industry leaders\n✅ A chance to feature in a short film or stage play\n✅ Free creative merch & giveaways \n📅 Saturday\, March 14th\, 2026\n📍 Daystar Regal Hall\, Oregun\, Ikeja\n⏰ 10:00 AM (Registration starts at 9:00 AM)
URL:https://viewlagos.ng/event/women-kreatives-connect-summit-2-0/
LOCATION:Daystar Christian Centre\, Plot A3C Ikosi Road\, Oregun\, Lagos State\, 101233\, Nigeria
CATEGORIES:Business,Career,Networking
ATTACH;FMTTYPE=image/webp:https://viewlagos.ng/wp-content/uploads/2026/02/at4aurccevhxqmh22zma.webp
END:VEVENT
BEGIN:VEVENT
DTSTART;TZID=Africa/Lagos:20260327T170000
DTEND;TZID=Africa/Lagos:20260327T220000
DTSTAMP:20260420T001822
CREATED:20260302T155504Z
LAST-MODIFIED:20260302T155504Z
UID:10005398-1774630800-1774648800@viewlagos.ng
SUMMARY:Women in Leadership Summit 2026
DESCRIPTION:Leadership isn’t just about influence anymore.\nIt’s about impact\, inclusion\, and economic power. \nAt the Women in Leadership Summit 2026\, we’re convening women who are not just breaking ceilings but reshaping systems\, markets\, and outcomes. \nThis year’s theme\, “Give to Gain\,” explores how purpose-driven leadership creates value that compounds – for businesses\, communities\, and economies. \nExpect bold conversations on:\n• Power and decision-making\n• Inclusive leadership as an economic advantage\n• Turning purpose into measurable impact \nDate: March 27\, 2026\nTime: 5PM\nVenue: Centre Point Hall\, Ikoyi \nThis is where insight meets influence. A room where leadership moves from intention to return.
URL:https://viewlagos.ng/event/women-in-leadership-summit-2026/
LOCATION:Centre Point Hall\, 1 Olawale Dawodu Rd\, Ikoyi\, Lagos 101233\, Lagos\, Lagos\, Lagos\, 101233\, Nigeria
CATEGORIES:Business,Career,Summit
ATTACH;FMTTYPE=image/jpeg:https://viewlagos.ng/wp-content/uploads/2026/03/WhatsApp-Image-2026-02-03-at-4.45.28-PM.jpeg
END:VEVENT
BEGIN:VEVENT
DTSTART;TZID=Africa/Lagos:20260328T160000
DTEND;TZID=Africa/Lagos:20260328T200000
DTSTAMP:20260420T001822
CREATED:20260321T165020Z
LAST-MODIFIED:20260321T165234Z
UID:10005455-1774713600-1774728000@viewlagos.ng
SUMMARY:The 9-5 Unfiltered Hangout
DESCRIPTION:Adulting in Nigeria is hard.\nWorking in Nigeria? Even harder. \nBecause we value employee wellbeing\, we are collaborating with bewhole.ng to create a safe space for 9-5’ers to talk\, laugh\, rant\, and breathe a little. \nWelcome to “The 9-5 Unfiltered Hangout”.\nExpect games\, networking\, community\, music and good vibes. \nCome have fun\, share your workplace struggles\, meet other professionals\, and remind yourself that you’re not the only one figuring this thing out. \n📍 Bottles & Glasses\, Lekki Phase 1\n📅 March 28th\n🕠 4PM
URL:https://viewlagos.ng/event/the-9-5-unfiltered-hangou/
LOCATION:Bottles and Glasses\, Plot 8 Kusenla Rd\, Ikate\, Lekki 106104\, Lagos\, Lagos\, Lagos\, 106104\, Nigeria
CATEGORIES:Career,Party,Social
ATTACH;FMTTYPE=image/jpeg:https://viewlagos.ng/wp-content/uploads/2026/03/654219513_1313204620659407_101700790882627305_n.jpg
END:VEVENT
BEGIN:VEVENT
DTSTART;TZID=Africa/Lagos:20260329T120000
DTEND;TZID=Africa/Lagos:20260329T170000
DTSTAMP:20260420T001822
CREATED:20260225T133136Z
LAST-MODIFIED:20260225T133136Z
UID:10005376-1774785600-1774803600@viewlagos.ng
SUMMARY:The IK Talks
DESCRIPTION:The IK Talks is a seminar-style series thoughtfully created as a growth platform for aspiring presenters\, public speakers\, OAPs\, MCs\, and media personalities who are ready to refine their craft and elevate their careers. Designed to bridge the gap between passion and professionalism\, this series gives young talents direct access to years of real-world industry experience and practical knowledge. \nEach quarterly session is intentionally structured to go beyond surface-level motivation. The IK Talks dives deep into the realities of the media and events industry — covering essential topics such as presentation mastery\, stage confidence\, audience engagement\, voice control\, branding\, professionalism\, and the unspoken etiquettes that define true industry excellence. \nParticipants will gain insight into the values and principles that sustain long-term success\, from business ethics and personal discipline to building credibility and navigating opportunities strategically. The goal is not just to inspire\, but to equip attendees with tangible tools they can immediately apply in their careers. \nWhether you’re just starting out\, looking to sharpen your skills\, or preparing to step confidently into bigger rooms\, The IK Talks provides an environment for learning\, interaction\, mentorship\, and growth. It’s a space where emerging voices are nurtured and future industry leaders are shaped. \n📍 At The Anthonia📅 March 29th
URL:https://viewlagos.ng/event/the-ik-talks/
LOCATION:The Anthonia by Civic Centre\, 11b Oyinkan Abayomi Dr\, Ikoyi\, Lagos 106104\, Lagos\, Lagos\, Lagos\, 106104\, Nigeria
CATEGORIES:Career,Conference,Education
ATTACH;FMTTYPE=image/jpeg:https://viewlagos.ng/wp-content/uploads/2026/02/SaveClip.App_641049044_18562457947050728_347341147430295578_n.jpg
END:VEVENT
END:VCALENDAR