BEGIN:VCALENDAR
VERSION:2.0
PRODID:-//VIEWLAGOS - ECPv6.15.11//NONSGML v1.0//EN
CALSCALE:GREGORIAN
METHOD:PUBLISH
X-WR-CALNAME:VIEWLAGOS
X-ORIGINAL-URL:https://viewlagos.ng
X-WR-CALDESC:Events for VIEWLAGOS
REFRESH-INTERVAL;VALUE=DURATION:PT1H
X-Robots-Tag:noindex
X-PUBLISHED-TTL:PT1H
BEGIN:VTIMEZONE
TZID:Africa/Lagos
BEGIN:STANDARD
TZOFFSETFROM:+0100
TZOFFSETTO:+0100
TZNAME:WAT
DTSTART:20250101T000000
END:STANDARD
END:VTIMEZONE
BEGIN:VEVENT
DTSTART;TZID=Africa/Lagos:20260220T170000
DTEND;TZID=Africa/Lagos:20260220T210000
DTSTAMP:20260420T051247
CREATED:20260205T175544Z
LAST-MODIFIED:20260205T175544Z
UID:10005327-1771606800-1771621200@viewlagos.ng
SUMMARY:Cocktails & Collaborations (Pink Edition)
DESCRIPTION:An evening where conversations spark change and connections create impact.\nJoin HR Fusion: Cocktails & Collaborations (Pink Edition)\, a curated gathering focused on inclusive hiring\, workplace performance\, and the power of women in leadership.\n\nFriday\, 20th February 2026 | 5:00 PM | Victoria Island\, Lagos\n\nApply now 👉 jobberman.com/hrfusion
URL:https://viewlagos.ng/event/cocktails-collaborations-pink-edition/
LOCATION:Lagos
CATEGORIES:Career
ATTACH;FMTTYPE=image/jpeg:https://viewlagos.ng/wp-content/uploads/2026/02/623291520_1519216999158579_8511873670120297321_n-1.jpg
END:VEVENT
BEGIN:VEVENT
DTSTART;TZID=Africa/Lagos:20260307T160000
DTEND;TZID=Africa/Lagos:20260307T173000
DTSTAMP:20260420T051247
CREATED:20260306T175630Z
LAST-MODIFIED:20260306T175630Z
UID:10005420-1772899200-1772904600@viewlagos.ng
SUMMARY:Women In The Creative Space | Lagos Gallery Weekend
DESCRIPTION:As part of Women’s Art Week\, Women in the Creative Space brings together voices shaping the future of the arts for an engaging panel discussion on leadership\, accessibility\, and the evolving role of women within the creative industry. \nTaking place on March 7th from 4:00PM – 5:30PM at the Alliance Française de Lagos / Mike Adenuga Centre\, this thought-provoking session will explore the journeys\, challenges\, and achievements of women working across the art sector in Nigeria and beyond. \nThrough open conversation and shared experiences\, panelists will reflect on their personal and professional paths in the creative space — discussing how women continue to navigate\, influence\, and redefine the structures of the contemporary art world. The discussion will also highlight the importance of accessibility\, representation\, and leadership in ensuring that more women can thrive within the global art ecosystem. \nCurated by Alliance Française de Lagos in collaboration with Wo’ama Africa\, this event offers a platform for meaningful dialogue\, insight\, and inspiration for creatives\, art enthusiasts\, and anyone interested in the future of the cultural landscape. \nExpect an engaging and reflective conversation that celebrates the contributions of women while examining the possibilities ahead for the creative industry. \n📍 LGW Hub\, Alliance Française de Lagos / Mike Adenuga Centre🗓 March 7th\, 2026⏰ 4:00PM – 5:30PM
URL:https://viewlagos.ng/event/women-in-the-creative-space-lagos-gallery-weekend/
LOCATION:Mike Adenuga Centre\, 9 Osborne Road\, Ikoyi\, Lagos\, 106104\, Nigeria
CATEGORIES:Art,Awareness,Career
ATTACH;FMTTYPE=image/webp:https://viewlagos.ng/wp-content/uploads/2026/03/ppthzl5wk0m9vqkj5rji.webp
END:VEVENT
BEGIN:VEVENT
DTSTART;TZID=Africa/Lagos:20260312T120000
DTEND;TZID=Africa/Lagos:20260312T130000
DTSTAMP:20260420T051247
CREATED:20260228T180435Z
LAST-MODIFIED:20260228T180435Z
UID:10005382-1773316800-1773320400@viewlagos.ng
SUMMARY:Legal Structures for Businesses: What Works & Why
DESCRIPTION:​Choosing the right legal structure is one of the most important decisions you’ll make as a business owner — yet it’s one many entrepreneurs overlook or get wrong. From sole proprietorships to limited liability companies\, the structure you choose affects everything: your taxes\, personal liability\, ability to raise funding\, and long-term growth potential. \n​Join us for this edition of the Zitra Business Webinar as corporate law expert Adaobi Metuh breaks down the different legal structures available to Nigerian businesses\, who each one is best suited for\, and the real-world implications of getting it right (or wrong). \n​What you’ll learn: \n\n\n​The key legal structures available for businesses in Nigeria and how they differ \n\n\n​How to determine which structure fits your business stage\, size\, and goals \n\n\n​Common mistakes entrepreneurs make when registering their businesses \n\n\n​Tax\, liability\, and compliance considerations for each structure \n\n\n​When and how to transition from one structure to another as your business grows \n\n\n​Who should attend: \n​This webinar is ideal for aspiring entrepreneurs\, early-stage founders\, small business owners looking to formalize or restructure\, and anyone curious about the legal foundations of running a business in Nigeria.
URL:https://viewlagos.ng/event/legal-structures-for-businesses-what-works-why/
LOCATION:Online
CATEGORIES:Business,Career
ATTACH;FMTTYPE=image/jpeg:https://viewlagos.ng/wp-content/uploads/2026/02/7d4e151a-4fb0-4071-90e2-4a1fb8bab077.jpg
END:VEVENT
BEGIN:VEVENT
DTSTART;TZID=Africa/Lagos:20260313T120000
DTEND;TZID=Africa/Lagos:20260313T160000
DTSTAMP:20260420T051247
CREATED:20260219T100410Z
LAST-MODIFIED:20260314T101734Z
UID:10005346-1773403200-1773417600@viewlagos.ng
SUMMARY:Be Empowered 2026
DESCRIPTION:Be Empowered was founded with a clear and powerful mission: to help women not only start businesses\, but sustain and scale them successfully — with the right support system\, practical structure\, access to resources\, and the confidence to lead boldly. \nWe understand that talent and ambition are everywhere\, but opportunity and guidance are not always equally accessible. That’s why Be Empowered was created to bridge that gap — providing women entrepreneurs with more than just inspiration. We provide strategy\, mentorship\, funding access\, and a strong community that encourages long-term growth and accountability. \nSince its launch\, Be Empowered has successfully delivered three impactful editions\, reaching and supporting hundreds of women across diverse industries. Through financial grants\, enterprise development support\, hands-on training\, and capacity-building programs\, participants have gained practical business knowledge\, refined their operations\, strengthened their leadership skills\, and positioned their ventures for sustainable growth. \nFrom idea-stage founders to growing business owners looking to expand\, Be Empowered has equipped women with the tools they need to grow confidently\, lead effectively\, and thrive competitively in today’s business landscape. The results have been inspiring — stronger businesses\, increased revenue streams\, expanded networks\, and women stepping fully into their entrepreneurial potential. \nI am excited to announce that the 4th edition of Be Empowered will take place this March in Lagos. This new cohort will bring together ambitious\, forward-thinking women entrepreneurs who are ready to elevate their businesses to the next level. \nRegister Here https://bit.ly/BeEmpowered4thEdition \nIf you’re ready for growth\, clarity\, and real impact\, this is your moment. The journey continues — and this next edition promises to be even more transformative.
URL:https://viewlagos.ng/event/be-empowered-2026/
LOCATION:Lagos\, Lagos\, Lagos\, 100101\, Nigeria
CATEGORIES:Business,Career,Conference
ATTACH;FMTTYPE=image/jpeg:https://viewlagos.ng/wp-content/uploads/2026/02/SaveClip.App_632276009_18562671343032815_3797607904201348264_n.jpg
END:VEVENT
BEGIN:VEVENT
DTSTART;TZID=Africa/Lagos:20260314T080000
DTEND;TZID=Africa/Lagos:20260314T140000
DTSTAMP:20260420T051247
CREATED:20260225T112536Z
LAST-MODIFIED:20260225T112536Z
UID:10005372-1773475200-1773496800@viewlagos.ng
SUMMARY:She Builds The Future (BAI 2026’s International Women’s Day)
DESCRIPTION:10 Women. 1 Mission. Infinite Impact. \nThe wait is over! Meet the speakers joining us for the International Women’s Day Conference 2026. \nThis isn’t just a conference; it’s a masterclass in building a legacy. Whether you’re an entrepreneur\, a professional\, or a visionary\, come and learn from those who have paved the way. \n📍 Where: First Registrars Building\, Lagos\n🗓️ When: March 14th\, 2026\n🕗 Time: 8 AM prompt\nDon’t miss out\, scan the QR code to secure your seat today
URL:https://viewlagos.ng/event/she-builds-the-future-bai-2026s-international-womens-day/
LOCATION:First Registrars Building\, 2 Abebe Village Rd\, Iganmu\, Lagos 12242\, Lagos\, Lagos\, Lagos\, 12242\, Nigeria
CATEGORIES:Business,Career,Conference
ATTACH;FMTTYPE=image/jpeg:https://viewlagos.ng/wp-content/uploads/2026/02/SaveClip.App_640382169_17920551135259513_5341393657802101577_n.jpg
END:VEVENT
BEGIN:VEVENT
DTSTART;TZID=Africa/Lagos:20260314T090000
DTEND;TZID=Africa/Lagos:20260314T140000
DTSTAMP:20260420T051247
CREATED:20260222T173737Z
LAST-MODIFIED:20260222T173737Z
UID:10005355-1773478800-1773496800@viewlagos.ng
SUMMARY:Women Kreatives Connect Summit 2.0
DESCRIPTION:Calling All Female Creatives! 🥳\nThis is not just another summit—it’s your launchpad! \nThe Women Kreatives Connect Summit 2.0 is here to help you build\, grow\, and OWN your space in Nigeria’s creative industry! \nWhat’s in it for you?\n✅ Free content creation kits for female creators\n✅ Free CAC business name registration for creatives\n✅ Business lunch with top industry leaders\n✅ A chance to feature in a short film or stage play\n✅ Free creative merch & giveaways \n📅 Saturday\, March 14th\, 2026\n📍 Daystar Regal Hall\, Oregun\, Ikeja\n⏰ 10:00 AM (Registration starts at 9:00 AM)
URL:https://viewlagos.ng/event/women-kreatives-connect-summit-2-0/
LOCATION:Daystar Christian Centre\, Plot A3C Ikosi Road\, Oregun\, Lagos State\, 101233\, Nigeria
CATEGORIES:Business,Career,Networking
ATTACH;FMTTYPE=image/webp:https://viewlagos.ng/wp-content/uploads/2026/02/at4aurccevhxqmh22zma.webp
END:VEVENT
BEGIN:VEVENT
DTSTART;TZID=Africa/Lagos:20260327T170000
DTEND;TZID=Africa/Lagos:20260327T220000
DTSTAMP:20260420T051247
CREATED:20260302T155504Z
LAST-MODIFIED:20260302T155504Z
UID:10005398-1774630800-1774648800@viewlagos.ng
SUMMARY:Women in Leadership Summit 2026
DESCRIPTION:Leadership isn’t just about influence anymore.\nIt’s about impact\, inclusion\, and economic power. \nAt the Women in Leadership Summit 2026\, we’re convening women who are not just breaking ceilings but reshaping systems\, markets\, and outcomes. \nThis year’s theme\, “Give to Gain\,” explores how purpose-driven leadership creates value that compounds – for businesses\, communities\, and economies. \nExpect bold conversations on:\n• Power and decision-making\n• Inclusive leadership as an economic advantage\n• Turning purpose into measurable impact \nDate: March 27\, 2026\nTime: 5PM\nVenue: Centre Point Hall\, Ikoyi \nThis is where insight meets influence. A room where leadership moves from intention to return.
URL:https://viewlagos.ng/event/women-in-leadership-summit-2026/
LOCATION:Centre Point Hall\, 1 Olawale Dawodu Rd\, Ikoyi\, Lagos 101233\, Lagos\, Lagos\, Lagos\, 101233\, Nigeria
CATEGORIES:Business,Career,Summit
ATTACH;FMTTYPE=image/jpeg:https://viewlagos.ng/wp-content/uploads/2026/03/WhatsApp-Image-2026-02-03-at-4.45.28-PM.jpeg
END:VEVENT
BEGIN:VEVENT
DTSTART;TZID=Africa/Lagos:20260328T160000
DTEND;TZID=Africa/Lagos:20260328T200000
DTSTAMP:20260420T051247
CREATED:20260321T165020Z
LAST-MODIFIED:20260321T165234Z
UID:10005455-1774713600-1774728000@viewlagos.ng
SUMMARY:The 9-5 Unfiltered Hangout
DESCRIPTION:Adulting in Nigeria is hard.\nWorking in Nigeria? Even harder. \nBecause we value employee wellbeing\, we are collaborating with bewhole.ng to create a safe space for 9-5’ers to talk\, laugh\, rant\, and breathe a little. \nWelcome to “The 9-5 Unfiltered Hangout”.\nExpect games\, networking\, community\, music and good vibes. \nCome have fun\, share your workplace struggles\, meet other professionals\, and remind yourself that you’re not the only one figuring this thing out. \n📍 Bottles & Glasses\, Lekki Phase 1\n📅 March 28th\n🕠 4PM
URL:https://viewlagos.ng/event/the-9-5-unfiltered-hangou/
LOCATION:Bottles and Glasses\, Plot 8 Kusenla Rd\, Ikate\, Lekki 106104\, Lagos\, Lagos\, Lagos\, 106104\, Nigeria
CATEGORIES:Career,Party,Social
ATTACH;FMTTYPE=image/jpeg:https://viewlagos.ng/wp-content/uploads/2026/03/654219513_1313204620659407_101700790882627305_n.jpg
END:VEVENT
BEGIN:VEVENT
DTSTART;TZID=Africa/Lagos:20260329T120000
DTEND;TZID=Africa/Lagos:20260329T170000
DTSTAMP:20260420T051247
CREATED:20260225T133136Z
LAST-MODIFIED:20260225T133136Z
UID:10005376-1774785600-1774803600@viewlagos.ng
SUMMARY:The IK Talks
DESCRIPTION:The IK Talks is a seminar-style series thoughtfully created as a growth platform for aspiring presenters\, public speakers\, OAPs\, MCs\, and media personalities who are ready to refine their craft and elevate their careers. Designed to bridge the gap between passion and professionalism\, this series gives young talents direct access to years of real-world industry experience and practical knowledge. \nEach quarterly session is intentionally structured to go beyond surface-level motivation. The IK Talks dives deep into the realities of the media and events industry — covering essential topics such as presentation mastery\, stage confidence\, audience engagement\, voice control\, branding\, professionalism\, and the unspoken etiquettes that define true industry excellence. \nParticipants will gain insight into the values and principles that sustain long-term success\, from business ethics and personal discipline to building credibility and navigating opportunities strategically. The goal is not just to inspire\, but to equip attendees with tangible tools they can immediately apply in their careers. \nWhether you’re just starting out\, looking to sharpen your skills\, or preparing to step confidently into bigger rooms\, The IK Talks provides an environment for learning\, interaction\, mentorship\, and growth. It’s a space where emerging voices are nurtured and future industry leaders are shaped. \n📍 At The Anthonia📅 March 29th
URL:https://viewlagos.ng/event/the-ik-talks/
LOCATION:The Anthonia by Civic Centre\, 11b Oyinkan Abayomi Dr\, Ikoyi\, Lagos 106104\, Lagos\, Lagos\, Lagos\, 106104\, Nigeria
CATEGORIES:Career,Conference,Education
ATTACH;FMTTYPE=image/jpeg:https://viewlagos.ng/wp-content/uploads/2026/02/SaveClip.App_641049044_18562457947050728_347341147430295578_n.jpg
END:VEVENT
BEGIN:VEVENT
DTSTART;TZID=Africa/Lagos:20260411T120000
DTEND;TZID=Africa/Lagos:20260411T150000
DTSTAMP:20260420T051247
CREATED:20260223T115452Z
LAST-MODIFIED:20260223T115452Z
UID:10005363-1775908800-1775919600@viewlagos.ng
SUMMARY:TYLER FRAY: ECHOES SUMMIT
DESCRIPTION:This is more than an event\, it’s a gateway into the music and creative industry.\nHosted by the Tyler Fray Foundation\, this purpose-driven experience is designed for young creatives\, aspiring musicians\, and music lovers who want more than vibes. It’s a space to learn\, connect\, and unlock real opportunities.\n\nAttendees will gain:\n\nDirect access to industry professionals and mentors\nPractical insights on building a sustainable creative career\nReal conversations about the music industry in Nigeria\nNetworking opportunities with like-minded creatives\nExposure to future opportunities\, mentorship\, and foundation programs\n\n\nWhether you’re an artist\, producer\, creative\, or simply passionate about music\, this event is built to equip you with clarity\, confidence\, and direction.\nSeats are limited to ensure quality access and interaction.\n\nSecure your spot. Come prepared. Leave empowered.
URL:https://viewlagos.ng/event/tyler-fray-echoes-summit/
LOCATION:Civic Center\, Ozumba Mbadiwe Road\, Opposite 1004\, Victoria Island\, Lagos 100001\, Lagos\, Lagos\, 100001\, Nigeria
CATEGORIES:Career,Expo,Networking
ATTACH;FMTTYPE=image/webp:https://viewlagos.ng/wp-content/uploads/2026/02/trvsdmz5leme2fzfl53w.webp
END:VEVENT
BEGIN:VEVENT
DTSTART;TZID=Africa/Lagos:20260414T080000
DTEND;TZID=Africa/Lagos:20260416T170000
DTSTAMP:20260420T051247
CREATED:20260302T164651Z
LAST-MODIFIED:20260302T164651Z
UID:10005403-1776153600-1776358800@viewlagos.ng
SUMMARY:Senior Leadership Acceleration Program (SLAP)
DESCRIPTION:Accelerating leadership capacity for senior professionals ready to lead at the next level. \nIntroducing SLAP — The Senior Leadership Acceleration Program\, built for entrepreneurs\, by entrepreneurs. This is not just another leadership seminar or motivational masterclass. SLAP is a high-impact\, immersive experience designed to equip ambitious founders and senior professionals with the clarity\, structure\, and strategic thinking required to scale sustainably and lead confidently in today’s dynamic business landscape. \nFrom April 14th – 16th\, senior leaders\, founders\, and growth-focused executives will gather at the prestigious Radisson Blu Anchorage Hotel for three days of deep strategy\, real conversations\, and practical execution planning. \nSLAP goes beyond theory. It delivers real-world strategies\, proven frameworks\, and direct access to mentors who understand the realities of building and scaling businesses. Every session is designed to stretch your thinking\, sharpen your leadership approach\, and strengthen your ability to drive measurable outcomes. \nThrough focused workshops\, strategy labs\, peer discussions\, and guided reflection\, you will: \n✨ Gain crystal clarity on your long-term business vision and leadership identity📈 Develop a structured\, scalable growth strategy aligned with market realities💡 Access expert insights and practical frameworks used by high-performing entrepreneurs🤝 Connect with a curated community of ambitious\, growth-minded leaders📊 Implement accountability systems to track performance and stay on course \nWhether you are launching a bold new venture\, navigating a growth phase\, or repositioning your organization for its next evolution\, SLAP provides the environment\, support\, and strategy to help you win — intentionally and sustainably. \nThis is for leaders who are ready to move from operational survival to strategic dominance. Leaders who want sharper thinking\, stronger execution\, and a network that matches their ambition. \nIf you’re serious about accelerating your leadership capacity and building a business that thrives at the next level\, SLAP is where that shift begins. 🚀
URL:https://viewlagos.ng/event/senior-leadership-acceleration-program-slap/
LOCATION:Radisson Blu Anchorage Hotel VI\, 1a Ozumba Mbadiwe Avenue\, Victoria Island\, Lagos\, 101241\, Nigeria
CATEGORIES:Business,Career,Conference,Networking
ATTACH;FMTTYPE=image/jpeg:https://viewlagos.ng/wp-content/uploads/2026/03/SaveClip.App_631606876_1596070208304713_3810491728089198736_n.jpg
END:VEVENT
BEGIN:VEVENT
DTSTART;TZID=Africa/Lagos:20260416T090000
DTEND;TZID=Africa/Lagos:20260416T160000
DTSTAMP:20260420T051247
CREATED:20260304T101113Z
LAST-MODIFIED:20260304T101113Z
UID:10005409-1776330000-1776355200@viewlagos.ng
SUMMARY:Pension Conference 2026
DESCRIPTION:Confidence in pensions is not automatic.\nIt is built. Protected. Strengthened. \nNigeria’s pension industry is at a critical inflection point; reforms\, recapitalisation\, compliance\, performance\, and long-term sustainability are no longer abstract policy conversations. They are boardroom priorities. \nThe BusinessDay Pension Conference 2026 brings together regulators\, fund administrators\, institutional investors\, and policy leaders to address one question: \nHow do we sustain confidence while driving growth?\nIf you operate within pensions\, asset management\, insurance\, financial services\, or policy. \nThis is not a room you should miss. \nDate: April 16\, 2026 | 9AM\nVenue: Oriental Hotel\, Victoria Island\, Lagos \nSerious capital demands serious conversations.
URL:https://viewlagos.ng/event/pension-conference-2026/
LOCATION:Oriental Hotel\, 3 Lekki - Epe Expy\, Victoria Island\, Victoria Island\, Lagos\, 106104\, Nigeria
CATEGORIES:Business,Career,Conference
ATTACH;FMTTYPE=image/jpeg:https://viewlagos.ng/wp-content/uploads/2026/03/SaveClip.App_640521779_792725519976002_6840627462253029554_n.jpg
END:VEVENT
BEGIN:VEVENT
DTSTART;TZID=Africa/Lagos:20260416T090000
DTEND;TZID=Africa/Lagos:20260416T170000
DTSTAMP:20260420T051247
CREATED:20260331T221159Z
LAST-MODIFIED:20260331T221159Z
UID:10006244-1776330000-1776358800@viewlagos.ng
SUMMARY:Lagos Leadership Summit
DESCRIPTION:The Lagos Leadership Summit (LLS) 2026 builds on the momentum and impact of previous editions\, convening an influential gathering of visionary leaders\, policymakers\, and private-sector pioneers committed to shaping the future of leadership and governance. With the theme “Building Systems That Outlive Us” the Summit will explore how institutions\, policies\, and leadership practices can be intentionally designed for longevity\, resilience\, and lasting intergenerational impact within Nigeria’s evolving socio-economic landscape. \nScheduled for April 16\, 2026\, LLS 2026 will bring together a dynamic community of decision-makers and emerging leaders for high-level conversations on governance\, enterprise\, and social innovation. The Summit will equip participants with practical insights and collaborative pathways to drive sustainable transformation across Nigeria and the broader African continent. \nPositioned as a Festival of Ideas\, LLS 2026 is designed to be a deliberate space for deep thinking\, cross-sector dialogue\, and solution-driven conversations focused on building leadership systems that endure. \n📅 16 April 2026 | 9:00 AM\n📍 Konga Place\, 4 Oba Elegushi Beach Road\, Lekki\, Lagos \nRegister here: www.ljla.academy/l|s2026/
URL:https://viewlagos.ng/event/lagos-leadership-summit/
LOCATION:Konga Place\, 4 Oba Elegushi Beach Road\, Lekki\, Lagos\, 100110\, Nigeria
CATEGORIES:Business,Career
ATTACH;FMTTYPE=image/jpeg:https://viewlagos.ng/wp-content/uploads/2026/03/639860825_18109100209684419_3762928622695059442_n.jpg
END:VEVENT
BEGIN:VEVENT
DTSTART;TZID=Africa/Lagos:20260502T090000
DTEND;TZID=Africa/Lagos:20260704T170000
DTSTAMP:20260420T051247
CREATED:20260304T151627Z
LAST-MODIFIED:20260304T151627Z
UID:10005415-1777712400-1783184400@viewlagos.ng
SUMMARY:SLA Career and Trade Fair
DESCRIPTION:SLA always turns up for women! You already know that!\nThis time around\, we’re going bigger\, louder\, and more powerful. \nShe Leads Africa in partnership with Jobberman Nigeria\, presents the SLA BoostHer Career & Trade Fair 2026—a space where ambitious women don’t just network… they unlock real opportunities. \nOn May 2nd\, over 1\,500 women will gather to connect with recruiters\, learn in-demand digital skills\, showcase businesses\, and build the relationships that change careers. \n✅ Meet employers hiring right now\n✅ Learn skills that move your income forward\n✅ Discover and support women-owned brands\n✅ Find mentors and collaborators \nAnd yes—it’s completely FREE. \n📍 Regal Hall Daystar Christian Centre\, Lagos\n🗓 May 2\, 2026 | 9AM \nIf you’re serious about your next level\, this room matters.
URL:https://viewlagos.ng/event/sla-career-and-trade-fair/
LOCATION:Daystar Christian Centre\, Plot A3C Ikosi Road\, Oregun\, Lagos State\, 101233\, Nigeria
CATEGORIES:Career,Fair,Things To Do In Lagos
ATTACH;FMTTYPE=image/jpeg:https://viewlagos.ng/wp-content/uploads/2026/03/SaveClip.App_637197388_1836442336873651_6274232133074517331_n.jpg
END:VEVENT
BEGIN:VEVENT
DTSTART;TZID=Africa/Lagos:20260525T080000
DTEND;TZID=Africa/Lagos:20260526T170000
DTSTAMP:20260420T051247
CREATED:20260228T191123Z
LAST-MODIFIED:20260228T191305Z
UID:10005383-1779696000-1779814800@viewlagos.ng
SUMMARY:Lagos Real Estate Fest
DESCRIPTION:Lagos Real Estate Fest returns for its 7th edition on 25–26 May 2026 in Lagos\, convening the largest gathering of Nigeria’s real estate developers\, financiers\, investors\, agents\, builders and regulators. As the industry continues to evolve\, the platform serves as a strategic meeting point for the stakeholders shaping the future of property development and investment in Nigeria. \nWith over 2\,000 attendees\, 50+ exhibitors\, 45+ speakers and 500+ participating companies\, the event delivers high-level conversations\, market intelligence\, and meaningful business connections. \nLagos Real Estate Fest 2026 offers more than dialogue\, it provides direct access to decision-makers and industry leaders driving growth across Nigeria’s real estate landscape. Join us to engage\, collaborate and position you at the forefront of the market.
URL:https://viewlagos.ng/event/lagos-real-estate-fest/
LOCATION:Four Points by Sheraton\, Plot 9/10 Block 2 Oniru Chieftaincy Estate\, Victoria Island\, Lagos State\, 021189\, Nigeria
CATEGORIES:Business,Career,Festival
ATTACH;FMTTYPE=image/jpeg:https://viewlagos.ng/wp-content/uploads/2026/02/SaveClip.App_642411755_18112553377649235_6192683559753958527_n.jpg
END:VEVENT
BEGIN:VEVENT
DTSTART;TZID=Africa/Lagos:20260613T100000
DTEND;TZID=Africa/Lagos:20260613T210000
DTSTAMP:20260420T051247
CREATED:20260331T230718Z
LAST-MODIFIED:20260331T230718Z
UID:10006257-1781344800-1781384400@viewlagos.ng
SUMMARY:ComplyFest 2026
DESCRIPTION:COMPLYFEST 2026 is a carefully curated experience for professionals who are shaping Governance\, Risk & Compliance across Africa with a focus on the finance\, technology and telecoms sector which brings about a complete ecosystem. \nBuilt for decision-makers\, forward-thinking compliance leaders\, regulators\, and innovators\, this is where meaningful conversations happen; the kind that challenge thinking\, spark collaboration\, and drive real change. \nWith this year’s focus on driving GRC through innovation\, we are bringing together the people and perspectives redefining how compliance works in a rapidly evolving world. \nIf you’re looking for more than surface-level insights \, you value depth\, relevance\, and powerful connections then this is your room. \n📍 Lagos\, Nigeria\n📅 13th June 2026 \n🎟 Register now to join a community that’s not just keeping up but leading. Secure your seat. Register via link in bio.
URL:https://viewlagos.ng/event/complyfest-2026-2/
LOCATION:Lagos\, Lagos\, Lagos\, 100101\, Nigeria
CATEGORIES:Business,Career,Conference,Education
END:VEVENT
BEGIN:VEVENT
DTSTART;TZID=Africa/Lagos:20261107T090000
DTEND;TZID=Africa/Lagos:20261107T170000
DTSTAMP:20260420T051247
CREATED:20260302T154322Z
LAST-MODIFIED:20260302T154546Z
UID:10005397-1794042000-1794070800@viewlagos.ng
SUMMARY:WORKPLACE LEADERSHIP CONFERENCE
DESCRIPTION:WORKPLACE LEADERSHIP CONFERENCE\, LAGOS\, NIGERIA NOVEMBER 7TH\, 2026 \nIt is with great pleasure that we invite you to register for the Workplace Leadership Conference\, Nigeria holding on November 7th\, 2026 at The Lagos Marriot Hotel\, Ikeja 122 Joel Ogunnaike Street\, Ikeja GRA\, Lagos\, Nigeria \nThis year’s theme: LEADING WORKPLACE TRANSFORMATION \nJoin industry leaders\, executives\, HR professionals\, entrepreneurs\, and decision-makers from around the world for a one-day\, high-impact conference focused on the realities of today’s workplace. \nExpect real conversations on:\n• Organizational culture\n• Inclusive leadership & workplace diversity\n• Workplace mental health & safety\n• Employee engagement\n• Emotional intelligence\n• AI in the workplace\n• Coaching and mentorship for talent management\, etc. \nWHY ATTEND? \n• Learn from top experts\n• Connect with high-level professionals\n• Gain tools to lead change confidently\n• Receive a certificate of participation \nCONFERENCE DETAILS: \nDATE: NOVEMBER 7TH\, 2026\nTIME: 9am-5pm\nVENUE: The Lagos Marriot Hotel\, Ikeja 122 Joel Ogunnaike Street\, Ikeja GRA\, Lagos\, Nigeria
URL:https://viewlagos.ng/event/workplace-leadership-conference/
LOCATION:Lagos Marriott Hotel Ikeja\, 122 Joel Ogunnaike Street Lagos\, LA 100271122 Joel Ogunnaike Street Lagos\, LA\, Ikeja GRA\, Lagos\, 100271\, Nigeria
CATEGORIES:Business,Career,Conference
ATTACH;FMTTYPE=image/webp:https://viewlagos.ng/wp-content/uploads/2026/03/SaveClip.App_641257676_18081861188256293_5169021376759986429_n.webp
END:VEVENT
END:VCALENDAR