BEGIN:VCALENDAR
VERSION:2.0
PRODID:-//VIEWLAGOS - ECPv6.15.11//NONSGML v1.0//EN
CALSCALE:GREGORIAN
METHOD:PUBLISH
X-ORIGINAL-URL:https://viewlagos.ng
X-WR-CALDESC:Events for VIEWLAGOS
REFRESH-INTERVAL;VALUE=DURATION:PT1H
X-Robots-Tag:noindex
X-PUBLISHED-TTL:PT1H
BEGIN:VTIMEZONE
TZID:Africa/Lagos
BEGIN:STANDARD
TZOFFSETFROM:+0100
TZOFFSETTO:+0100
TZNAME:WAT
DTSTART:20240101T000000
END:STANDARD
END:VTIMEZONE
BEGIN:VEVENT
DTSTART;TZID=Africa/Lagos:20251205T190000
DTEND;TZID=Africa/Lagos:20251205T230000
DTSTAMP:20260422T030223
CREATED:20251124T004533Z
LAST-MODIFIED:20251124T004659Z
UID:10003249-1764961200-1764975600@viewlagos.ng
SUMMARY:ABULA FESTIVAL DETTY DECEMBER EDITION
DESCRIPTION:Abula Festival returns this Detty December with FÀÁJÌ × 2 — a bigger\, louder\, tastier celebration of culture\, community\, and pure Nigerian enjoyment!\nAfter an unforgettable June edition\, we’re doubling everything you love:\n– Double the vibes\n– Double the Abula\n– Double the music\n– Double the community energy…and of course\, double the FÀÁJÌ.\nCome experience the best of local cuisine\, live music\, cultural showcases\, premium vendors\, and that unmistakable Lagos December atmosphere — all in one vibrant\, delicious festival. Whether you’re an Abula lover\, a foodie explorer\, a culture enthusiast\, or you just want to vibe with your tribe\, this edition is built for YOU.
URL:https://viewlagos.ng/event/abula-festival-detty-december-edition/
LOCATION:Ecobank Pan African Centre\, 270 Ozumba Mbadiwe Ave\,\, Victoria Island\, Lagos\, 106104\, Nigeria
CATEGORIES:Christmas in Lagos,Detty December,Things To Do In Lagos
ATTACH;FMTTYPE=image/webp:https://viewlagos.ng/wp-content/uploads/2025/11/faaji.webp
END:VEVENT
END:VCALENDAR