BEGIN:VCALENDAR
VERSION:2.0
PRODID:-//VIEWLAGOS - ECPv6.15.11//NONSGML v1.0//EN
CALSCALE:GREGORIAN
METHOD:PUBLISH
X-ORIGINAL-URL:https://viewlagos.ng
X-WR-CALDESC:Events for VIEWLAGOS
REFRESH-INTERVAL;VALUE=DURATION:PT1H
X-Robots-Tag:noindex
X-PUBLISHED-TTL:PT1H
BEGIN:VTIMEZONE
TZID:Africa/Lagos
BEGIN:STANDARD
TZOFFSETFROM:+0100
TZOFFSETTO:+0100
TZNAME:WAT
DTSTART:20240101T000000
END:STANDARD
END:VTIMEZONE
BEGIN:VEVENT
DTSTART;TZID=Africa/Lagos:20251207T143000
DTEND;TZID=Africa/Lagos:20251207T200000
DTSTAMP:20260422T030226
CREATED:20251128T141138Z
LAST-MODIFIED:20251128T141138Z
UID:10003621-1765117800-1765137600@viewlagos.ng
SUMMARY:The Film Party
DESCRIPTION:The Film Party is a thoughtfully curated screening experience created for filmmakers\, storytellers\, and true lovers of cinema. This December edition brings together bold storytelling\, creative conversations\, and a vibrant community under one roof. \nAttendees will enjoy exclusive premieres of Midnight Visitors and other Deshiy Studios original productions\, alongside standout works from some of Lagos’ most exciting filmmakers\, including CR Motion by Comic Republic. \nBeyond the screenings\, The Film Party offers a space for meaningful dialogue\, networking\, and collaboration—where ideas are exchanged\, creativity is celebrated\, and community comes alive. \nExpect compelling films\, insightful conversations\, and an atmosphere designed for connection and inspiration.
URL:https://viewlagos.ng/event/the-film-party/
LOCATION:Kunoch\, 14A Oba Elegushi Road\, Ikoyi\, Lagos\, 106104\, Nigeria
CATEGORIES:Christmas in Lagos,Things To Do In Lagos
ATTACH;FMTTYPE=image/webp:https://viewlagos.ng/wp-content/uploads/2025/11/filmparty.webp
END:VEVENT
BEGIN:VEVENT
DTSTART;TZID=Africa/Lagos:20251207T170000
DTEND;TZID=Africa/Lagos:20251207T210000
DTSTAMP:20260422T030226
CREATED:20251128T160003Z
LAST-MODIFIED:20251128T160003Z
UID:10003633-1765126800-1765141200@viewlagos.ng
SUMMARY:KhrisYarn – Agbor to Lagos
DESCRIPTION:KhrisYarn – Agbor to Lagos is a powerful live storytelling experience that blends humor\, culture\, and real-life reflections. Through engaging narratives and relatable moments\, KhrisYarn takes the audience on a journey from the streets of Agbor to the bustling life of Lagos\, sharing lessons\, laughs\, and truths along the way. \nThis event celebrates growth\, resilience\, and the everyday experiences that shape hustle\, identity\, and success in Nigeria. Expect sharp wit\, heartfelt moments\, and stories that connect deeply with urban life and African culture. \nWhether you’re from the trenches\, the city\, or somewhere in between\, Agbor to Lagos promises an evening of entertainment you’ll remember long after the curtains close. \nA story. A journey. A yarn worth hearing live.
URL:https://viewlagos.ng/event/khrisyarn-agbor-to-lagos/
LOCATION:Terra Kulture Arena\, Plot 1376 Tiamiyu Savage Street\, Victoria Island\, Lagos State\, 106104\, Nigeria
CATEGORIES:Christmas in Lagos,Comedy,Things To Do In Lagos
ATTACH;FMTTYPE=image/jpeg:https://viewlagos.ng/wp-content/uploads/2025/11/IMG-20251002-WA0009-600x449-1.jpg
END:VEVENT
BEGIN:VEVENT
DTSTART;TZID=Africa/Lagos:20251207T200000
DTEND;TZID=Africa/Lagos:20251208T020000
DTSTAMP:20260422T030226
CREATED:20251124T002415Z
LAST-MODIFIED:20251124T002415Z
UID:10003247-1765137600-1765159200@viewlagos.ng
SUMMARY:Ms DSF & Friends -The Light Up Edition
DESCRIPTION:In collaboration with Light Up Lagos\, join us for an unforgettable night as international DJ Ms DSF brings her headline show to Lagos for a high-energy party like no other. Experience an electrifying live DJ set\, special guest appearances\, and exciting immersive moments. \n\nWhether you’re dancing with friends or making new ones\, this is more than just a night out it’s a celebration of music\, culture\, and connection. Expect vibrant visuals\, incredible vibes\, and surprises around every corner. \n\nPerfect for music lovers\, partygoers\, and anyone ready to create memories\, this is Lagos’ can’t-miss event of the season. \n\n📍 Balmoral Hall\, Federal Palace Hotel\, Victoria Island\, Lagos | 📅 7th December 2025\n⏰ 8:00pm – 2:00am
URL:https://viewlagos.ng/event/ms-dsf-friends-the-light-up-edition/
LOCATION:Balmoral Convention Centre\, Federal Palace Hotel and Casino\, 6-8 Ahmadu Bello Wy\,\, Victoria Island\, Lagos\, 101241\, Nigeria
CATEGORIES:Christmas in Lagos,Detty December
ATTACH;FMTTYPE=image/jpeg:https://viewlagos.ng/wp-content/uploads/2025/11/msdef.jpg
END:VEVENT
END:VCALENDAR