BEGIN:VCALENDAR
VERSION:2.0
PRODID:-//VIEWLAGOS - ECPv6.15.11//NONSGML v1.0//EN
CALSCALE:GREGORIAN
METHOD:PUBLISH
X-ORIGINAL-URL:https://viewlagos.ng
X-WR-CALDESC:Events for VIEWLAGOS
REFRESH-INTERVAL;VALUE=DURATION:PT1H
X-Robots-Tag:noindex
X-PUBLISHED-TTL:PT1H
BEGIN:VTIMEZONE
TZID:Africa/Lagos
BEGIN:STANDARD
TZOFFSETFROM:+0100
TZOFFSETTO:+0100
TZNAME:WAT
DTSTART:20240101T000000
END:STANDARD
END:VTIMEZONE
BEGIN:VEVENT
DTSTART;TZID=Africa/Lagos:20251213T090000
DTEND;TZID=Africa/Lagos:20251213T120000
DTSTAMP:20260422T030159
CREATED:20251128T153935Z
LAST-MODIFIED:20251128T153935Z
UID:10003628-1765616400-1765627200@viewlagos.ng
SUMMARY:Feast at His Feet Lagos | December 2025 Edition
DESCRIPTION:It’s Year end! Join us for an intimate time of worship\, feasting & fostering God-ordained connections at the feet of Jesus. \nGod is deeply invested in pouring into you and I\, intently watching over His word to perform it; and so we are leaving nothing behind in 2025!!!\n“…Moses said Therefore\, our livestock too shall go with us; not a hoof shall be left behind” Exodus 10:26 \nPls keep praying along with us as we prepare for destiny-defining encounters this December. God alone will be revealed and Glorified
URL:https://viewlagos.ng/event/feast-at-his-feet-lagos-december-2025-edition/
LOCATION:Cafe One VI\, 300 Adeola Odeku Street\, Victoria Island\, Lagos\, 101241\, Nigeria
CATEGORIES:Christian,Christmas in Lagos,Spirituality
ATTACH;FMTTYPE=image/jpeg:https://viewlagos.ng/wp-content/uploads/2025/11/feastaHF.jpg
END:VEVENT
END:VCALENDAR