BEGIN:VCALENDAR
VERSION:2.0
PRODID:-//VIEWLAGOS - ECPv6.15.11//NONSGML v1.0//EN
CALSCALE:GREGORIAN
METHOD:PUBLISH
X-ORIGINAL-URL:https://viewlagos.ng
X-WR-CALDESC:Events for VIEWLAGOS
REFRESH-INTERVAL;VALUE=DURATION:PT1H
X-Robots-Tag:noindex
X-PUBLISHED-TTL:PT1H
BEGIN:VTIMEZONE
TZID:Africa/Lagos
BEGIN:STANDARD
TZOFFSETFROM:+0100
TZOFFSETTO:+0100
TZNAME:WAT
DTSTART:20240101T000000
END:STANDARD
END:VTIMEZONE
BEGIN:VEVENT
DTSTART;TZID=Africa/Lagos:20251225T100000
DTEND;TZID=Africa/Lagos:20251225T210000
DTSTAMP:20260422T012446
CREATED:20251119T093928Z
LAST-MODIFIED:20251212T075056Z
UID:10002464-1766656800-1766696400@viewlagos.ng
SUMMARY:Hakuna Matata Themepark
DESCRIPTION:Get ready for a full day of adventure\, excitement\, and unforgettable fun at the Hakuna Matata Theme Park. This family-friendly holiday experience invites guests of all ages to enjoy unlimited access to thrilling attractions and vibrant activities designed to keep the joy going from morning to night. \nDive into a world of entertainment featuring: \n\n\nNew and exciting rides \n\n\nA thrilling pirate ship experience \n\n\nObstacle courses for all skill levels \n\n\nFun zones perfect for kids and adults alike \n\n\nWhether you’re coming for the rides\, the laughter\, or pure holiday enjoyment\, the park offers something special for everyone. \nRemember to bring your socks and everything you’ll need for sun and pool activities. Food and beverages are available for purchase inside the park\, so you’re covered all day long. \nEvent Dates\n\n\n25th December 2025 \n\n\n1st January 2026 \n\n\nTime\n10:00 AM – 9:00 PM daily \nVenue\nHakuna Matata Theme Park \nTickets\nFree Entry \nReservations\n📞 0904 439 9013📧 sales@ekohotels.com🌐 www.ekohotels.com \nBring the whole family and step into a holiday paradise where excitement never ends.
URL:https://viewlagos.ng/event/hakuna-matata-themepark/2025-12-25/
LOCATION:Eko Atlantic City\, Eko Atlantic City\, 1221b Ahmadu Bello Wy\, beside Paelon Hospital\, Victoria Island\, Lagos\, 106104\, Nigeria
CATEGORIES:Christmas in Lagos,Things To Do In Lagos
ATTACH;FMTTYPE=image/webp:https://viewlagos.ng/wp-content/uploads/2025/11/1760967450324-Screenshot2025-10-20at14.36.45.webp
END:VEVENT
BEGIN:VEVENT
DTSTART;TZID=Africa/Lagos:20251225T120000
DTEND;TZID=Africa/Lagos:20251225T160000
DTSTAMP:20260422T012446
CREATED:20251119T102952Z
LAST-MODIFIED:20251119T102952Z
UID:10002850-1766664000-1766678400@viewlagos.ng
SUMMARY:Celebrate Christmas in Style
DESCRIPTION:This Christmas\, step into an atmosphere of warmth\, elegance\, and exceptional hospitality at The Wheatbaker. Enjoy a luxurious Christmas Buffet Lunch crafted to delight your senses and make your holiday truly memorable. \nIndulge in an exquisite spread featuring: \n\n\nComplimentary festive drinks \n\n\nA mouthwatering selection of dishes \n\n\nDecadent desserts to satisfy every sweet craving \n\n\nA live band performing Christmas classics through the years \n\n\nWhether you’re celebrating with family\, friends\, or loved ones\, this experience promises comfort\, sophistication\, and festive charm in the heart of Lagos. \nEvent Details\nVenue: The Grillroom\, The WheatbakerDate: December 25\, 2025Time: 12:00 PM – 4:00 PMPrice: ₦100\,000 per person \nFor More Information\nVisit: www.thewheatbakerlagos.com \nSavor the season. Celebrate in style.
URL:https://viewlagos.ng/event/celebrate-christmas-in-style/
LOCATION:The Wheatbaker\, 4 Lawrence Road\, Ikoyi\, Lagos\, 101233\, Nigeria
CATEGORIES:Christmas in Lagos,Things To Do In Lagos
ATTACH;FMTTYPE=image/webp:https://viewlagos.ng/wp-content/uploads/2025/11/1763054848871-upload.webp
END:VEVENT
BEGIN:VEVENT
DTSTART;TZID=Africa/Lagos:20251225T153000
DTEND;TZID=Africa/Lagos:20251225T180000
DTSTAMP:20260422T012446
CREATED:20251202T222409Z
LAST-MODIFIED:20251202T222820Z
UID:10003662-1766676600-1766685600@viewlagos.ng
SUMMARY:The Forest of Talking Drums
DESCRIPTION:Step into the heartbeat of Kiboko—a sacred forest where drums breathe\, trees speak\, and every sound carries ancient power. The Forest of Talking Drums is a breathtaking fusion of myth\, music\, and storytelling. It follows the life of a young woman bound to an ancient power\, a gift that becomes both her strength and burden. This immersive show takes the audience into a world where the stage disappears\, and you become part of the forest’s rhythm and heartbeat.
URL:https://viewlagos.ng/event/the-forest-of-talking-drums/2025-12-25/
LOCATION:Africa Exhibition Services\, Plot E Ikosi Road\, Oregun\, Lagos\, 101233\, Nigeria
CATEGORIES:Christmas in Lagos,Theatre/Stage Play,Things To Do In Lagos
ATTACH;FMTTYPE=image/jpeg:https://viewlagos.ng/wp-content/uploads/2025/12/r17totodhhg50hwupvea.jpg
END:VEVENT
BEGIN:VEVENT
DTSTART;TZID=Africa/Lagos:20251225T200000
DTEND;TZID=Africa/Lagos:20251225T220000
DTSTAMP:20260422T012446
CREATED:20251119T102423Z
LAST-MODIFIED:20251119T102423Z
UID:10002849-1766692800-1766700000@viewlagos.ng
SUMMARY:A Night of Comedy and Laughter with Larry J
DESCRIPTION:Get ready for an evening filled with pure joy\, sharp wit\, and unforgettable punchlines as Larry J takes the stage for A Night of Comedy and Laughter. This holiday experience promises nonstop entertainment\, clever humor\, and the kind of laughter that brings everyone together. \nGather your friends\, unwind\, and enjoy a lighthearted night in the heart of Victoria Island—perfect for boosting your holiday spirit. \nEvent Details\nDate: December 25Time: 8:00 PMTicket: ₦50\,000 per personVenue:Kingdom of Light (Car Park B)\, Eko Hotels & Suites\, Victoria Island \nBookings & Reservations\n📞 0904 439 9013📧 sales@ekohotels.com📧 experiencecurator@ekohotels.com🌐 Tickets available at www.ekohotelstropicalchristmas.ng \nAn unforgettable night of comedy awaits—come ready to laugh out loud.
URL:https://viewlagos.ng/event/a-night-of-comedy-and-laughter-with-larry-j/
LOCATION:Kingdom Square Car Park\, 1415 Adetokunbo Ademola Street\, Victoria Island\, Lagos\, 106104\, Nigeria
CATEGORIES:Christmas in Lagos,Comedy
ATTACH;FMTTYPE=image/webp:https://viewlagos.ng/wp-content/uploads/2025/11/night-of-comedy.webp
END:VEVENT
END:VCALENDAR