BEGIN:VCALENDAR
VERSION:2.0
PRODID:-//VIEWLAGOS - ECPv6.15.11//NONSGML v1.0//EN
CALSCALE:GREGORIAN
METHOD:PUBLISH
X-WR-CALNAME:VIEWLAGOS
X-ORIGINAL-URL:https://viewlagos.ng
X-WR-CALDESC:Events for VIEWLAGOS
REFRESH-INTERVAL;VALUE=DURATION:PT1H
X-Robots-Tag:noindex
X-PUBLISHED-TTL:PT1H
BEGIN:VTIMEZONE
TZID:Africa/Lagos
BEGIN:STANDARD
TZOFFSETFROM:+0100
TZOFFSETTO:+0100
TZNAME:WAT
DTSTART:20240101T000000
END:STANDARD
END:VTIMEZONE
BEGIN:VEVENT
DTSTART;TZID=Africa/Lagos:20251226T100000
DTEND;TZID=Africa/Lagos:20251226T210000
DTSTAMP:20260424T145457
CREATED:20251119T093928Z
LAST-MODIFIED:20251212T075056Z
UID:10002465-1766743200-1766782800@viewlagos.ng
SUMMARY:Hakuna Matata Themepark
DESCRIPTION:Get ready for a full day of adventure\, excitement\, and unforgettable fun at the Hakuna Matata Theme Park. This family-friendly holiday experience invites guests of all ages to enjoy unlimited access to thrilling attractions and vibrant activities designed to keep the joy going from morning to night. \nDive into a world of entertainment featuring: \n\n\nNew and exciting rides \n\n\nA thrilling pirate ship experience \n\n\nObstacle courses for all skill levels \n\n\nFun zones perfect for kids and adults alike \n\n\nWhether you’re coming for the rides\, the laughter\, or pure holiday enjoyment\, the park offers something special for everyone. \nRemember to bring your socks and everything you’ll need for sun and pool activities. Food and beverages are available for purchase inside the park\, so you’re covered all day long. \nEvent Dates\n\n\n25th December 2025 \n\n\n1st January 2026 \n\n\nTime\n10:00 AM – 9:00 PM daily \nVenue\nHakuna Matata Theme Park \nTickets\nFree Entry \nReservations\n📞 0904 439 9013📧 sales@ekohotels.com🌐 www.ekohotels.com \nBring the whole family and step into a holiday paradise where excitement never ends.
URL:https://viewlagos.ng/event/hakuna-matata-themepark/2025-12-26/
LOCATION:Eko Atlantic City\, Eko Atlantic City\, 1221b Ahmadu Bello Wy\, beside Paelon Hospital\, Victoria Island\, Lagos\, 106104\, Nigeria
CATEGORIES:Christmas in Lagos,Things To Do In Lagos
ATTACH;FMTTYPE=image/webp:https://viewlagos.ng/wp-content/uploads/2025/11/1760967450324-Screenshot2025-10-20at14.36.45.webp
END:VEVENT
BEGIN:VEVENT
DTSTART;TZID=Africa/Lagos:20251226T153000
DTEND;TZID=Africa/Lagos:20251226T180000
DTSTAMP:20260424T145457
CREATED:20251202T222409Z
LAST-MODIFIED:20251202T222820Z
UID:10003663-1766763000-1766772000@viewlagos.ng
SUMMARY:The Forest of Talking Drums
DESCRIPTION:Step into the heartbeat of Kiboko—a sacred forest where drums breathe\, trees speak\, and every sound carries ancient power. The Forest of Talking Drums is a breathtaking fusion of myth\, music\, and storytelling. It follows the life of a young woman bound to an ancient power\, a gift that becomes both her strength and burden. This immersive show takes the audience into a world where the stage disappears\, and you become part of the forest’s rhythm and heartbeat.
URL:https://viewlagos.ng/event/the-forest-of-talking-drums/2025-12-26/
LOCATION:Africa Exhibition Services\, Plot E Ikosi Road\, Oregun\, Lagos\, 101233\, Nigeria
CATEGORIES:Christmas in Lagos,Theatre/Stage Play,Things To Do In Lagos
ATTACH;FMTTYPE=image/jpeg:https://viewlagos.ng/wp-content/uploads/2025/12/r17totodhhg50hwupvea.jpg
END:VEVENT
BEGIN:VEVENT
DTSTART;TZID=Africa/Lagos:20251226T180000
DTEND;TZID=Africa/Lagos:20251226T233000
DTSTAMP:20260424T145457
CREATED:20251128T155630Z
LAST-MODIFIED:20251128T155630Z
UID:10003632-1766772000-1766791800@viewlagos.ng
SUMMARY:WARRI AGAIN? IN LAGOS 2025
DESCRIPTION:Brownhill Events Inc.\, in partnership with Glenfiddich\, proudly presents the 24th Edition of Warri Again? Class & Culture—Nigeria’s ultimate celebration of music\, comedy\, and cultural excellence. \nTaking over the Eko Convention Centre on Friday\, December 26th\, 2025\, this legendary event brings together an extraordinary lineup of Africa’s biggest stars\, rising sensations\, and iconic performers for one unforgettable night of premium entertainment. \nFeatured Acts\nShallipopi\, Zerrydl\, Famous Pluto\, Zlatan\, OdumoduBlvck\, Fola\, Shody\, Spyro\, Rudeboy\, MC Casino\, Nasboi\, Gordons\, Pheelz\, Fido\, Tar Rae\, Dope Caesar\, DJ Dimple Nipple\, DJ Casper. \nAdditional Performances By\nAcapella\, Edo Pikin\, YoungChief\, Segun Johnson\, Runtown\, Ice Prince\, Iyanya\, Seyi Vibez\, M.I\, Destalker\, AY\, Rybeena\, Styl Plus\, OG Abbah\, Mr Paul\, Duncan Mighty\, Flektaman. \nFrom chart-topping music to world-class comedy and premium vibes\, Warri Again? blends class\, culture\, and nonstop energy like no other event. \n📅 Date: Friday\, December 26\, 2025🕕 Time: 6:00 PM📍 Venue: Eko Convention Centre\, Victoria Island\, Lagos \nThis is not just an event — it’s a movement.Warri No Dey Carry Last.
URL:https://viewlagos.ng/event/warri-again-in-lagos-2025/
LOCATION:Eko Convention Center\, 1415 Adetokunbo Ademola Street\,\, Victoria Island\, Lagos\, 106104\, Nigeria
CATEGORIES:Christmas in Lagos,Comedy
ATTACH;FMTTYPE=image/jpeg:https://viewlagos.ng/wp-content/uploads/2025/11/warriagain.jpeg
END:VEVENT
BEGIN:VEVENT
DTSTART;TZID=Africa/Lagos:20251226T180000
DTEND;TZID=Africa/Lagos:20251226T233000
DTSTAMP:20260424T145457
CREATED:20251208T112707Z
LAST-MODIFIED:20251212T120827Z
UID:10004408-1766772000-1766791800@viewlagos.ng
SUMMARY:Retro Party
DESCRIPTION:Let’s party like it’s the 90s 🙂‍↔️🙂‍↔️ \nRetro vibes\, Y2K fit\, good music\, grills\, drinks\, and pure groove!\nPull up on the 26th of this month!!! We are shutting Ikeja DOWN! \n📍KAP Hub Sound Stage Studio – 41\, Ogundana street off Allen ikeja\nTime: 6PM\nMusic Policy: DJ Kenchello\nTicket: N10\,000 \nSend a DM to 0701 002 1117 to get your tickets!! \nBe there or hear about it! 🔥
URL:https://viewlagos.ng/event/retro-party/
LOCATION:KAP Hub\, 41 Ogundana Street off Allen Avenue\, Ikeja\, Lagos\, 100102\, Nigeria
CATEGORIES:Christmas in Lagos,Detty December,Party,Things To Do In Lagos
ATTACH;FMTTYPE=image/png:https://viewlagos.ng/wp-content/uploads/2025/12/Retro-Party-01.png
END:VEVENT
BEGIN:VEVENT
DTSTART;TZID=Africa/Lagos:20251226T190000
DTEND;TZID=Africa/Lagos:20251227T030000
DTSTAMP:20260424T145457
CREATED:20251209T164705Z
LAST-MODIFIED:20251209T164705Z
UID:10004410-1766775600-1766804400@viewlagos.ng
SUMMARY:ISLAND BLOCK PARTY
DESCRIPTION:Island BlockParty returns on 26 December with a new theme that invites everyone to step outside reality for one night. Wonderland is a space where creativity\, cosplay\, and community meet\, built for people who love to show up as their fullest selves. The music\, the energy\, the fashion\, and the characters you bring to life all come together to create a world that only exists once a year. \nNobody knows what the lineup holds yet\, but the anticipation is already doing the talking. If there is any night to disappear into something different\, this is the one.
URL:https://viewlagos.ng/event/island-block-party/
LOCATION:Lagos
CATEGORIES:Christmas in Lagos,Detty December,Party,Things To Do In Lagos
ATTACH;FMTTYPE=image/jpeg:https://viewlagos.ng/wp-content/uploads/2025/12/islandblockp.jpg
END:VEVENT
BEGIN:VEVENT
DTSTART;TZID=Africa/Lagos:20251226T190000
DTEND;TZID=Africa/Lagos:20251227T030000
DTSTAMP:20260424T145457
CREATED:20251224T004906Z
LAST-MODIFIED:20251224T004906Z
UID:10004499-1766775600-1766804400@viewlagos.ng
SUMMARY:All White End Year Corporate Connect Party
DESCRIPTION:After a year of “kindly find attached” \, ” can you see my scree?”\, and circling back\, it’s time to let your hair down and party! Come party with like minds at the biggest corporate party of the year!! \n 
URL:https://viewlagos.ng/event/all-white-end-year-corporate-connect-party/
LOCATION:Trib3 Lagos\, 288b Ajose Adeogun St\, Victoria Island\, Lagos\, Lagos\, 100232\, Nigeria
CATEGORIES:Christmas in Lagos,Detty December,Things To Do In Lagos
ATTACH;FMTTYPE=image/webp:https://viewlagos.ng/wp-content/uploads/2025/12/gpsfn4un6zr74xoac19l.webp
END:VEVENT
END:VCALENDAR