BEGIN:VCALENDAR
VERSION:2.0
PRODID:-//VIEWLAGOS - ECPv6.15.11//NONSGML v1.0//EN
CALSCALE:GREGORIAN
METHOD:PUBLISH
X-WR-CALNAME:VIEWLAGOS
X-ORIGINAL-URL:https://viewlagos.ng
X-WR-CALDESC:Events for VIEWLAGOS
REFRESH-INTERVAL;VALUE=DURATION:PT1H
X-Robots-Tag:noindex
X-PUBLISHED-TTL:PT1H
BEGIN:VTIMEZONE
TZID:Africa/Lagos
BEGIN:STANDARD
TZOFFSETFROM:+0100
TZOFFSETTO:+0100
TZNAME:WAT
DTSTART:20240101T000000
END:STANDARD
END:VTIMEZONE
BEGIN:VEVENT
DTSTART;TZID=Africa/Lagos:20251229T190000
DTEND;TZID=Africa/Lagos:20251230T020000
DTSTAMP:20260422T030053
CREATED:20251224T004321Z
LAST-MODIFIED:20251224T004321Z
UID:10004498-1767034800-1767060000@viewlagos.ng
SUMMARY:Seyilaw – Then & Now
DESCRIPTION:Seyilaw – Then & Now is a special comedy experience that takes you on a journey through the evolution of one of Nigeria’s most iconic stand-up comedians. From the raw\, relatable humor that introduced him to the spotlight to the refined\, fearless comedy that defines him today\, Seyilaw delivers a night of laughter that connects the past with the present. \nThis show blends classic jokes\, fresh perspectives\, and real-life reflections\, offering fans a chance to relive memorable moments while enjoying brand-new material that speaks to today’s realities. It’s witty\, bold\, nostalgic\, and current — all in one unforgettable performance. \nThen & Now is more than a comedy show; it’s a celebration of growth\, resilience\, and the power of laughter across generations. Expect nonstop laughs\, sharp storytelling\, and an evening that reminds you why Seyilaw remains a force in Nigerian comedy. 🎤😂
URL:https://viewlagos.ng/event/seyilaw-then-now/
LOCATION:The Jewel Aida\, 105 Hakeem Dickson Link Road\, Lekki\, Lagos\, 106101\, Nigeria
CATEGORIES:Christmas in Lagos,Comedy
ATTACH;FMTTYPE=image/jpeg:https://viewlagos.ng/wp-content/uploads/2025/12/Seyilaw-Then-and-Now-.jpg
END:VEVENT
BEGIN:VEVENT
DTSTART;TZID=Africa/Lagos:20251230T100000
DTEND;TZID=Africa/Lagos:20251230T210000
DTSTAMP:20260422T030053
CREATED:20251119T093928Z
LAST-MODIFIED:20251212T075056Z
UID:10002469-1767088800-1767128400@viewlagos.ng
SUMMARY:Hakuna Matata Themepark
DESCRIPTION:Get ready for a full day of adventure\, excitement\, and unforgettable fun at the Hakuna Matata Theme Park. This family-friendly holiday experience invites guests of all ages to enjoy unlimited access to thrilling attractions and vibrant activities designed to keep the joy going from morning to night. \nDive into a world of entertainment featuring: \n\n\nNew and exciting rides \n\n\nA thrilling pirate ship experience \n\n\nObstacle courses for all skill levels \n\n\nFun zones perfect for kids and adults alike \n\n\nWhether you’re coming for the rides\, the laughter\, or pure holiday enjoyment\, the park offers something special for everyone. \nRemember to bring your socks and everything you’ll need for sun and pool activities. Food and beverages are available for purchase inside the park\, so you’re covered all day long. \nEvent Dates\n\n\n25th December 2025 \n\n\n1st January 2026 \n\n\nTime\n10:00 AM – 9:00 PM daily \nVenue\nHakuna Matata Theme Park \nTickets\nFree Entry \nReservations\n📞 0904 439 9013📧 sales@ekohotels.com🌐 www.ekohotels.com \nBring the whole family and step into a holiday paradise where excitement never ends.
URL:https://viewlagos.ng/event/hakuna-matata-themepark/2025-12-30/
LOCATION:Eko Atlantic City\, Eko Atlantic City\, 1221b Ahmadu Bello Wy\, beside Paelon Hospital\, Victoria Island\, Lagos\, 106104\, Nigeria
CATEGORIES:Christmas in Lagos,Things To Do In Lagos
ATTACH;FMTTYPE=image/webp:https://viewlagos.ng/wp-content/uploads/2025/11/1760967450324-Screenshot2025-10-20at14.36.45.webp
END:VEVENT
BEGIN:VEVENT
DTSTART;TZID=Africa/Lagos:20251230T153000
DTEND;TZID=Africa/Lagos:20251230T180000
DTSTAMP:20260422T030053
CREATED:20251202T222409Z
LAST-MODIFIED:20251202T222820Z
UID:10003667-1767108600-1767117600@viewlagos.ng
SUMMARY:The Forest of Talking Drums
DESCRIPTION:Step into the heartbeat of Kiboko—a sacred forest where drums breathe\, trees speak\, and every sound carries ancient power. The Forest of Talking Drums is a breathtaking fusion of myth\, music\, and storytelling. It follows the life of a young woman bound to an ancient power\, a gift that becomes both her strength and burden. This immersive show takes the audience into a world where the stage disappears\, and you become part of the forest’s rhythm and heartbeat.
URL:https://viewlagos.ng/event/the-forest-of-talking-drums/2025-12-30/
LOCATION:Africa Exhibition Services\, Plot E Ikosi Road\, Oregun\, Lagos\, 101233\, Nigeria
CATEGORIES:Christmas in Lagos,Theatre/Stage Play,Things To Do In Lagos
ATTACH;FMTTYPE=image/jpeg:https://viewlagos.ng/wp-content/uploads/2025/12/r17totodhhg50hwupvea.jpg
END:VEVENT
BEGIN:VEVENT
DTSTART;TZID=Africa/Lagos:20251230T200000
DTEND;TZID=Africa/Lagos:20251230T210000
DTSTAMP:20260422T030053
CREATED:20251119T094911Z
LAST-MODIFIED:20251121T161327Z
UID:10002840-1767124800-1767128400@viewlagos.ng
SUMMARY:MARY – The Musical Theatre
DESCRIPTION:Experience Christmas like never before as the timeless story of the birth of Jesus is reimagined in a breathtaking musical production. MARY: The Musical Theatre brings the true essence of Christmas to life with an ethereal performance that blends emotion\, artistry\, and wonder into one unforgettable masterpiece. \nThis isn’t the familiar story you’ve always known—this is a spectacular retelling\, staged with depth\, beauty\, and creativity that will leave you truly mesmerized. Follow the journey of one woman\, one promise\, and one miracle in a production designed to move hearts and ignite the spirit of the season. \nShow Details\nTime:8:00 PM \nVenue:Kingdom Square\, Car Park B\, Eko Hotels & Suites \nTicket:₦50\,000 \nJoin us for a magical night that celebrates faith\, hope\, and the extraordinary miracle at the heart of Christmas.
URL:https://viewlagos.ng/event/mary-the-musical-theatre/2025-12-30/
LOCATION:Kingdom Square Car Park\, 1415 Adetokunbo Ademola Street\, Victoria Island\, Lagos\, 106104\, Nigeria
CATEGORIES:Christmas in Lagos,Things To Do In Lagos
ATTACH;FMTTYPE=image/png:https://viewlagos.ng/wp-content/uploads/2025/11/marythe-musical.png
END:VEVENT
END:VCALENDAR