BEGIN:VCALENDAR
VERSION:2.0
PRODID:-//VIEWLAGOS - ECPv6.15.11//NONSGML v1.0//EN
CALSCALE:GREGORIAN
METHOD:PUBLISH
X-WR-CALNAME:VIEWLAGOS
X-ORIGINAL-URL:https://viewlagos.ng
X-WR-CALDESC:Events for VIEWLAGOS
REFRESH-INTERVAL;VALUE=DURATION:PT1H
X-Robots-Tag:noindex
X-PUBLISHED-TTL:PT1H
BEGIN:VTIMEZONE
TZID:Africa/Lagos
BEGIN:STANDARD
TZOFFSETFROM:+0100
TZOFFSETTO:+0100
TZNAME:WAT
DTSTART:20240101T000000
END:STANDARD
END:VTIMEZONE
BEGIN:VEVENT
DTSTART;TZID=Africa/Lagos:20251207T200000
DTEND;TZID=Africa/Lagos:20251208T020000
DTSTAMP:20260424T211129
CREATED:20251124T002415Z
LAST-MODIFIED:20251124T002415Z
UID:10003247-1765137600-1765159200@viewlagos.ng
SUMMARY:Ms DSF & Friends -The Light Up Edition
DESCRIPTION:In collaboration with Light Up Lagos\, join us for an unforgettable night as international DJ Ms DSF brings her headline show to Lagos for a high-energy party like no other. Experience an electrifying live DJ set\, special guest appearances\, and exciting immersive moments. \n\nWhether you’re dancing with friends or making new ones\, this is more than just a night out it’s a celebration of music\, culture\, and connection. Expect vibrant visuals\, incredible vibes\, and surprises around every corner. \n\nPerfect for music lovers\, partygoers\, and anyone ready to create memories\, this is Lagos’ can’t-miss event of the season. \n\n📍 Balmoral Hall\, Federal Palace Hotel\, Victoria Island\, Lagos | 📅 7th December 2025\n⏰ 8:00pm – 2:00am
URL:https://viewlagos.ng/event/ms-dsf-friends-the-light-up-edition/
LOCATION:Balmoral Convention Centre\, Federal Palace Hotel and Casino\, 6-8 Ahmadu Bello Wy\,\, Victoria Island\, Lagos\, 101241\, Nigeria
CATEGORIES:Christmas in Lagos,Detty December
ATTACH;FMTTYPE=image/jpeg:https://viewlagos.ng/wp-content/uploads/2025/11/msdef.jpg
END:VEVENT
BEGIN:VEVENT
DTSTART;TZID=Africa/Lagos:20251209T080000
DTEND;TZID=Africa/Lagos:20251209T170000
DTSTAMP:20260424T211129
CREATED:20251209T174651Z
LAST-MODIFIED:20251209T174651Z
UID:10004420-1765267200-1765299600@viewlagos.ng
SUMMARY:AKO 12
DESCRIPTION:AKO 12 returns to Landmark Event Centre for its annual closing Fight Night\, with an explosive card of 10 professional MMA fights. In the main event Senegalese Gasmire Diatta defends his Featherweight Title against Algeria’s Farouk Boudissa\, a clash of contrasting styles guaranteed to deliver fireworks. In the co-main event Nigeria’s rising phenom Yahaya Yahuza steps into the spotlight against Algeria’s fighter Fouad Madani in a Middleweight super fight between 2 undefeated warriors. Join us and AKO President Kamaru Usman live on December 30\, 6pm. Don’t miss the action!
URL:https://viewlagos.ng/event/ako-12/
LOCATION:Landmark Event Centre\, Plot 2 & 3\, Water Corporation Drive\, Victoria Island\, Lagos State\, 106104\, Nigeria
CATEGORIES:Christmas in Lagos,Sports
ATTACH;FMTTYPE=image/webp:https://viewlagos.ng/wp-content/uploads/2025/12/ako.webp
END:VEVENT
BEGIN:VEVENT
DTSTART;TZID=Africa/Lagos:20251213T090000
DTEND;TZID=Africa/Lagos:20251213T120000
DTSTAMP:20260424T211129
CREATED:20251128T153935Z
LAST-MODIFIED:20251128T153935Z
UID:10003628-1765616400-1765627200@viewlagos.ng
SUMMARY:Feast at His Feet Lagos | December 2025 Edition
DESCRIPTION:It’s Year end! Join us for an intimate time of worship\, feasting & fostering God-ordained connections at the feet of Jesus. \nGod is deeply invested in pouring into you and I\, intently watching over His word to perform it; and so we are leaving nothing behind in 2025!!!\n“…Moses said Therefore\, our livestock too shall go with us; not a hoof shall be left behind” Exodus 10:26 \nPls keep praying along with us as we prepare for destiny-defining encounters this December. God alone will be revealed and Glorified
URL:https://viewlagos.ng/event/feast-at-his-feet-lagos-december-2025-edition/
LOCATION:Cafe One VI\, 300 Adeola Odeku Street\, Victoria Island\, Lagos\, 101241\, Nigeria
CATEGORIES:Christian,Christmas in Lagos,Spirituality
ATTACH;FMTTYPE=image/jpeg:https://viewlagos.ng/wp-content/uploads/2025/11/feastaHF.jpg
END:VEVENT
END:VCALENDAR