BEGIN:VCALENDAR
VERSION:2.0
PRODID:-//VIEWLAGOS - ECPv6.15.11//NONSGML v1.0//EN
CALSCALE:GREGORIAN
METHOD:PUBLISH
X-WR-CALNAME:VIEWLAGOS
X-ORIGINAL-URL:https://viewlagos.ng
X-WR-CALDESC:Events for VIEWLAGOS
REFRESH-INTERVAL;VALUE=DURATION:PT1H
X-Robots-Tag:noindex
X-PUBLISHED-TTL:PT1H
BEGIN:VTIMEZONE
TZID:Africa/Lagos
BEGIN:STANDARD
TZOFFSETFROM:+0100
TZOFFSETTO:+0100
TZNAME:WAT
DTSTART:20240101T000000
END:STANDARD
END:VTIMEZONE
BEGIN:VEVENT
DTSTART;TZID=Africa/Lagos:20251217T120000
DTEND;TZID=Africa/Lagos:20251217T210000
DTSTAMP:20260422T030006
CREATED:20251119T105616Z
LAST-MODIFIED:20251119T105616Z
UID:10002851-1765972800-1766005200@viewlagos.ng
SUMMARY:Foodie in Lagos Festival
DESCRIPTION:Lagos\, get ready for the most exciting weekend of the year. The Foodie in Lagos Festival is a two-day celebration of food\, drinks\, culture\, and community curated by Foodie in Lagos – the city’s favourite dining and lifestyle platform. \nThis year’s edition goes beyond food. Alongside over 40 exceptional food & drink vendors\, guests will experience a festival Christmas Village featuring lifestyle brands\, a holiday market\, and a dedicated space to shop thoughtful gifts for friends and family. From handcrafted pieces to home accents and curated finds\, it’s the perfect place to tick off your gifting list and get your presents beautifully wrapped on-site. \nThe experience continues with DJ competitions\, live music\, picnic setups in the park\, brand activations\, and a Santa Grotto for the perfect seasonal touch. Families can also look forward to a safe kid’s play area and creative photo booth moments designed to capture the magic of the season. \nIts a full celebration of taste\, creativity\, and connection – bringing together food lovers\, lifestyle enthusiasts\, and the Lagos community in one vibrant space
URL:https://viewlagos.ng/event/foodie-in-lagos-festival/2025-12-17/
LOCATION:Lagos Encourage Park\, Osborne Road\, Ikoyi\, Lagos\, 101233\, Nigeria
CATEGORIES:Christmas in Lagos
ATTACH;FMTTYPE=image/webp:https://viewlagos.ng/wp-content/uploads/2025/11/1762285129669-upload.webp
END:VEVENT
BEGIN:VEVENT
DTSTART;TZID=Africa/Lagos:20251218T110000
DTEND;TZID=Africa/Lagos:20251219T000000
DTSTAMP:20260422T030006
CREATED:20251124T005222Z
LAST-MODIFIED:20251212T074936Z
UID:10003250-1766055600-1766102400@viewlagos.ng
SUMMARY:Motherland Festival 2025
DESCRIPTION:Three days. One city. The heartbeat of culture.\nMotherland 2025 transforms Lagos into a world of food\, fashion\, tech\, music\, panels\, villages\, and sunset parties\, all leading to a world class music festival with Nigeria’s biggest stars. A full cultural universe built for everyone\, and an experience you do not want to miss.
URL:https://viewlagos.ng/event/motherland-festival-2025/2025-12-18/
LOCATION:Motherland Ground\, CCPV+C3X\, Foreshore Road\, Victoria Island\, Lagos\, 106104\, Nigeria
CATEGORIES:Christmas in Lagos,Detty December
ATTACH;FMTTYPE=image/webp:https://viewlagos.ng/wp-content/uploads/2025/11/motherland.webp
END:VEVENT
BEGIN:VEVENT
DTSTART;TZID=Africa/Lagos:20251218T120000
DTEND;TZID=Africa/Lagos:20251218T210000
DTSTAMP:20260422T030006
CREATED:20251119T105616Z
LAST-MODIFIED:20251119T105616Z
UID:10002852-1766059200-1766091600@viewlagos.ng
SUMMARY:Foodie in Lagos Festival
DESCRIPTION:Lagos\, get ready for the most exciting weekend of the year. The Foodie in Lagos Festival is a two-day celebration of food\, drinks\, culture\, and community curated by Foodie in Lagos – the city’s favourite dining and lifestyle platform. \nThis year’s edition goes beyond food. Alongside over 40 exceptional food & drink vendors\, guests will experience a festival Christmas Village featuring lifestyle brands\, a holiday market\, and a dedicated space to shop thoughtful gifts for friends and family. From handcrafted pieces to home accents and curated finds\, it’s the perfect place to tick off your gifting list and get your presents beautifully wrapped on-site. \nThe experience continues with DJ competitions\, live music\, picnic setups in the park\, brand activations\, and a Santa Grotto for the perfect seasonal touch. Families can also look forward to a safe kid’s play area and creative photo booth moments designed to capture the magic of the season. \nIts a full celebration of taste\, creativity\, and connection – bringing together food lovers\, lifestyle enthusiasts\, and the Lagos community in one vibrant space
URL:https://viewlagos.ng/event/foodie-in-lagos-festival/2025-12-18/
LOCATION:Lagos Encourage Park\, Osborne Road\, Ikoyi\, Lagos\, 101233\, Nigeria
CATEGORIES:Christmas in Lagos
ATTACH;FMTTYPE=image/webp:https://viewlagos.ng/wp-content/uploads/2025/11/1762285129669-upload.webp
END:VEVENT
BEGIN:VEVENT
DTSTART;TZID=Africa/Lagos:20251219T110000
DTEND;TZID=Africa/Lagos:20251220T000000
DTSTAMP:20260422T030006
CREATED:20251124T005222Z
LAST-MODIFIED:20251212T074936Z
UID:10003251-1766142000-1766188800@viewlagos.ng
SUMMARY:Motherland Festival 2025
DESCRIPTION:Three days. One city. The heartbeat of culture.\nMotherland 2025 transforms Lagos into a world of food\, fashion\, tech\, music\, panels\, villages\, and sunset parties\, all leading to a world class music festival with Nigeria’s biggest stars. A full cultural universe built for everyone\, and an experience you do not want to miss.
URL:https://viewlagos.ng/event/motherland-festival-2025/2025-12-19/
LOCATION:Motherland Ground\, CCPV+C3X\, Foreshore Road\, Victoria Island\, Lagos\, 106104\, Nigeria
CATEGORIES:Christmas in Lagos,Detty December
ATTACH;FMTTYPE=image/webp:https://viewlagos.ng/wp-content/uploads/2025/11/motherland.webp
END:VEVENT
BEGIN:VEVENT
DTSTART;TZID=Africa/Lagos:20251219T150000
DTEND;TZID=Africa/Lagos:20251219T170000
DTSTAMP:20260422T030006
CREATED:20251129T131324Z
LAST-MODIFIED:20251129T131355Z
UID:10003651-1766156400-1766163600@viewlagos.ng
SUMMARY:Busta Rhymes Live at Detty December Fest
DESCRIPTION:Legendary hip-hop icon Busta Rhymes storms Lagos for an unforgettable performance at Detty December Fest! Catch the global rap superstar live on 19th December at Ilubirin\, Ikoyi\, as he delivers an explosive set packed with high-energy anthems\, timeless classics\, and electrifying stage presence. \nThis is more than a concert—it’s a full-blown celebration of hip-hop culture\, nostalgia\, and world-class entertainment. Expect massive vibes\, premium production\, and a night that will go down as one of Detty December’s biggest moments. \n🎟 Secure your tickets now and don’t miss out! \nFor Tables & Reservations:📞 Contact the provided number via WhatsApp or Call: +44 7902 535584
URL:https://viewlagos.ng/event/busta-rhymes-live-at-detty-december-fest/
LOCATION:Ilubirin\, 37 Bourdillon Road\, Ikoyi\, Lagos\, 106104\, Nigeria
CATEGORIES:Christmas in Lagos,Concert,Detty December,Things To Do In Lagos
ATTACH;FMTTYPE=image/jpeg:https://viewlagos.ng/wp-content/uploads/2025/11/BUSTA-RETOUCH-1-e1763369475226.jpg
END:VEVENT
BEGIN:VEVENT
DTSTART;TZID=Africa/Lagos:20251219T153000
DTEND;TZID=Africa/Lagos:20251219T180000
DTSTAMP:20260422T030006
CREATED:20251202T222409Z
LAST-MODIFIED:20251202T222820Z
UID:10003654-1766158200-1766167200@viewlagos.ng
SUMMARY:The Forest of Talking Drums
DESCRIPTION:Step into the heartbeat of Kiboko—a sacred forest where drums breathe\, trees speak\, and every sound carries ancient power. The Forest of Talking Drums is a breathtaking fusion of myth\, music\, and storytelling. It follows the life of a young woman bound to an ancient power\, a gift that becomes both her strength and burden. This immersive show takes the audience into a world where the stage disappears\, and you become part of the forest’s rhythm and heartbeat.
URL:https://viewlagos.ng/event/the-forest-of-talking-drums/2025-12-19/1/
LOCATION:Africa Exhibition Services\, Plot E Ikosi Road\, Oregun\, Lagos\, 101233\, Nigeria
CATEGORIES:Christmas in Lagos,Theatre/Stage Play,Things To Do In Lagos
ATTACH;FMTTYPE=image/jpeg:https://viewlagos.ng/wp-content/uploads/2025/12/r17totodhhg50hwupvea.jpg
END:VEVENT
BEGIN:VEVENT
DTSTART;TZID=Africa/Lagos:20251219T183000
DTEND;TZID=Africa/Lagos:20251219T210000
DTSTAMP:20260422T030006
CREATED:20251202T222409Z
LAST-MODIFIED:20251202T222820Z
UID:10003655-1766169000-1766178000@viewlagos.ng
SUMMARY:The Forest of Talking Drums
DESCRIPTION:Step into the heartbeat of Kiboko—a sacred forest where drums breathe\, trees speak\, and every sound carries ancient power. The Forest of Talking Drums is a breathtaking fusion of myth\, music\, and storytelling. It follows the life of a young woman bound to an ancient power\, a gift that becomes both her strength and burden. This immersive show takes the audience into a world where the stage disappears\, and you become part of the forest’s rhythm and heartbeat.
URL:https://viewlagos.ng/event/the-forest-of-talking-drums/2025-12-19/2/
LOCATION:Africa Exhibition Services\, Plot E Ikosi Road\, Oregun\, Lagos\, 101233\, Nigeria
CATEGORIES:Christmas in Lagos,Theatre/Stage Play,Things To Do In Lagos
ATTACH;FMTTYPE=image/jpeg:https://viewlagos.ng/wp-content/uploads/2025/12/r17totodhhg50hwupvea.jpg
END:VEVENT
BEGIN:VEVENT
DTSTART;TZID=Africa/Lagos:20251220T073000
DTEND;TZID=Africa/Lagos:20251220T210000
DTSTAMP:20260422T030006
CREATED:20251209T174029Z
LAST-MODIFIED:20251209T174152Z
UID:10004416-1766215800-1766264400@viewlagos.ng
SUMMARY:The Family Secret
DESCRIPTION:Every family has it’s secret\, will you help them keep theirs? 🤔🤫\nWe are wrapping up the year with a bang 💥 as we present to you The Biggest Interactive Play Of The Year 🥳🎉\nGet your tickets now for a beautiful and unique experience this holiday period 🎊\nCome with your friends\, family\, colleagues & more 💃🏾🕺🏽 \nVenue: @thegardenikoyi\nDates: December 20th & 21st 2025\nTime : 5pm & 7:30pm\nTickets: Regular; 20\,000 | VIP; 40\,000 |\nGroup of 5 Regular: 90\,000 \nFor Tickets: whatsapp +44 7902 535584
URL:https://viewlagos.ng/event/the-family-secret/2025-12-20/1/
LOCATION:The Garden Ikoyi\, 8 Bayo Kuku Road\, Ikoyi\, Lagos\, 106104\, Nigeria
CATEGORIES:Christmas in Lagos,Theatre/Stage Play
ATTACH;FMTTYPE=image/jpeg:https://viewlagos.ng/wp-content/uploads/2025/06/familysecret.jpg
END:VEVENT
BEGIN:VEVENT
DTSTART;TZID=Africa/Lagos:20251220T100000
DTEND;TZID=Africa/Lagos:20251220T220000
DTSTAMP:20260422T030006
CREATED:20251128T140232Z
LAST-MODIFIED:20251128T140232Z
UID:10003619-1766224800-1766268000@viewlagos.ng
SUMMARY:The GTCO Food & Drink - Holiday Edition
DESCRIPTION:The GTCO Food & Drink Festival returns with its first-ever Holiday Edition. A joyful gathering of families\, friends\, and food lovers. \nWhat to expect:\n• 200+ food entrepreneurs to explore\n• Authentic Street food\n• Children’s play area\n• Live DJ experience \nThere’s something for everyone. \nAttendance is FREE! \nDates: December 20th and 21st\, 2025. \nVenue: GTCentre\, Plot 1 Water Corporation Drive\, Oniru\, Victoria Island\, Lagos.
URL:https://viewlagos.ng/event/the-gtco-food-drink-holiday-edition/2025-12-20/
LOCATION:GT Centre\, Plot 1 Water Corporation Drive\, Oniru\, Victoria Island\, Lagos\, 106104\, Nigeria
CATEGORIES:Christmas in Lagos,Things To Do In Lagos
ATTACH;FMTTYPE=image/jpeg:https://viewlagos.ng/wp-content/uploads/2025/11/gtcofest.jpg
END:VEVENT
BEGIN:VEVENT
DTSTART;TZID=Africa/Lagos:20251220T110000
DTEND;TZID=Africa/Lagos:20251221T000000
DTSTAMP:20260422T030006
CREATED:20251124T005222Z
LAST-MODIFIED:20251212T074936Z
UID:10003252-1766228400-1766275200@viewlagos.ng
SUMMARY:Motherland Festival 2025
DESCRIPTION:Three days. One city. The heartbeat of culture.\nMotherland 2025 transforms Lagos into a world of food\, fashion\, tech\, music\, panels\, villages\, and sunset parties\, all leading to a world class music festival with Nigeria’s biggest stars. A full cultural universe built for everyone\, and an experience you do not want to miss.
URL:https://viewlagos.ng/event/motherland-festival-2025/2025-12-20/
LOCATION:Motherland Ground\, CCPV+C3X\, Foreshore Road\, Victoria Island\, Lagos\, 106104\, Nigeria
CATEGORIES:Christmas in Lagos,Detty December
ATTACH;FMTTYPE=image/webp:https://viewlagos.ng/wp-content/uploads/2025/11/motherland.webp
END:VEVENT
BEGIN:VEVENT
DTSTART;TZID=Africa/Lagos:20251220T153000
DTEND;TZID=Africa/Lagos:20251220T180000
DTSTAMP:20260422T030006
CREATED:20251202T222409Z
LAST-MODIFIED:20251202T222820Z
UID:10003656-1766244600-1766253600@viewlagos.ng
SUMMARY:The Forest of Talking Drums
DESCRIPTION:Step into the heartbeat of Kiboko—a sacred forest where drums breathe\, trees speak\, and every sound carries ancient power. The Forest of Talking Drums is a breathtaking fusion of myth\, music\, and storytelling. It follows the life of a young woman bound to an ancient power\, a gift that becomes both her strength and burden. This immersive show takes the audience into a world where the stage disappears\, and you become part of the forest’s rhythm and heartbeat.
URL:https://viewlagos.ng/event/the-forest-of-talking-drums/2025-12-20/1/
LOCATION:Africa Exhibition Services\, Plot E Ikosi Road\, Oregun\, Lagos\, 101233\, Nigeria
CATEGORIES:Christmas in Lagos,Theatre/Stage Play,Things To Do In Lagos
ATTACH;FMTTYPE=image/jpeg:https://viewlagos.ng/wp-content/uploads/2025/12/r17totodhhg50hwupvea.jpg
END:VEVENT
BEGIN:VEVENT
DTSTART;TZID=Africa/Lagos:20251220T170000
DTEND;TZID=Africa/Lagos:20251220T190000
DTSTAMP:20260422T030006
CREATED:20251209T174029Z
LAST-MODIFIED:20251209T174152Z
UID:10004417-1766250000-1766257200@viewlagos.ng
SUMMARY:The Family Secret
DESCRIPTION:Every family has it’s secret\, will you help them keep theirs? 🤔🤫\nWe are wrapping up the year with a bang 💥 as we present to you The Biggest Interactive Play Of The Year 🥳🎉\nGet your tickets now for a beautiful and unique experience this holiday period 🎊\nCome with your friends\, family\, colleagues & more 💃🏾🕺🏽 \nVenue: @thegardenikoyi\nDates: December 20th & 21st 2025\nTime : 5pm & 7:30pm\nTickets: Regular; 20\,000 | VIP; 40\,000 |\nGroup of 5 Regular: 90\,000 \nFor Tickets: whatsapp +44 7902 535584
URL:https://viewlagos.ng/event/the-family-secret/2025-12-20/2/
LOCATION:The Garden Ikoyi\, 8 Bayo Kuku Road\, Ikoyi\, Lagos\, 106104\, Nigeria
CATEGORIES:Christmas in Lagos,Theatre/Stage Play
ATTACH;FMTTYPE=image/jpeg:https://viewlagos.ng/wp-content/uploads/2025/06/familysecret.jpg
END:VEVENT
BEGIN:VEVENT
DTSTART;TZID=Africa/Lagos:20251220T183000
DTEND;TZID=Africa/Lagos:20251220T210000
DTSTAMP:20260422T030006
CREATED:20251202T222409Z
LAST-MODIFIED:20251202T222820Z
UID:10003657-1766255400-1766264400@viewlagos.ng
SUMMARY:The Forest of Talking Drums
DESCRIPTION:Step into the heartbeat of Kiboko—a sacred forest where drums breathe\, trees speak\, and every sound carries ancient power. The Forest of Talking Drums is a breathtaking fusion of myth\, music\, and storytelling. It follows the life of a young woman bound to an ancient power\, a gift that becomes both her strength and burden. This immersive show takes the audience into a world where the stage disappears\, and you become part of the forest’s rhythm and heartbeat.
URL:https://viewlagos.ng/event/the-forest-of-talking-drums/2025-12-20/2/
LOCATION:Africa Exhibition Services\, Plot E Ikosi Road\, Oregun\, Lagos\, 101233\, Nigeria
CATEGORIES:Christmas in Lagos,Theatre/Stage Play,Things To Do In Lagos
ATTACH;FMTTYPE=image/jpeg:https://viewlagos.ng/wp-content/uploads/2025/12/r17totodhhg50hwupvea.jpg
END:VEVENT
BEGIN:VEVENT
DTSTART;TZID=Africa/Lagos:20251221T100000
DTEND;TZID=Africa/Lagos:20251221T220000
DTSTAMP:20260422T030006
CREATED:20251128T140232Z
LAST-MODIFIED:20251128T140232Z
UID:10003620-1766311200-1766354400@viewlagos.ng
SUMMARY:The GTCO Food & Drink - Holiday Edition
DESCRIPTION:The GTCO Food & Drink Festival returns with its first-ever Holiday Edition. A joyful gathering of families\, friends\, and food lovers. \nWhat to expect:\n• 200+ food entrepreneurs to explore\n• Authentic Street food\n• Children’s play area\n• Live DJ experience \nThere’s something for everyone. \nAttendance is FREE! \nDates: December 20th and 21st\, 2025. \nVenue: GTCentre\, Plot 1 Water Corporation Drive\, Oniru\, Victoria Island\, Lagos.
URL:https://viewlagos.ng/event/the-gtco-food-drink-holiday-edition/2025-12-21/
LOCATION:GT Centre\, Plot 1 Water Corporation Drive\, Oniru\, Victoria Island\, Lagos\, 106104\, Nigeria
CATEGORIES:Christmas in Lagos,Things To Do In Lagos
ATTACH;FMTTYPE=image/jpeg:https://viewlagos.ng/wp-content/uploads/2025/11/gtcofest.jpg
END:VEVENT
BEGIN:VEVENT
DTSTART;TZID=Africa/Lagos:20251221T120000
DTEND;TZID=Africa/Lagos:20251221T160000
DTSTAMP:20260422T030006
CREATED:20251119T100059Z
LAST-MODIFIED:20251119T100059Z
UID:10002843-1766318400-1766332800@viewlagos.ng
SUMMARY:Sunday Holiday Brunch
DESCRIPTION:Celebrate the season with a warm and vibrant holiday experience at the Kingdom Heights Sunday Holiday Brunch. Designed for both adults and children\, this festive brunch is the perfect way to unwind\, indulge\, and enjoy quality time with loved ones. \nExpect a delightful afternoon featuring: \n\n\nA lavish brunch spread with a variety of holiday favorites \n\n\nLive music to set the perfect Sunday mood \n\n\nA relaxed\, family-friendly atmosphere \n\n\nBeautiful outdoor dining at the Garden Area (Poolside) \n\n\nWhether you’re looking for a serene Sunday escape or a festive treat for the whole family\, this brunch offers the right blend of comfort\, flavor\, and holiday magic. \nDates\n\n\nDecember 21 \n\n\nDecember 28 \n\n\nTime\n12:00 PM – 4:00 PM \nTickets\n\n\nAdults: ₦60\,000 \n\n\nKids: ₦30\,000 \n\n\nVenue\nGarden Area (Poolside)\, Eko Hotels & Suites \nReservations & Tickets\n📞 0904 439 9013📧 experiencecurator@ekohotels.com🌐 www.ekohotels.com \nUnwind. Indulge. Celebrate.Your perfect holiday Sunday awaits.
URL:https://viewlagos.ng/event/sunday-holiday-brunch/2025-12-21/
LOCATION:Eko Hotel and Suites\, 1415 Adetokunbo Ademola Street\,\, Victoria Island\, Lagos State\, 106104\, Nigeria
CATEGORIES:Christmas in Lagos,Things To Do In Lagos
ATTACH;FMTTYPE=image/webp:https://viewlagos.ng/wp-content/uploads/2025/11/sundaybrunch.webp
END:VEVENT
BEGIN:VEVENT
DTSTART;TZID=Africa/Lagos:20251221T120000
DTEND;TZID=Africa/Lagos:20251221T200000
DTSTAMP:20260422T030006
CREATED:20251128T165024Z
LAST-MODIFIED:20251128T165024Z
UID:10003639-1766318400-1766347200@viewlagos.ng
SUMMARY:Amala and Palmwine Festival
DESCRIPTION:This festival is a vibrant celebration of the rich culinary heritage of SouthWestern Nigeria
URL:https://viewlagos.ng/event/amala-and-palmwine-festival/
LOCATION:the stable\, 43 Bode Thomas Street\, Surulere\, Lagos\, Lagos\, 101283\, Nigeria
CATEGORIES:Christmas in Lagos,Festival,Things To Do In Lagos
ATTACH;FMTTYPE=image/jpeg:https://viewlagos.ng/wp-content/uploads/2025/11/aala.jpeg
END:VEVENT
BEGIN:VEVENT
DTSTART;TZID=Africa/Lagos:20251221T153000
DTEND;TZID=Africa/Lagos:20251221T180000
DTSTAMP:20260422T030006
CREATED:20251202T222409Z
LAST-MODIFIED:20251202T222820Z
UID:10003658-1766331000-1766340000@viewlagos.ng
SUMMARY:The Forest of Talking Drums
DESCRIPTION:Step into the heartbeat of Kiboko—a sacred forest where drums breathe\, trees speak\, and every sound carries ancient power. The Forest of Talking Drums is a breathtaking fusion of myth\, music\, and storytelling. It follows the life of a young woman bound to an ancient power\, a gift that becomes both her strength and burden. This immersive show takes the audience into a world where the stage disappears\, and you become part of the forest’s rhythm and heartbeat.
URL:https://viewlagos.ng/event/the-forest-of-talking-drums/2025-12-21/
LOCATION:Africa Exhibition Services\, Plot E Ikosi Road\, Oregun\, Lagos\, 101233\, Nigeria
CATEGORIES:Christmas in Lagos,Theatre/Stage Play,Things To Do In Lagos
ATTACH;FMTTYPE=image/jpeg:https://viewlagos.ng/wp-content/uploads/2025/12/r17totodhhg50hwupvea.jpg
END:VEVENT
BEGIN:VEVENT
DTSTART;TZID=Africa/Lagos:20251221T160000
DTEND;TZID=Africa/Lagos:20251221T200000
DTSTAMP:20260422T030006
CREATED:20251128T141943Z
LAST-MODIFIED:20251128T141943Z
UID:10003622-1766332800-1766347200@viewlagos.ng
SUMMARY:The City Choir Christmas Concert
DESCRIPTION:500 voices. One sound. An unforgettable Christmas experience. \nJoin the 500 City Choir as they light up the season with powerful carols\, live music\, stirring dramatic performances\, and heartfelt worship that tells the true story of Christmas. \nThis is more than a concert — it’s a celebration of hope\, joy\, and the greatest gift of all\, Christ. Every note\, every moment\, is designed to draw you into the wonder of the season. \nCome expectant.Come ready to experience Christmas like never before. \nDon’t miss it — this is set to be the carol of the year.
URL:https://viewlagos.ng/event/the-city-choir-christmas-concert/
LOCATION:The Freedom Centre\, 1 Freedom Way\, Lekki Phase 1\, Lagos\, 106104\, Nigeria
CATEGORIES:Christmas in Lagos,Gospel Concert
ATTACH;FMTTYPE=image/webp:https://viewlagos.ng/wp-content/uploads/2025/11/carol.webp
END:VEVENT
BEGIN:VEVENT
DTSTART;TZID=Africa/Lagos:20251221T160000
DTEND;TZID=Africa/Lagos:20251221T200000
DTSTAMP:20260422T030006
CREATED:20251209T171618Z
LAST-MODIFIED:20251209T171618Z
UID:10004413-1766332800-1766347200@viewlagos.ng
SUMMARY:The City Choir Christmas Concert : When Heaven Touched Earth
DESCRIPTION:500 voices. One sound. An unforgettable Christmas experience!\nJoin us as the 500 City Choir lights up the season with powerful carols\, live music\, dramatic performances\, and worship that captures the true story of Christmas.\nIt’s more than a concert; it’s a celebration of hope\, joy\, and the gift of Christ.\nCome expectant. Come ready to encounter Christmas like never before.\nDon’t miss it\,its going to be the carol of the year!
URL:https://viewlagos.ng/event/the-city-choir-christmas-concert-when-heaven-touched-earth/
LOCATION:The Freedom Centre\, 1 Freedom Way\, Lekki Phase 1\, Lagos\, 106104\, Nigeria
CATEGORIES:Christmas in Lagos,Gospel Concert
ATTACH;FMTTYPE=image/webp:https://viewlagos.ng/wp-content/uploads/2025/12/citychoir.webp
END:VEVENT
BEGIN:VEVENT
DTSTART;TZID=Africa/Lagos:20251221T170000
DTEND;TZID=Africa/Lagos:20251221T190000
DTSTAMP:20260422T030006
CREATED:20251209T174029Z
LAST-MODIFIED:20251209T174152Z
UID:10004418-1766336400-1766343600@viewlagos.ng
SUMMARY:The Family Secret
DESCRIPTION:Every family has it’s secret\, will you help them keep theirs? 🤔🤫\nWe are wrapping up the year with a bang 💥 as we present to you The Biggest Interactive Play Of The Year 🥳🎉\nGet your tickets now for a beautiful and unique experience this holiday period 🎊\nCome with your friends\, family\, colleagues & more 💃🏾🕺🏽 \nVenue: @thegardenikoyi\nDates: December 20th & 21st 2025\nTime : 5pm & 7:30pm\nTickets: Regular; 20\,000 | VIP; 40\,000 |\nGroup of 5 Regular: 90\,000 \nFor Tickets: whatsapp +44 7902 535584
URL:https://viewlagos.ng/event/the-family-secret/2025-12-21/1/
LOCATION:The Garden Ikoyi\, 8 Bayo Kuku Road\, Ikoyi\, Lagos\, 106104\, Nigeria
CATEGORIES:Christmas in Lagos,Theatre/Stage Play
ATTACH;FMTTYPE=image/jpeg:https://viewlagos.ng/wp-content/uploads/2025/06/familysecret.jpg
END:VEVENT
BEGIN:VEVENT
DTSTART;TZID=Africa/Lagos:20251221T193000
DTEND;TZID=Africa/Lagos:20251221T210000
DTSTAMP:20260422T030006
CREATED:20251209T174029Z
LAST-MODIFIED:20251209T174152Z
UID:10004419-1766345400-1766350800@viewlagos.ng
SUMMARY:The Family Secret
DESCRIPTION:Every family has it’s secret\, will you help them keep theirs? 🤔🤫\nWe are wrapping up the year with a bang 💥 as we present to you The Biggest Interactive Play Of The Year 🥳🎉\nGet your tickets now for a beautiful and unique experience this holiday period 🎊\nCome with your friends\, family\, colleagues & more 💃🏾🕺🏽 \nVenue: @thegardenikoyi\nDates: December 20th & 21st 2025\nTime : 5pm & 7:30pm\nTickets: Regular; 20\,000 | VIP; 40\,000 |\nGroup of 5 Regular: 90\,000 \nFor Tickets: whatsapp +44 7902 535584
URL:https://viewlagos.ng/event/the-family-secret/2025-12-21/2/
LOCATION:The Garden Ikoyi\, 8 Bayo Kuku Road\, Ikoyi\, Lagos\, 106104\, Nigeria
CATEGORIES:Christmas in Lagos,Theatre/Stage Play
ATTACH;FMTTYPE=image/jpeg:https://viewlagos.ng/wp-content/uploads/2025/06/familysecret.jpg
END:VEVENT
BEGIN:VEVENT
DTSTART;TZID=Africa/Lagos:20251221T200000
DTEND;TZID=Africa/Lagos:20251221T230000
DTSTAMP:20260422T030006
CREATED:20251121T102808Z
LAST-MODIFIED:20251121T102809Z
UID:10002859-1766347200-1766358000@viewlagos.ng
SUMMARY:MARY – The Musical Theatre
DESCRIPTION:Experience Christmas like never before as the timeless story of the birth of Jesus is reimagined in a breathtaking musical production. MARY: The Musical Theatre brings the true essence of Christmas to life with an ethereal performance that blends emotion\, artistry\, and wonder into one unforgettable masterpiece. \nThis isn’t the familiar story you’ve always known—this is a spectacular retelling\, staged with depth\, beauty\, and creativity that will leave you truly mesmerized. Follow the journey of one woman\, one promise\, and one miracle in a production designed to move hearts and ignite the spirit of the season. \nShow Details\nDates: \n\n\nDecember 22 \n\n\nDecember 23 \n\n\nDecember 29 \n\n\nDecember 31\, 2025 \n\n\nTime:8:00 PM \nVenue:Kingdom Square\, Car Park B\, Eko Hotels & Suites \nTicket:₦50\,000 \nJoin us for a magical night that celebrates faith\, hope\, and the extraordinary miracle at the heart of Christmas.
URL:https://viewlagos.ng/event/mary-the-musical-theatre-2/
LOCATION:Kingdom Square Car Park\, 1415 Adetokunbo Ademola Street\, Victoria Island\, Lagos\, 106104\, Nigeria
CATEGORIES:Christmas in Lagos,Things To Do In Lagos
ATTACH;FMTTYPE=image/png:https://viewlagos.ng/wp-content/uploads/2025/11/marythe-musical.png
END:VEVENT
END:VCALENDAR