BEGIN:VCALENDAR
VERSION:2.0
PRODID:-//VIEWLAGOS - ECPv6.15.11//NONSGML v1.0//EN
CALSCALE:GREGORIAN
METHOD:PUBLISH
X-WR-CALNAME:VIEWLAGOS
X-ORIGINAL-URL:https://viewlagos.ng
X-WR-CALDESC:Events for VIEWLAGOS
REFRESH-INTERVAL;VALUE=DURATION:PT1H
X-Robots-Tag:noindex
X-PUBLISHED-TTL:PT1H
BEGIN:VTIMEZONE
TZID:Africa/Lagos
BEGIN:STANDARD
TZOFFSETFROM:+0100
TZOFFSETTO:+0100
TZNAME:WAT
DTSTART:20250101T000000
END:STANDARD
END:VTIMEZONE
BEGIN:VEVENT
DTSTART;TZID=Africa/Lagos:20260602T100000
DTEND;TZID=Africa/Lagos:20260602T180000
DTSTAMP:20260419T233223
CREATED:20260331T233542Z
LAST-MODIFIED:20260331T233542Z
UID:10006261-1780394400-1780423200@viewlagos.ng
SUMMARY:Scientifrika 2026 - Live Labs
DESCRIPTION:Step into a world where innovation meets imagination at Scientifrika Live Labs — an immersive experience where science truly comes alive. \nFrom hands-on experiments to groundbreaking discoveries and live tech demonstrations\, this event brings science out of the classroom and into real-time action. Designed for curious minds\, innovators\, students\, and enthusiasts\, Scientifrika Live Labs offers a unique opportunity to explore the future through interactive learning and engaging showcases. \nMore than just an exhibition\, it’s a dynamic experience that inspires creativity\, sparks curiosity\, and connects people with the power of science and technology. \n📅 Date: June 2 – 4\, 2026 \nRegister now and be part of the future. 🚀
URL:https://viewlagos.ng/event/scientifrika-2026-live-labs/2026-06-02/
LOCATION:Oriental Hotel\, 3 Lekki - Epe Expy\, Victoria Island\, Victoria Island\, Lagos\, 106104\, Nigeria
CATEGORIES:Conference,Exhibition
ATTACH;FMTTYPE=image/jpeg:https://viewlagos.ng/wp-content/uploads/2026/04/657549221_17871873981578269_3157639924793998817_n.jpg
END:VEVENT
BEGIN:VEVENT
DTSTART;TZID=Africa/Lagos:20260603T100000
DTEND;TZID=Africa/Lagos:20260603T180000
DTSTAMP:20260419T233223
CREATED:20260331T233542Z
LAST-MODIFIED:20260331T233542Z
UID:10006262-1780480800-1780509600@viewlagos.ng
SUMMARY:Scientifrika 2026 - Live Labs
DESCRIPTION:Step into a world where innovation meets imagination at Scientifrika Live Labs — an immersive experience where science truly comes alive. \nFrom hands-on experiments to groundbreaking discoveries and live tech demonstrations\, this event brings science out of the classroom and into real-time action. Designed for curious minds\, innovators\, students\, and enthusiasts\, Scientifrika Live Labs offers a unique opportunity to explore the future through interactive learning and engaging showcases. \nMore than just an exhibition\, it’s a dynamic experience that inspires creativity\, sparks curiosity\, and connects people with the power of science and technology. \n📅 Date: June 2 – 4\, 2026 \nRegister now and be part of the future. 🚀
URL:https://viewlagos.ng/event/scientifrika-2026-live-labs/2026-06-03/
LOCATION:Oriental Hotel\, 3 Lekki - Epe Expy\, Victoria Island\, Victoria Island\, Lagos\, 106104\, Nigeria
CATEGORIES:Conference,Exhibition
ATTACH;FMTTYPE=image/jpeg:https://viewlagos.ng/wp-content/uploads/2026/04/657549221_17871873981578269_3157639924793998817_n.jpg
END:VEVENT
BEGIN:VEVENT
DTSTART;TZID=Africa/Lagos:20260604T100000
DTEND;TZID=Africa/Lagos:20260604T180000
DTSTAMP:20260419T233223
CREATED:20260331T233542Z
LAST-MODIFIED:20260331T233542Z
UID:10006263-1780567200-1780596000@viewlagos.ng
SUMMARY:Scientifrika 2026 - Live Labs
DESCRIPTION:Step into a world where innovation meets imagination at Scientifrika Live Labs — an immersive experience where science truly comes alive. \nFrom hands-on experiments to groundbreaking discoveries and live tech demonstrations\, this event brings science out of the classroom and into real-time action. Designed for curious minds\, innovators\, students\, and enthusiasts\, Scientifrika Live Labs offers a unique opportunity to explore the future through interactive learning and engaging showcases. \nMore than just an exhibition\, it’s a dynamic experience that inspires creativity\, sparks curiosity\, and connects people with the power of science and technology. \n📅 Date: June 2 – 4\, 2026 \nRegister now and be part of the future. 🚀
URL:https://viewlagos.ng/event/scientifrika-2026-live-labs/2026-06-04/
LOCATION:Oriental Hotel\, 3 Lekki - Epe Expy\, Victoria Island\, Victoria Island\, Lagos\, 106104\, Nigeria
CATEGORIES:Conference,Exhibition
ATTACH;FMTTYPE=image/jpeg:https://viewlagos.ng/wp-content/uploads/2026/04/657549221_17871873981578269_3157639924793998817_n.jpg
END:VEVENT
BEGIN:VEVENT
DTSTART;TZID=Africa/Lagos:20260613T090000
DTEND;TZID=Africa/Lagos:20260613T160000
DTSTAMP:20260419T233223
CREATED:20260224T182552Z
LAST-MODIFIED:20260224T182552Z
UID:10005366-1781341200-1781366400@viewlagos.ng
SUMMARY:COMPLYFEST 2026
DESCRIPTION:COMPLYFEST is a specialized\, high-impact gathering dedicated to advancing conversations around Governance\, Risk\, and Compliance (GRC). Designed as a forward-thinking platform\, the event brings together professionals\, regulators\, policymakers\, executives\, and institutional leaders to explore the evolving landscape of compliance\, regulatory integrity\, and corporate governance. \n\n\n\n\n\n\n\n\nIn today’s rapidly shifting regulatory and technological environment\, organizations must move beyond reactive compliance and embrace proactive\, resilient frameworks. COMPLYFEST exists to drive those conversations. It creates a structured space for in-depth dialogue on regulatory developments\, risk management strategies\, ethical leadership\, internal controls\, cybersecurity governance\, ESG accountability\, and emerging global standards shaping the future of business and public institutions. \nThrough keynote sessions\, expert panels\, case studies\, and interactive discussions\, participants gain actionable insights into compliance best practices and practical tools for strengthening institutional integrity. The event also examines cross-sector collaboration\, the role of technology in regulatory oversight\, and how organizations can embed governance into their culture rather than treating it as a checkbox exercise. \nCOMPLYFEST serves as a true convergence point — uniting compliance professionals\, legal experts\, audit leaders\, risk officers\, regulators\, and forward-looking organizations committed to building transparent\, accountable\, and future-ready institutions. It is not just a conference; it is a knowledge exchange hub and a community-building experience for those dedicated to shaping ethical\, resilient systems in both the public and private sectors. \nBy fostering meaningful engagement and thought leadership\, COMPLYFEST continues to strengthen the ecosystem of professionals working to uphold regulatory standards and drive sustainable institutional growth.
URL:https://viewlagos.ng/event/complyfest-2026/
LOCATION:Lagos\, Lagos\, Lagos\, 100101\, Nigeria
CATEGORIES:Conference,Expo,Festival
ATTACH;FMTTYPE=image/webp:https://viewlagos.ng/wp-content/uploads/2026/02/yzyj87qiohnpawyqswfx-scaled.webp
END:VEVENT
BEGIN:VEVENT
DTSTART;TZID=Africa/Lagos:20260613T100000
DTEND;TZID=Africa/Lagos:20260613T210000
DTSTAMP:20260419T233223
CREATED:20260331T230718Z
LAST-MODIFIED:20260331T230718Z
UID:10006257-1781344800-1781384400@viewlagos.ng
SUMMARY:ComplyFest 2026
DESCRIPTION:COMPLYFEST 2026 is a carefully curated experience for professionals who are shaping Governance\, Risk & Compliance across Africa with a focus on the finance\, technology and telecoms sector which brings about a complete ecosystem. \nBuilt for decision-makers\, forward-thinking compliance leaders\, regulators\, and innovators\, this is where meaningful conversations happen; the kind that challenge thinking\, spark collaboration\, and drive real change. \nWith this year’s focus on driving GRC through innovation\, we are bringing together the people and perspectives redefining how compliance works in a rapidly evolving world. \nIf you’re looking for more than surface-level insights \, you value depth\, relevance\, and powerful connections then this is your room. \n📍 Lagos\, Nigeria\n📅 13th June 2026 \n🎟 Register now to join a community that’s not just keeping up but leading. Secure your seat. Register via link in bio.
URL:https://viewlagos.ng/event/complyfest-2026-2/
LOCATION:Lagos\, Lagos\, Lagos\, 100101\, Nigeria
CATEGORIES:Business,Career,Conference,Education
END:VEVENT
BEGIN:VEVENT
DTSTART;TZID=Africa/Lagos:20261107T090000
DTEND;TZID=Africa/Lagos:20261107T170000
DTSTAMP:20260419T233223
CREATED:20260302T154322Z
LAST-MODIFIED:20260302T154546Z
UID:10005397-1794042000-1794070800@viewlagos.ng
SUMMARY:WORKPLACE LEADERSHIP CONFERENCE
DESCRIPTION:WORKPLACE LEADERSHIP CONFERENCE\, LAGOS\, NIGERIA NOVEMBER 7TH\, 2026 \nIt is with great pleasure that we invite you to register for the Workplace Leadership Conference\, Nigeria holding on November 7th\, 2026 at The Lagos Marriot Hotel\, Ikeja 122 Joel Ogunnaike Street\, Ikeja GRA\, Lagos\, Nigeria \nThis year’s theme: LEADING WORKPLACE TRANSFORMATION \nJoin industry leaders\, executives\, HR professionals\, entrepreneurs\, and decision-makers from around the world for a one-day\, high-impact conference focused on the realities of today’s workplace. \nExpect real conversations on:\n• Organizational culture\n• Inclusive leadership & workplace diversity\n• Workplace mental health & safety\n• Employee engagement\n• Emotional intelligence\n• AI in the workplace\n• Coaching and mentorship for talent management\, etc. \nWHY ATTEND? \n• Learn from top experts\n• Connect with high-level professionals\n• Gain tools to lead change confidently\n• Receive a certificate of participation \nCONFERENCE DETAILS: \nDATE: NOVEMBER 7TH\, 2026\nTIME: 9am-5pm\nVENUE: The Lagos Marriot Hotel\, Ikeja 122 Joel Ogunnaike Street\, Ikeja GRA\, Lagos\, Nigeria
URL:https://viewlagos.ng/event/workplace-leadership-conference/
LOCATION:Lagos Marriott Hotel Ikeja\, 122 Joel Ogunnaike Street Lagos\, LA 100271122 Joel Ogunnaike Street Lagos\, LA\, Ikeja GRA\, Lagos\, 100271\, Nigeria
CATEGORIES:Business,Career,Conference
ATTACH;FMTTYPE=image/webp:https://viewlagos.ng/wp-content/uploads/2026/03/SaveClip.App_641257676_18081861188256293_5169021376759986429_n.webp
END:VEVENT
END:VCALENDAR