BEGIN:VCALENDAR
VERSION:2.0
PRODID:-//VIEWLAGOS - ECPv6.15.11//NONSGML v1.0//EN
CALSCALE:GREGORIAN
METHOD:PUBLISH
X-WR-CALNAME:VIEWLAGOS
X-ORIGINAL-URL:https://viewlagos.ng
X-WR-CALDESC:Events for VIEWLAGOS
REFRESH-INTERVAL;VALUE=DURATION:PT1H
X-Robots-Tag:noindex
X-PUBLISHED-TTL:PT1H
BEGIN:VTIMEZONE
TZID:Africa/Lagos
BEGIN:STANDARD
TZOFFSETFROM:+0100
TZOFFSETTO:+0100
TZNAME:WAT
DTSTART:20250101T000000
END:STANDARD
END:VTIMEZONE
BEGIN:VEVENT
DTSTART;TZID=Africa/Lagos:20260317T100000
DTEND;TZID=Africa/Lagos:20260318T170000
DTSTAMP:20260422T022551
CREATED:20260313T183909Z
LAST-MODIFIED:20260313T183909Z
UID:10005431-1773741600-1773853200@viewlagos.ng
SUMMARY:The Money Fair (W.I.S.E 1.0)
DESCRIPTION:Registration is on for The Money Fair (W.I.S.E 1.0) by Nairametrics. \nFor two days\, investors\, market experts\, financial institutions\, and regulators will come together to discuss practical strategies around Wealth\, Investment\, Savings\, and Endowment\, and what it means for the future of money in Nigeria. \nIf you’re serious about growing\, protecting\, and positioning your money better in 2026\, this is a room you want to be in. \n📅 17th–18th March 2026\n📍 Landmark Events Centre\, Lagos\n🕙 10:00 AM
URL:https://viewlagos.ng/event/the-money-fair-w-i-s-e-1-0/
LOCATION:Landmark Event Centre\, Plot 2 & 3\, Water Corporation Drive\, Victoria Island\, Lagos State\, 106104\, Nigeria
CATEGORIES:Business,Conference
ATTACH;FMTTYPE=image/jpeg:https://viewlagos.ng/wp-content/uploads/2026/03/SaveClip.App_645953926_1407218597849623_8685557651919534372_n.jpg
END:VEVENT
END:VCALENDAR