BEGIN:VCALENDAR
VERSION:2.0
PRODID:-//VIEWLAGOS - ECPv6.15.11//NONSGML v1.0//EN
CALSCALE:GREGORIAN
METHOD:PUBLISH
X-WR-CALNAME:VIEWLAGOS
X-ORIGINAL-URL:https://viewlagos.ng
X-WR-CALDESC:Events for VIEWLAGOS
REFRESH-INTERVAL;VALUE=DURATION:PT1H
X-Robots-Tag:noindex
X-PUBLISHED-TTL:PT1H
BEGIN:VTIMEZONE
TZID:Africa/Lagos
BEGIN:STANDARD
TZOFFSETFROM:+0100
TZOFFSETTO:+0100
TZNAME:WAT
DTSTART:20250101T000000
END:STANDARD
END:VTIMEZONE
BEGIN:VEVENT
DTSTART;TZID=Africa/Lagos:20260324T090000
DTEND;TZID=Africa/Lagos:20260324T170000
DTSTAMP:20260421T211420
CREATED:20260302T163429Z
LAST-MODIFIED:20260302T163429Z
UID:10005402-1774342800-1774371600@viewlagos.ng
SUMMARY:Scrum Day Nigeria 2026
DESCRIPTION:Scrum Day Nigeria 2026\nBuilding Better Products — Sooner\, Safer\, Happier \nScrum Day Nigeria is back for its second edition after a breakout debut year — and in 2026\, we’re going deeper\, more practical\, and even more impactful. \nIn March 2025\, over 150 practitioners gathered to exchange ideas\, sharpen their craft\, and rethink how great products are built. Leading organizations including CSCS\, Fidelity Bank\, KPMG\, Wakanow\, Maxima Productions\, and GoPaddi supported the event — and the feedback was overwhelmingly positive. \nOn March 24\, 2026\, we return — bigger\, sharper\, and laser-focused on helping teams deliver value faster without sacrificing quality\, sustainability\, or team health. \n📍 Lagos Oriental Hotel🕘 9:00AM – 5:00PM \nWho Should Attend\nScrum Day Nigeria is designed for professionals accountable for building and delivering real business outcomes: \nProduct Managers & Product Owners • Scrum Masters • Delivery Leads • Engineering Managers • Developers • Designers • QA & Testing Professionals • Agile/Lean/DevOps Coaches • Platform & SRE Teams • Technology & Product Leaders \nIf you care about building better products in complex environments — this is your room.
URL:https://viewlagos.ng/event/scrum-day-nigeria-2026/
LOCATION:Oriental Hotel\, 3 Lekki - Epe Expy\, Victoria Island\, Victoria Island\, Lagos\, 106104\, Nigeria
CATEGORIES:Business,Conference,Networking
ATTACH;FMTTYPE=image/jpeg:https://viewlagos.ng/wp-content/uploads/2026/03/SaveClip.App_641250192_2315485998926645_5184777320003324462_n.jpg
END:VEVENT
BEGIN:VEVENT
DTSTART;TZID=Africa/Lagos:20260325T090000
DTEND;TZID=Africa/Lagos:20260325T170000
DTSTAMP:20260421T211420
CREATED:20260319T211040Z
LAST-MODIFIED:20260319T211040Z
UID:10005442-1774429200-1774458000@viewlagos.ng
SUMMARY:Future of Agriculture Conference 2026
DESCRIPTION:Africa has the land\, we have the farmers. \nYet food insecurity keeps rising. \nThe problem isn’t potential. \nIt’s inputs\, infrastructure\, and systems that work at scale. \nSeeds. Fertilizers. Financing.\nStorage. Processing. Market access. \nWhen these pieces fail\, yields collapse. However\, when they work\, agriculture becomes the most powerful engine for food security\, jobs\, and economic growth. \nThat’s why the BusinessDay Future of Agriculture Conference 2026 is bringing together the leaders building the systems Africa’s food future depends on. \nFrom policymakers and agribusiness executives to investors and value-chain innovators\, this is where the real conversations about scaling agricultural productivity will happen. \nIf you work in agribusiness\, food production\, finance\, policy\, or agricultural innovation\, this is a room you should be in. \nBecause Africa’s food future will not be solved on farms alone. \nIt will be solved through collaboration across the entire ecosystem. \nDate: March 25\, 2026\nTime: 9:00 AM\nVenue: Four Points by Sheraton\, Victoria Island\, Lagos
URL:https://viewlagos.ng/event/future-of-agriculture-conference-2026/
LOCATION:Four Points by Sheraton\, Plot 9/10 Block 2 Oniru Chieftaincy Estate\, Victoria Island\, Lagos State\, 021189\, Nigeria
CATEGORIES:Business,Conference,Networking
ATTACH;FMTTYPE=image/png:https://viewlagos.ng/wp-content/uploads/2026/03/FOA-SOCIAL-MEDIA-COPY-1-1636x2048-1.png
END:VEVENT
BEGIN:VEVENT
DTSTART;TZID=Africa/Lagos:20260327T100000
DTEND;TZID=Africa/Lagos:20260327T180000
DTSTAMP:20260421T211420
CREATED:20260321T154837Z
LAST-MODIFIED:20260321T154837Z
UID:10005451-1774605600-1774634400@viewlagos.ng
SUMMARY:Signal by Sidebrief
DESCRIPTION:​Signal is a quarterly event by Sidebrief bringing together 20 founders\, investors\, operators\, and ecosystem leaders across five panel sessions for a day of focused\, no-fluff conversations about building in Africa. \n​From regulatory playbooks to raising capital\, scaling operations to founder storytelling\, each edition delivers the insights that actually move the needle. \n​The Inaugural Edition — March 27\, 2026 \n​Five panels. Twenty speakers. One afternoon. \n​→ Regulatory & Operations — navigating compliance\, HR\, and legal frameworks \n​→ Ecosystem & Start-up Support — accelerators\, partnerships\, and founder resources \n​→ Raising Capital & Investment — fundraising\, due diligence\, and investor relations \n​→ Scaling & Expansion — growth infrastructure\, new markets\, and operational scale \n​→ Founder Stories + Media — visibility\, storytelling\, and building in public \n​Speakers from: HR Leverage\, Sidebrief\, Detail Solicitors\, Impact Hub\, T2 Mobile\, Velocity Capital\, Enza Capital\, Diligence Africa\, EchoVC\, Terminal Africa\, Seamfix\, CDCare\, Zabira\, Towntalk\, TechCabal\, Techpoint Africa\, and more. \n​Details \n​Date: Friday\, March 27\, 2026 Time: 10:00 AM — 6:00 PM WAT \n​Venue: Impact Hub Lagos\, 22 Glover Rd\, Ikoyi\, Lagos \n​After-party: Networking and drinks from 6:00 PM \n​In partnership with Impact Hub Lagos and Diligence Africa. \n​If you’re building\, funding\, or scaling a startup in Africa — this is your quarterly checkpoint.
URL:https://viewlagos.ng/event/signal-by-sidebrief/
LOCATION:Impact Hub Lagos\, 22 Glover Rd\, Ikoyi\, Lagos 101233\, Lagos\, Nigeria\, Lagos\, Lagos\, 101233\, Nigeria
CATEGORIES:Conference,Networking
ATTACH;FMTTYPE=image/jpeg:https://viewlagos.ng/wp-content/uploads/2026/03/651895974_1091412533169204_3841155530608451936_n-1.jpg
END:VEVENT
BEGIN:VEVENT
DTSTART;TZID=Africa/Lagos:20260328T100000
DTEND;TZID=Africa/Lagos:20260328T140000
DTSTAMP:20260421T211420
CREATED:20260131T232338Z
LAST-MODIFIED:20260131T232338Z
UID:10005255-1774692000-1774706400@viewlagos.ng
SUMMARY:The Techsemane Conference
DESCRIPTION:The Techsemane Conference is a high-impact gathering designed to raise young minds into builders\, innovators\, and thought leaders across technology\, business\, creativity\, and leadership.\nIn a world shaped by rapid technological change\, many young people struggle with self-doubt\, limited thinking\, and fear of impact. Techsemane exists to close that gap — not just by equipping attendees with skills\, but by expanding their mindset\, unlocking belief\, and activating bold action. \n\nThis year’s theme\, VISION\, challenges participants to see beyond their current limits\, reimagine what’s possible\, and transform ideas into meaningful breakthroughs. \n\nWhat to Expect\n\nPowerful keynote sessions on mindset\, innovation\, and purpose\nPractical talks on turning ideas into real-world impact\nPanels featuring industry leaders\, builders\, and creators\nNetworking with ambitious young professionals and founders\nInspiration\, clarity\, and tools to move from potential to execution\n\n\nWho Should Attend\n\nStudents and young professionals\nFounders\, developers\, designers\, and creators\nInnovators\, dreamers\, and future leaders\nAnyone ready to break mental barriers and build boldly\n\n\nOur Mission\nTo raise and equip young minds not only as builders and thought leaders\, but as people who truly believe in their ability to shape the future.\n\nIt is possible. The future belongs to those who can first of all see themselves building it.
URL:https://viewlagos.ng/event/the-techsemane-conference/
LOCATION:Wole Soyinka Centre for Culture and Creative Arts (National Theatre Nigeria)\, Iganmu\, Lagos Apapa Local Government\, Iganmu\, Lagos\, Nigeria
CATEGORIES:Conference
ATTACH;FMTTYPE=image/webp:https://viewlagos.ng/wp-content/uploads/2026/02/oyekufi2cbmwno3vkvxi.webp
END:VEVENT
BEGIN:VEVENT
DTSTART;TZID=Africa/Lagos:20260329T120000
DTEND;TZID=Africa/Lagos:20260329T170000
DTSTAMP:20260421T211420
CREATED:20260225T133136Z
LAST-MODIFIED:20260225T133136Z
UID:10005376-1774785600-1774803600@viewlagos.ng
SUMMARY:The IK Talks
DESCRIPTION:The IK Talks is a seminar-style series thoughtfully created as a growth platform for aspiring presenters\, public speakers\, OAPs\, MCs\, and media personalities who are ready to refine their craft and elevate their careers. Designed to bridge the gap between passion and professionalism\, this series gives young talents direct access to years of real-world industry experience and practical knowledge. \nEach quarterly session is intentionally structured to go beyond surface-level motivation. The IK Talks dives deep into the realities of the media and events industry — covering essential topics such as presentation mastery\, stage confidence\, audience engagement\, voice control\, branding\, professionalism\, and the unspoken etiquettes that define true industry excellence. \nParticipants will gain insight into the values and principles that sustain long-term success\, from business ethics and personal discipline to building credibility and navigating opportunities strategically. The goal is not just to inspire\, but to equip attendees with tangible tools they can immediately apply in their careers. \nWhether you’re just starting out\, looking to sharpen your skills\, or preparing to step confidently into bigger rooms\, The IK Talks provides an environment for learning\, interaction\, mentorship\, and growth. It’s a space where emerging voices are nurtured and future industry leaders are shaped. \n📍 At The Anthonia📅 March 29th
URL:https://viewlagos.ng/event/the-ik-talks/
LOCATION:The Anthonia by Civic Centre\, 11b Oyinkan Abayomi Dr\, Ikoyi\, Lagos 106104\, Lagos\, Lagos\, Lagos\, 106104\, Nigeria
CATEGORIES:Career,Conference,Education
ATTACH;FMTTYPE=image/jpeg:https://viewlagos.ng/wp-content/uploads/2026/02/SaveClip.App_641049044_18562457947050728_347341147430295578_n.jpg
END:VEVENT
END:VCALENDAR