BEGIN:VCALENDAR
VERSION:2.0
PRODID:-//VIEWLAGOS - ECPv6.15.11//NONSGML v1.0//EN
CALSCALE:GREGORIAN
METHOD:PUBLISH
X-ORIGINAL-URL:https://viewlagos.ng
X-WR-CALDESC:Events for VIEWLAGOS
REFRESH-INTERVAL;VALUE=DURATION:PT1H
X-Robots-Tag:noindex
X-PUBLISHED-TTL:PT1H
BEGIN:VTIMEZONE
TZID:Africa/Lagos
BEGIN:STANDARD
TZOFFSETFROM:+0100
TZOFFSETTO:+0100
TZNAME:WAT
DTSTART:20250101T000000
END:STANDARD
END:VTIMEZONE
BEGIN:VEVENT
DTSTART;TZID=Africa/Lagos:20260331T090000
DTEND;TZID=Africa/Lagos:20260331T130000
DTSTAMP:20260419T201828
CREATED:20260218T211801Z
LAST-MODIFIED:20260218T211801Z
UID:10005341-1774947600-1774962000@viewlagos.ng
SUMMARY:Energy Conference 2026
DESCRIPTION:Nigeria’s power story is changing.\nAnd the next chapter won’t be written from Abuja alone.\nStates are stepping in. New models are emerging.\nCapital\, policy\, and technology are being re-aligned beyond the grid.\nThis is where the real conversations happen – on power generation\, distribution\, financing\, and what it takes to build energy systems that actually work.\nIf you’re serious about energy\, infrastructure\, or investment in Nigeria’s power future\, this is the room you need to be in.\nBeyond theory.\nBeyond the grid.\nInto execution. \nRegister now and be part of the shift.\nhttps://conferences.businessday.ng/event/energy-conference/
URL:https://viewlagos.ng/event/energy-conference-2026/
LOCATION:The Anthonia by Civic Centre\, 11b Oyinkan Abayomi Dr\, Ikoyi\, Lagos 106104\, Lagos\, Lagos\, Lagos\, 106104\, Nigeria
CATEGORIES:Awareness,Conference
ATTACH;FMTTYPE=image/png:https://viewlagos.ng/wp-content/uploads/2026/02/ENERGY-CONFERENCE-1-1448x2048-1.png
END:VEVENT
END:VCALENDAR