BEGIN:VCALENDAR
VERSION:2.0
PRODID:-//VIEWLAGOS - ECPv6.15.11//NONSGML v1.0//EN
CALSCALE:GREGORIAN
METHOD:PUBLISH
X-WR-CALNAME:VIEWLAGOS
X-ORIGINAL-URL:https://viewlagos.ng
X-WR-CALDESC:Events for VIEWLAGOS
REFRESH-INTERVAL;VALUE=DURATION:PT1H
X-Robots-Tag:noindex
X-PUBLISHED-TTL:PT1H
BEGIN:VTIMEZONE
TZID:Africa/Lagos
BEGIN:STANDARD
TZOFFSETFROM:+0100
TZOFFSETTO:+0100
TZNAME:WAT
DTSTART:20240101T000000
END:STANDARD
END:VTIMEZONE
BEGIN:VEVENT
DTSTART;TZID=Africa/Lagos:20251115T070000
DTEND;TZID=Africa/Lagos:20251115T100000
DTSTAMP:20260422T041658
CREATED:20251028T220005Z
LAST-MODIFIED:20251028T221418Z
UID:10001948-1763190000-1763200800@viewlagos.ng
SUMMARY:GEW Nigeria 2025: GEW Walk for Entrepreneurship Lagos
DESCRIPTION:The Global Entrepreneurship Week Nigeria Campaign will kick –off with a walk for entrepreneurship on Saturday\, November 15.\n\n\n\nThe Global Entrepreneurship Week Nigeria Campaign will kick –off with a walk for entrepreneurship on Saturday\, November 15. The walk will engage hundreds of young people in a 9km walk around Victoria Island Lagos to steer up the awareness for the week actively in Nigeria. \nThe Lagos walk Starting Point – 2 Ahmed Onibudo
URL:https://viewlagos.ng/event/gew-nigeria-2025-gew-walk-for-entrepreneurship-lagos/
LOCATION:Lagos
CATEGORIES:Health
ATTACH;FMTTYPE=image/jpeg:https://viewlagos.ng/wp-content/uploads/2025/10/gewnigeria.jpeg
END:VEVENT
END:VCALENDAR