BEGIN:VCALENDAR
VERSION:2.0
PRODID:-//VIEWLAGOS - ECPv6.15.11//NONSGML v1.0//EN
CALSCALE:GREGORIAN
METHOD:PUBLISH
X-WR-CALNAME:VIEWLAGOS
X-ORIGINAL-URL:https://viewlagos.ng
X-WR-CALDESC:Events for VIEWLAGOS
REFRESH-INTERVAL;VALUE=DURATION:PT1H
X-Robots-Tag:noindex
X-PUBLISHED-TTL:PT1H
BEGIN:VTIMEZONE
TZID:Africa/Lagos
BEGIN:STANDARD
TZOFFSETFROM:+0100
TZOFFSETTO:+0100
TZNAME:WAT
DTSTART:20250101T000000
END:STANDARD
END:VTIMEZONE
BEGIN:VEVENT
DTSTART;TZID=Africa/Lagos:20260228T200000
DTEND;TZID=Africa/Lagos:20260301T030000
DTSTAMP:20260420T015327
CREATED:20260222T100120Z
LAST-MODIFIED:20260222T100120Z
UID:10005354-1772308800-1772334000@viewlagos.ng
SUMMARY:Singles Experience Lagos
DESCRIPTION:Our Dear Lagos Singles… We’re Back! 🔥 \nGet ready because Singles Experience is returning — bigger\, better\, and even more unforgettable! If you’ve been waiting for the perfect night to step out\, meet new people\, and create genuine connections in a fun and relaxed atmosphere\, this is it. \nSINGLES EXPERIENCE is more than just a party — it’s a full-on social adventure designed for Lagos’ vibrant singles community. Expect an exciting lineup of interactive trivia sessions\, fun and competitive games\, a cozy Love Lounge for deeper conversations\, karaoke moments that bring out hidden talents\, and plenty of surprises throughout the night. Whether you’re looking for friendship\, networking\, romance\, or simply a great time\, there’s something for everyone. \nHosted by Hero Daniels and Veezeebaybeh\, you already know the energy will be unmatched from start to finish. Expect laughter\, connection\, music\, and a dancefloor that keeps you moving all night long. \n📅 Date: Saturday\, 28th February📍 Venue: Pop Landmark Lagos⏰ Time: 8PM – 4AM \n✨ Dress Code: ALL WHITE — come looking clean\, classy\, and confident. \nGroup tickets are highly advised 😃🥰 — because everything is better when you come with your crew.
URL:https://viewlagos.ng/event/singles-experience-lagos/
LOCATION:Landmark Event Centre\, Plot 2 & 3\, Water Corporation Drive\, Victoria Island\, Lagos State\, 106104\, Nigeria
CATEGORIES:Party,Things To Do In Lagos,Valentine
ATTACH;FMTTYPE=image/jpeg:https://viewlagos.ng/wp-content/uploads/2026/02/SaveClip.App_629886134_17869128408552333_1429444287890291519_n.jpg
END:VEVENT
BEGIN:VEVENT
DTSTART;TZID=Africa/Lagos:20260228T200000
DTEND;TZID=Africa/Lagos:20260301T050000
DTSTAMP:20260420T015327
CREATED:20260225T111451Z
LAST-MODIFIED:20260225T111451Z
UID:10005371-1772308800-1772341200@viewlagos.ng
SUMMARY:NO LOVE IN LAGOS
DESCRIPTION:NO LOVE IN LAGOS 💔🔥They say there’s love in Lagos… but on February 28th\, we’re not trying to find it 😈 \nPM2AM is back with a special anti-Valentine takeover — and this time\, we’re choosing vibes over feelings\, bass over butterflies\, and energy over emotions. (Relax\, we’re joking… kind of 👀) \nFrom 8PM till 5AM\, it’s strictly good music\, wild dancefloor moments\, and the kind of night that reminds you why Lagos never sleeps. Whether you’re single\, taken\, complicated\, or just outside for a good time — this edition is about turning up with your people and leaving the soft life at home for one night. \nExpect your favourite DJs delivering back-to-back heat\, surprise guest appearances you won’t see coming\, and a crowd ready to move like rent is due. This isn’t a sit-down-and-think event. This is a sweat-it-out\, scream-the-lyrics\, lose-your-voice type of night. \nNo roses.No love letters.Just vibes. \nLet’s start 2026 on a high note — loud\, unbothered\, and outside. 🔥 \nNO LOVE IN LAGOS📅 February 28⏰ 8PM – 5AM \nPull up single. Pull up taken.Just don’t pull up boring. 😌
URL:https://viewlagos.ng/event/no-love-in-lagos/
LOCATION:Praia Lagos\, 20 Elsie Femi Pearse St\, Victoria Island\, Lagos\, Victoria Island\, Lagos\, 101241\, Nigeria
CATEGORIES:night,Party,Valentine
ATTACH;FMTTYPE=image/png:https://viewlagos.ng/wp-content/uploads/2026/02/image.png
END:VEVENT
END:VCALENDAR