BEGIN:VCALENDAR
VERSION:2.0
PRODID:-//VIEWLAGOS - ECPv6.15.11//NONSGML v1.0//EN
CALSCALE:GREGORIAN
METHOD:PUBLISH
X-WR-CALNAME:VIEWLAGOS
X-ORIGINAL-URL:https://viewlagos.ng
X-WR-CALDESC:Events for VIEWLAGOS
REFRESH-INTERVAL;VALUE=DURATION:PT1H
X-Robots-Tag:noindex
X-PUBLISHED-TTL:PT1H
BEGIN:VTIMEZONE
TZID:Africa/Lagos
BEGIN:STANDARD
TZOFFSETFROM:+0100
TZOFFSETTO:+0100
TZNAME:WAT
DTSTART:20250101T000000
END:STANDARD
END:VTIMEZONE
BEGIN:VEVENT
DTSTART;TZID=Africa/Lagos:20260302T200000
DTEND;TZID=Africa/Lagos:20270104T030000
DTSTAMP:20260420T050125
CREATED:20260304T093503Z
LAST-MODIFIED:20260320T195546Z
UID:10005407-1772481600-1799031600@viewlagos.ng
SUMMARY:Obi's House Lagos- Monday Nights
DESCRIPTION:Mondays in Lagos just got a permanent upgrade. \nObi’s House Lagos is the ultimate start-of-the-week escape — a high-energy night party hosted by DJ Obi\, taking over the iconic Shiro Lagos every single Monday night. \nKicking off on March 2nd and running weekly all the way through January 4th\, 2027\, Obi’s House isn’t a one-off — it’s a weekly ritual. A space where music lovers\, tastemakers\, creatives\, and nightlife enthusiasts gather to reset the vibe and set the tone for the week ahead. \nExpect electrifying DJ sets\, infectious energy\, curated sounds that move from smooth grooves to high-tempo anthems\, and a dancefloor that refuses to slow down. This isn’t your typical “ease into the week” kind of night — it’s bold\, stylish\, and unapologetically Lagos. \nFrom after-work linkups to full-blown late-night turn-ups\, Obi’s House blends premium ambiance\, good drinks\, great company\, and the signature musical mastery that DJ Obi is known for. \nIf your Mondays have been boring\, consider that officially over. \n📅 Every Monday🗓 March 2\, 2026 – January 4\, 2027📍 Shiro Lagos \nThe week starts here. Don’t just hear about it — be in the House. 🔥
URL:https://viewlagos.ng/event/obis-house-lagos-monday-nights/
LOCATION:Shiro Lagos\, Block XVI 3 & 4\, Oniru Estate\, Victoria Island\, Lagos 101241\, Lagos\, Lagos\, Lagos\, 101241\, Nigeria
CATEGORIES:Dance,Party
ATTACH;FMTTYPE=image/jpeg:https://viewlagos.ng/wp-content/uploads/2026/03/SaveClip.App_642451740_18043489583738847_1090962558812456707_n.jpg
END:VEVENT
BEGIN:VEVENT
DTSTART;TZID=Africa/Lagos:20260307T190000
DTEND;TZID=Africa/Lagos:20260308T050000
DTSTAMP:20260420T050125
CREATED:20260306T174812Z
LAST-MODIFIED:20260306T174812Z
UID:10005419-1772910000-1772946000@viewlagos.ng
SUMMARY:House At Sundown
DESCRIPTION:Cozy Ctrl & The Baccyard invite you to House at Sundown\, a vibrant beachside house music experience designed for lovers of rhythm\, community\, and late-night energy. Taking place every other Saturday\, this gathering brings together music\, people\, and atmosphere for a night where the vibe flows as naturally as the ocean breeze. \nOn March 7th from 7PM till 5AM\, the dancefloor moves to the sand at Danfo on the Beach\, where the sunset sets the tone for an unforgettable night of sound and connection. From the golden hour glow of early evening to the deep hours of the night\, guests will experience a carefully curated soundtrack of house music that keeps the energy building long after the sun goes down. \nHouse at Sundown isn’t just a party — it’s a gathering for people who appreciate great music\, good company\, and the magic of dancing by the water. Expect a relaxed but electric atmosphere where friends link up\, strangers become dance partners\, and the rhythm carries the night forward. \nWhether you’re coming for the music\, the beachside vibe\, or simply to unwind and enjoy the moment\, this is the perfect escape from the usual nightlife routine. \n🌅 Beachside sunset atmosphere🎶 Curated house music all night🕺🏽 A community of music lovers and free spirits \n📅 March 7th\, 2026⏰ 7PM – 5AM📍 Danfo on the Beach \nAs the sun goes down\, the music rises. Come dance with us.
URL:https://viewlagos.ng/event/house-at-sundown/
LOCATION:Danfo on the beach\, Elegushi private beach gate 2\, Elegushi\, Elegushi\, Lagos 106104\, Lagos\, Nigeria\, Lagos\, Lagos\, 106104\, Nigeria
CATEGORIES:night,Party,Social
ATTACH;FMTTYPE=image/webp:https://viewlagos.ng/wp-content/uploads/2026/03/jquh4uan0gmnakycgd67.webp
END:VEVENT
END:VCALENDAR