BEGIN:VCALENDAR
VERSION:2.0
PRODID:-//VIEWLAGOS - ECPv6.15.11//NONSGML v1.0//EN
CALSCALE:GREGORIAN
METHOD:PUBLISH
X-WR-CALNAME:VIEWLAGOS
X-ORIGINAL-URL:https://viewlagos.ng
X-WR-CALDESC:Events for VIEWLAGOS
REFRESH-INTERVAL;VALUE=DURATION:PT1H
X-Robots-Tag:noindex
X-PUBLISHED-TTL:PT1H
BEGIN:VTIMEZONE
TZID:Africa/Lagos
BEGIN:STANDARD
TZOFFSETFROM:+0100
TZOFFSETTO:+0100
TZNAME:WAT
DTSTART:20250101T000000
END:STANDARD
END:VTIMEZONE
BEGIN:VEVENT
DTSTART;TZID=Africa/Lagos:20260426T120000
DTEND;TZID=Africa/Lagos:20260426T170000
DTSTAMP:20260422T023421
CREATED:20260319T180747Z
LAST-MODIFIED:20260323T132002Z
UID:10005438-1777204800-1777222800@viewlagos.ng
SUMMARY:Creative Hangout with Ajijola
DESCRIPTION:Finally\, the long-anticipated hangout is here!!!\nIf you have anywhere to be on the 26th of April\, cancel it now!!! One of the most intimate\, fun\, and team-bonding game hangout is here. 💃🕺Hangout with Ajijola is here again and this time it is in LAGOS\, with a spice! It is a hangout for creatives\, yes\, you! 🌊Have you been looking for where to showcase your imagination? Explore your limitless mind? Unlock a part of yourself you don’t even know you had? Or even to figure out your talent? \nWell now is the time! You do not want to miss this. Come and get your ticket NOW!!!!
URL:https://viewlagos.ng/event/creative-hangout-with-ajijola/
LOCATION:JJT Park\, by House of Assembly beside Lagos State Secretariat Alausa\, Ikeja 100001\, Lagos\, Lagos\, 100001\, Nigeria
CATEGORIES:Games,Party,Social,Things To Do In Lagos
ATTACH;FMTTYPE=image/jpeg:https://viewlagos.ng/wp-content/uploads/2026/03/WhatsApp-Image-2026-03-19-at-14.28.47.jpeg
END:VEVENT
BEGIN:VEVENT
DTSTART;TZID=Africa/Lagos:20260426T180000
DTEND;TZID=Africa/Lagos:20260427T040000
DTSTAMP:20260422T023421
CREATED:20260422T000822Z
LAST-MODIFIED:20260422T000822Z
UID:10006672-1777226400-1777262400@viewlagos.ng
SUMMARY:Ogene meets Strippers
DESCRIPTION:Ogene meets Strippers is the perfect way to end April with unforgettable vibes and great company. \nLink in bio for more details —hurry\, spots are filling fast!
URL:https://viewlagos.ng/event/ogene-meets-strippers/
LOCATION:Ben Silver Hotel and Suite\, 12 Dele Ibidun Street\, Agege\, Lagos\, Nigeria
CATEGORIES:Party,Social,Things To Do In Lagos
ATTACH;FMTTYPE=image/jpeg:https://viewlagos.ng/wp-content/uploads/2026/04/WhatsApp-Image-2026-04-21-at-10.13.31-AM.jpeg
ORGANIZER;CN="Ben Silver Hotel and Suite":MAILTO:bensilvermgt@gmail.com
END:VEVENT
BEGIN:VEVENT
DTSTART;TZID=Africa/Lagos:20260429T180000
DTEND;TZID=Africa/Lagos:20260429T230000
DTSTAMP:20260422T023421
CREATED:20260205T101249Z
LAST-MODIFIED:20260205T101340Z
UID:10005277-1777485600-1777503600@viewlagos.ng
SUMMARY:The Joke's On You
DESCRIPTION:We’re bringing comedy to VL Lagos.\nBrunch Club starts at 2PM; good food\, good energy\, easy laughs. \nBy 6PM\, the room shifts and the night begins.\nOur headliner Jesta takes the stage\, and you don’t want to miss this. \nReservations are now open.
URL:https://viewlagos.ng/event/the-jokes-on-you/2026-04-29/
LOCATION:VL Lagos\, 642E Akin Adesola Street\, Victoria Island\, Lagos\, 100106\, Nigeria
CATEGORIES:Concert,Party,Things To Do In Lagos
ATTACH;FMTTYPE=image/jpeg:https://viewlagos.ng/wp-content/uploads/2026/02/628164223_17894649477403399_8901867661305073954_n.jpg
END:VEVENT
BEGIN:VEVENT
DTSTART;TZID=Africa/Lagos:20260506T180000
DTEND;TZID=Africa/Lagos:20260506T230000
DTSTAMP:20260422T023421
CREATED:20260205T101249Z
LAST-MODIFIED:20260205T101340Z
UID:10005278-1778090400-1778108400@viewlagos.ng
SUMMARY:The Joke's On You
DESCRIPTION:We’re bringing comedy to VL Lagos.\nBrunch Club starts at 2PM; good food\, good energy\, easy laughs. \nBy 6PM\, the room shifts and the night begins.\nOur headliner Jesta takes the stage\, and you don’t want to miss this. \nReservations are now open.
URL:https://viewlagos.ng/event/the-jokes-on-you/2026-05-06/
LOCATION:VL Lagos\, 642E Akin Adesola Street\, Victoria Island\, Lagos\, 100106\, Nigeria
CATEGORIES:Concert,Party,Things To Do In Lagos
ATTACH;FMTTYPE=image/jpeg:https://viewlagos.ng/wp-content/uploads/2026/02/628164223_17894649477403399_8901867661305073954_n.jpg
END:VEVENT
BEGIN:VEVENT
DTSTART;TZID=Africa/Lagos:20260513T180000
DTEND;TZID=Africa/Lagos:20260513T230000
DTSTAMP:20260422T023421
CREATED:20260205T101249Z
LAST-MODIFIED:20260205T101340Z
UID:10005279-1778695200-1778713200@viewlagos.ng
SUMMARY:The Joke's On You
DESCRIPTION:We’re bringing comedy to VL Lagos.\nBrunch Club starts at 2PM; good food\, good energy\, easy laughs. \nBy 6PM\, the room shifts and the night begins.\nOur headliner Jesta takes the stage\, and you don’t want to miss this. \nReservations are now open.
URL:https://viewlagos.ng/event/the-jokes-on-you/2026-05-13/
LOCATION:VL Lagos\, 642E Akin Adesola Street\, Victoria Island\, Lagos\, 100106\, Nigeria
CATEGORIES:Concert,Party,Things To Do In Lagos
ATTACH;FMTTYPE=image/jpeg:https://viewlagos.ng/wp-content/uploads/2026/02/628164223_17894649477403399_8901867661305073954_n.jpg
END:VEVENT
BEGIN:VEVENT
DTSTART;TZID=Africa/Lagos:20260520T180000
DTEND;TZID=Africa/Lagos:20260520T230000
DTSTAMP:20260422T023421
CREATED:20260205T101249Z
LAST-MODIFIED:20260205T101340Z
UID:10005280-1779300000-1779318000@viewlagos.ng
SUMMARY:The Joke's On You
DESCRIPTION:We’re bringing comedy to VL Lagos.\nBrunch Club starts at 2PM; good food\, good energy\, easy laughs. \nBy 6PM\, the room shifts and the night begins.\nOur headliner Jesta takes the stage\, and you don’t want to miss this. \nReservations are now open.
URL:https://viewlagos.ng/event/the-jokes-on-you/2026-05-20/
LOCATION:VL Lagos\, 642E Akin Adesola Street\, Victoria Island\, Lagos\, 100106\, Nigeria
CATEGORIES:Concert,Party,Things To Do In Lagos
ATTACH;FMTTYPE=image/jpeg:https://viewlagos.ng/wp-content/uploads/2026/02/628164223_17894649477403399_8901867661305073954_n.jpg
END:VEVENT
BEGIN:VEVENT
DTSTART;TZID=Africa/Lagos:20260527T180000
DTEND;TZID=Africa/Lagos:20260527T230000
DTSTAMP:20260422T023421
CREATED:20260205T101249Z
LAST-MODIFIED:20260205T101340Z
UID:10005281-1779904800-1779922800@viewlagos.ng
SUMMARY:The Joke's On You
DESCRIPTION:We’re bringing comedy to VL Lagos.\nBrunch Club starts at 2PM; good food\, good energy\, easy laughs. \nBy 6PM\, the room shifts and the night begins.\nOur headliner Jesta takes the stage\, and you don’t want to miss this. \nReservations are now open.
URL:https://viewlagos.ng/event/the-jokes-on-you/2026-05-27/
LOCATION:VL Lagos\, 642E Akin Adesola Street\, Victoria Island\, Lagos\, 100106\, Nigeria
CATEGORIES:Concert,Party,Things To Do In Lagos
ATTACH;FMTTYPE=image/jpeg:https://viewlagos.ng/wp-content/uploads/2026/02/628164223_17894649477403399_8901867661305073954_n.jpg
END:VEVENT
BEGIN:VEVENT
DTSTART;TZID=Africa/Lagos:20260603T180000
DTEND;TZID=Africa/Lagos:20260603T230000
DTSTAMP:20260422T023421
CREATED:20260205T101249Z
LAST-MODIFIED:20260205T101340Z
UID:10005282-1780509600-1780527600@viewlagos.ng
SUMMARY:The Joke's On You
DESCRIPTION:We’re bringing comedy to VL Lagos.\nBrunch Club starts at 2PM; good food\, good energy\, easy laughs. \nBy 6PM\, the room shifts and the night begins.\nOur headliner Jesta takes the stage\, and you don’t want to miss this. \nReservations are now open.
URL:https://viewlagos.ng/event/the-jokes-on-you/2026-06-03/
LOCATION:VL Lagos\, 642E Akin Adesola Street\, Victoria Island\, Lagos\, 100106\, Nigeria
CATEGORIES:Concert,Party,Things To Do In Lagos
ATTACH;FMTTYPE=image/jpeg:https://viewlagos.ng/wp-content/uploads/2026/02/628164223_17894649477403399_8901867661305073954_n.jpg
END:VEVENT
BEGIN:VEVENT
DTSTART;TZID=Africa/Lagos:20260610T180000
DTEND;TZID=Africa/Lagos:20260610T230000
DTSTAMP:20260422T023421
CREATED:20260205T101249Z
LAST-MODIFIED:20260205T101340Z
UID:10005283-1781114400-1781132400@viewlagos.ng
SUMMARY:The Joke's On You
DESCRIPTION:We’re bringing comedy to VL Lagos.\nBrunch Club starts at 2PM; good food\, good energy\, easy laughs. \nBy 6PM\, the room shifts and the night begins.\nOur headliner Jesta takes the stage\, and you don’t want to miss this. \nReservations are now open.
URL:https://viewlagos.ng/event/the-jokes-on-you/2026-06-10/
LOCATION:VL Lagos\, 642E Akin Adesola Street\, Victoria Island\, Lagos\, 100106\, Nigeria
CATEGORIES:Concert,Party,Things To Do In Lagos
ATTACH;FMTTYPE=image/jpeg:https://viewlagos.ng/wp-content/uploads/2026/02/628164223_17894649477403399_8901867661305073954_n.jpg
END:VEVENT
BEGIN:VEVENT
DTSTART;TZID=Africa/Lagos:20260617T180000
DTEND;TZID=Africa/Lagos:20260617T230000
DTSTAMP:20260422T023421
CREATED:20260205T101249Z
LAST-MODIFIED:20260205T101340Z
UID:10005284-1781719200-1781737200@viewlagos.ng
SUMMARY:The Joke's On You
DESCRIPTION:We’re bringing comedy to VL Lagos.\nBrunch Club starts at 2PM; good food\, good energy\, easy laughs. \nBy 6PM\, the room shifts and the night begins.\nOur headliner Jesta takes the stage\, and you don’t want to miss this. \nReservations are now open.
URL:https://viewlagos.ng/event/the-jokes-on-you/2026-06-17/
LOCATION:VL Lagos\, 642E Akin Adesola Street\, Victoria Island\, Lagos\, 100106\, Nigeria
CATEGORIES:Concert,Party,Things To Do In Lagos
ATTACH;FMTTYPE=image/jpeg:https://viewlagos.ng/wp-content/uploads/2026/02/628164223_17894649477403399_8901867661305073954_n.jpg
END:VEVENT
BEGIN:VEVENT
DTSTART;TZID=Africa/Lagos:20260624T180000
DTEND;TZID=Africa/Lagos:20260624T230000
DTSTAMP:20260422T023421
CREATED:20260205T101249Z
LAST-MODIFIED:20260205T101340Z
UID:10005285-1782324000-1782342000@viewlagos.ng
SUMMARY:The Joke's On You
DESCRIPTION:We’re bringing comedy to VL Lagos.\nBrunch Club starts at 2PM; good food\, good energy\, easy laughs. \nBy 6PM\, the room shifts and the night begins.\nOur headliner Jesta takes the stage\, and you don’t want to miss this. \nReservations are now open.
URL:https://viewlagos.ng/event/the-jokes-on-you/2026-06-24/
LOCATION:VL Lagos\, 642E Akin Adesola Street\, Victoria Island\, Lagos\, 100106\, Nigeria
CATEGORIES:Concert,Party,Things To Do In Lagos
ATTACH;FMTTYPE=image/jpeg:https://viewlagos.ng/wp-content/uploads/2026/02/628164223_17894649477403399_8901867661305073954_n.jpg
END:VEVENT
BEGIN:VEVENT
DTSTART;TZID=Africa/Lagos:20260701T180000
DTEND;TZID=Africa/Lagos:20260701T230000
DTSTAMP:20260422T023421
CREATED:20260205T101249Z
LAST-MODIFIED:20260205T101340Z
UID:10005286-1782928800-1782946800@viewlagos.ng
SUMMARY:The Joke's On You
DESCRIPTION:We’re bringing comedy to VL Lagos.\nBrunch Club starts at 2PM; good food\, good energy\, easy laughs. \nBy 6PM\, the room shifts and the night begins.\nOur headliner Jesta takes the stage\, and you don’t want to miss this. \nReservations are now open.
URL:https://viewlagos.ng/event/the-jokes-on-you/2026-07-01/
LOCATION:VL Lagos\, 642E Akin Adesola Street\, Victoria Island\, Lagos\, 100106\, Nigeria
CATEGORIES:Concert,Party,Things To Do In Lagos
ATTACH;FMTTYPE=image/jpeg:https://viewlagos.ng/wp-content/uploads/2026/02/628164223_17894649477403399_8901867661305073954_n.jpg
END:VEVENT
BEGIN:VEVENT
DTSTART;TZID=Africa/Lagos:20260708T180000
DTEND;TZID=Africa/Lagos:20260708T230000
DTSTAMP:20260422T023421
CREATED:20260205T101249Z
LAST-MODIFIED:20260205T101340Z
UID:10005287-1783533600-1783551600@viewlagos.ng
SUMMARY:The Joke's On You
DESCRIPTION:We’re bringing comedy to VL Lagos.\nBrunch Club starts at 2PM; good food\, good energy\, easy laughs. \nBy 6PM\, the room shifts and the night begins.\nOur headliner Jesta takes the stage\, and you don’t want to miss this. \nReservations are now open.
URL:https://viewlagos.ng/event/the-jokes-on-you/2026-07-08/
LOCATION:VL Lagos\, 642E Akin Adesola Street\, Victoria Island\, Lagos\, 100106\, Nigeria
CATEGORIES:Concert,Party,Things To Do In Lagos
ATTACH;FMTTYPE=image/jpeg:https://viewlagos.ng/wp-content/uploads/2026/02/628164223_17894649477403399_8901867661305073954_n.jpg
END:VEVENT
BEGIN:VEVENT
DTSTART;TZID=Africa/Lagos:20260715T180000
DTEND;TZID=Africa/Lagos:20260715T230000
DTSTAMP:20260422T023421
CREATED:20260205T101249Z
LAST-MODIFIED:20260205T101340Z
UID:10005288-1784138400-1784156400@viewlagos.ng
SUMMARY:The Joke's On You
DESCRIPTION:We’re bringing comedy to VL Lagos.\nBrunch Club starts at 2PM; good food\, good energy\, easy laughs. \nBy 6PM\, the room shifts and the night begins.\nOur headliner Jesta takes the stage\, and you don’t want to miss this. \nReservations are now open.
URL:https://viewlagos.ng/event/the-jokes-on-you/2026-07-15/
LOCATION:VL Lagos\, 642E Akin Adesola Street\, Victoria Island\, Lagos\, 100106\, Nigeria
CATEGORIES:Concert,Party,Things To Do In Lagos
ATTACH;FMTTYPE=image/jpeg:https://viewlagos.ng/wp-content/uploads/2026/02/628164223_17894649477403399_8901867661305073954_n.jpg
END:VEVENT
BEGIN:VEVENT
DTSTART;TZID=Africa/Lagos:20260722T180000
DTEND;TZID=Africa/Lagos:20260722T230000
DTSTAMP:20260422T023421
CREATED:20260205T101249Z
LAST-MODIFIED:20260205T101340Z
UID:10005289-1784743200-1784761200@viewlagos.ng
SUMMARY:The Joke's On You
DESCRIPTION:We’re bringing comedy to VL Lagos.\nBrunch Club starts at 2PM; good food\, good energy\, easy laughs. \nBy 6PM\, the room shifts and the night begins.\nOur headliner Jesta takes the stage\, and you don’t want to miss this. \nReservations are now open.
URL:https://viewlagos.ng/event/the-jokes-on-you/2026-07-22/
LOCATION:VL Lagos\, 642E Akin Adesola Street\, Victoria Island\, Lagos\, 100106\, Nigeria
CATEGORIES:Concert,Party,Things To Do In Lagos
ATTACH;FMTTYPE=image/jpeg:https://viewlagos.ng/wp-content/uploads/2026/02/628164223_17894649477403399_8901867661305073954_n.jpg
END:VEVENT
BEGIN:VEVENT
DTSTART;TZID=Africa/Lagos:20260729T180000
DTEND;TZID=Africa/Lagos:20260729T230000
DTSTAMP:20260422T023421
CREATED:20260205T101249Z
LAST-MODIFIED:20260205T101340Z
UID:10005290-1785348000-1785366000@viewlagos.ng
SUMMARY:The Joke's On You
DESCRIPTION:We’re bringing comedy to VL Lagos.\nBrunch Club starts at 2PM; good food\, good energy\, easy laughs. \nBy 6PM\, the room shifts and the night begins.\nOur headliner Jesta takes the stage\, and you don’t want to miss this. \nReservations are now open.
URL:https://viewlagos.ng/event/the-jokes-on-you/2026-07-29/
LOCATION:VL Lagos\, 642E Akin Adesola Street\, Victoria Island\, Lagos\, 100106\, Nigeria
CATEGORIES:Concert,Party,Things To Do In Lagos
ATTACH;FMTTYPE=image/jpeg:https://viewlagos.ng/wp-content/uploads/2026/02/628164223_17894649477403399_8901867661305073954_n.jpg
END:VEVENT
BEGIN:VEVENT
DTSTART;TZID=Africa/Lagos:20260805T180000
DTEND;TZID=Africa/Lagos:20260805T230000
DTSTAMP:20260422T023421
CREATED:20260205T101249Z
LAST-MODIFIED:20260205T101340Z
UID:10005291-1785952800-1785970800@viewlagos.ng
SUMMARY:The Joke's On You
DESCRIPTION:We’re bringing comedy to VL Lagos.\nBrunch Club starts at 2PM; good food\, good energy\, easy laughs. \nBy 6PM\, the room shifts and the night begins.\nOur headliner Jesta takes the stage\, and you don’t want to miss this. \nReservations are now open.
URL:https://viewlagos.ng/event/the-jokes-on-you/2026-08-05/
LOCATION:VL Lagos\, 642E Akin Adesola Street\, Victoria Island\, Lagos\, 100106\, Nigeria
CATEGORIES:Concert,Party,Things To Do In Lagos
ATTACH;FMTTYPE=image/jpeg:https://viewlagos.ng/wp-content/uploads/2026/02/628164223_17894649477403399_8901867661305073954_n.jpg
END:VEVENT
BEGIN:VEVENT
DTSTART;TZID=Africa/Lagos:20260812T180000
DTEND;TZID=Africa/Lagos:20260812T230000
DTSTAMP:20260422T023421
CREATED:20260205T101249Z
LAST-MODIFIED:20260205T101340Z
UID:10005292-1786557600-1786575600@viewlagos.ng
SUMMARY:The Joke's On You
DESCRIPTION:We’re bringing comedy to VL Lagos.\nBrunch Club starts at 2PM; good food\, good energy\, easy laughs. \nBy 6PM\, the room shifts and the night begins.\nOur headliner Jesta takes the stage\, and you don’t want to miss this. \nReservations are now open.
URL:https://viewlagos.ng/event/the-jokes-on-you/2026-08-12/
LOCATION:VL Lagos\, 642E Akin Adesola Street\, Victoria Island\, Lagos\, 100106\, Nigeria
CATEGORIES:Concert,Party,Things To Do In Lagos
ATTACH;FMTTYPE=image/jpeg:https://viewlagos.ng/wp-content/uploads/2026/02/628164223_17894649477403399_8901867661305073954_n.jpg
END:VEVENT
BEGIN:VEVENT
DTSTART;TZID=Africa/Lagos:20260819T180000
DTEND;TZID=Africa/Lagos:20260819T230000
DTSTAMP:20260422T023421
CREATED:20260205T101249Z
LAST-MODIFIED:20260205T101340Z
UID:10005293-1787162400-1787180400@viewlagos.ng
SUMMARY:The Joke's On You
DESCRIPTION:We’re bringing comedy to VL Lagos.\nBrunch Club starts at 2PM; good food\, good energy\, easy laughs. \nBy 6PM\, the room shifts and the night begins.\nOur headliner Jesta takes the stage\, and you don’t want to miss this. \nReservations are now open.
URL:https://viewlagos.ng/event/the-jokes-on-you/2026-08-19/
LOCATION:VL Lagos\, 642E Akin Adesola Street\, Victoria Island\, Lagos\, 100106\, Nigeria
CATEGORIES:Concert,Party,Things To Do In Lagos
ATTACH;FMTTYPE=image/jpeg:https://viewlagos.ng/wp-content/uploads/2026/02/628164223_17894649477403399_8901867661305073954_n.jpg
END:VEVENT
BEGIN:VEVENT
DTSTART;TZID=Africa/Lagos:20260826T180000
DTEND;TZID=Africa/Lagos:20260826T230000
DTSTAMP:20260422T023421
CREATED:20260205T101249Z
LAST-MODIFIED:20260205T101340Z
UID:10005294-1787767200-1787785200@viewlagos.ng
SUMMARY:The Joke's On You
DESCRIPTION:We’re bringing comedy to VL Lagos.\nBrunch Club starts at 2PM; good food\, good energy\, easy laughs. \nBy 6PM\, the room shifts and the night begins.\nOur headliner Jesta takes the stage\, and you don’t want to miss this. \nReservations are now open.
URL:https://viewlagos.ng/event/the-jokes-on-you/2026-08-26/
LOCATION:VL Lagos\, 642E Akin Adesola Street\, Victoria Island\, Lagos\, 100106\, Nigeria
CATEGORIES:Concert,Party,Things To Do In Lagos
ATTACH;FMTTYPE=image/jpeg:https://viewlagos.ng/wp-content/uploads/2026/02/628164223_17894649477403399_8901867661305073954_n.jpg
END:VEVENT
BEGIN:VEVENT
DTSTART;TZID=Africa/Lagos:20260902T180000
DTEND;TZID=Africa/Lagos:20260902T230000
DTSTAMP:20260422T023421
CREATED:20260205T101249Z
LAST-MODIFIED:20260205T101340Z
UID:10005295-1788372000-1788390000@viewlagos.ng
SUMMARY:The Joke's On You
DESCRIPTION:We’re bringing comedy to VL Lagos.\nBrunch Club starts at 2PM; good food\, good energy\, easy laughs. \nBy 6PM\, the room shifts and the night begins.\nOur headliner Jesta takes the stage\, and you don’t want to miss this. \nReservations are now open.
URL:https://viewlagos.ng/event/the-jokes-on-you/2026-09-02/
LOCATION:VL Lagos\, 642E Akin Adesola Street\, Victoria Island\, Lagos\, 100106\, Nigeria
CATEGORIES:Concert,Party,Things To Do In Lagos
ATTACH;FMTTYPE=image/jpeg:https://viewlagos.ng/wp-content/uploads/2026/02/628164223_17894649477403399_8901867661305073954_n.jpg
END:VEVENT
BEGIN:VEVENT
DTSTART;TZID=Africa/Lagos:20260909T180000
DTEND;TZID=Africa/Lagos:20260909T230000
DTSTAMP:20260422T023421
CREATED:20260205T101249Z
LAST-MODIFIED:20260205T101340Z
UID:10005296-1788976800-1788994800@viewlagos.ng
SUMMARY:The Joke's On You
DESCRIPTION:We’re bringing comedy to VL Lagos.\nBrunch Club starts at 2PM; good food\, good energy\, easy laughs. \nBy 6PM\, the room shifts and the night begins.\nOur headliner Jesta takes the stage\, and you don’t want to miss this. \nReservations are now open.
URL:https://viewlagos.ng/event/the-jokes-on-you/2026-09-09/
LOCATION:VL Lagos\, 642E Akin Adesola Street\, Victoria Island\, Lagos\, 100106\, Nigeria
CATEGORIES:Concert,Party,Things To Do In Lagos
ATTACH;FMTTYPE=image/jpeg:https://viewlagos.ng/wp-content/uploads/2026/02/628164223_17894649477403399_8901867661305073954_n.jpg
END:VEVENT
BEGIN:VEVENT
DTSTART;TZID=Africa/Lagos:20260916T180000
DTEND;TZID=Africa/Lagos:20260916T230000
DTSTAMP:20260422T023421
CREATED:20260205T101249Z
LAST-MODIFIED:20260205T101340Z
UID:10005297-1789581600-1789599600@viewlagos.ng
SUMMARY:The Joke's On You
DESCRIPTION:We’re bringing comedy to VL Lagos.\nBrunch Club starts at 2PM; good food\, good energy\, easy laughs. \nBy 6PM\, the room shifts and the night begins.\nOur headliner Jesta takes the stage\, and you don’t want to miss this. \nReservations are now open.
URL:https://viewlagos.ng/event/the-jokes-on-you/2026-09-16/
LOCATION:VL Lagos\, 642E Akin Adesola Street\, Victoria Island\, Lagos\, 100106\, Nigeria
CATEGORIES:Concert,Party,Things To Do In Lagos
ATTACH;FMTTYPE=image/jpeg:https://viewlagos.ng/wp-content/uploads/2026/02/628164223_17894649477403399_8901867661305073954_n.jpg
END:VEVENT
BEGIN:VEVENT
DTSTART;TZID=Africa/Lagos:20260923T180000
DTEND;TZID=Africa/Lagos:20260923T230000
DTSTAMP:20260422T023421
CREATED:20260205T101249Z
LAST-MODIFIED:20260205T101340Z
UID:10005298-1790186400-1790204400@viewlagos.ng
SUMMARY:The Joke's On You
DESCRIPTION:We’re bringing comedy to VL Lagos.\nBrunch Club starts at 2PM; good food\, good energy\, easy laughs. \nBy 6PM\, the room shifts and the night begins.\nOur headliner Jesta takes the stage\, and you don’t want to miss this. \nReservations are now open.
URL:https://viewlagos.ng/event/the-jokes-on-you/2026-09-23/
LOCATION:VL Lagos\, 642E Akin Adesola Street\, Victoria Island\, Lagos\, 100106\, Nigeria
CATEGORIES:Concert,Party,Things To Do In Lagos
ATTACH;FMTTYPE=image/jpeg:https://viewlagos.ng/wp-content/uploads/2026/02/628164223_17894649477403399_8901867661305073954_n.jpg
END:VEVENT
BEGIN:VEVENT
DTSTART;TZID=Africa/Lagos:20260930T180000
DTEND;TZID=Africa/Lagos:20260930T230000
DTSTAMP:20260422T023421
CREATED:20260205T101249Z
LAST-MODIFIED:20260205T101340Z
UID:10005299-1790791200-1790809200@viewlagos.ng
SUMMARY:The Joke's On You
DESCRIPTION:We’re bringing comedy to VL Lagos.\nBrunch Club starts at 2PM; good food\, good energy\, easy laughs. \nBy 6PM\, the room shifts and the night begins.\nOur headliner Jesta takes the stage\, and you don’t want to miss this. \nReservations are now open.
URL:https://viewlagos.ng/event/the-jokes-on-you/2026-09-30/
LOCATION:VL Lagos\, 642E Akin Adesola Street\, Victoria Island\, Lagos\, 100106\, Nigeria
CATEGORIES:Concert,Party,Things To Do In Lagos
ATTACH;FMTTYPE=image/jpeg:https://viewlagos.ng/wp-content/uploads/2026/02/628164223_17894649477403399_8901867661305073954_n.jpg
END:VEVENT
BEGIN:VEVENT
DTSTART;TZID=Africa/Lagos:20261007T180000
DTEND;TZID=Africa/Lagos:20261007T230000
DTSTAMP:20260422T023421
CREATED:20260205T101249Z
LAST-MODIFIED:20260205T101340Z
UID:10005300-1791396000-1791414000@viewlagos.ng
SUMMARY:The Joke's On You
DESCRIPTION:We’re bringing comedy to VL Lagos.\nBrunch Club starts at 2PM; good food\, good energy\, easy laughs. \nBy 6PM\, the room shifts and the night begins.\nOur headliner Jesta takes the stage\, and you don’t want to miss this. \nReservations are now open.
URL:https://viewlagos.ng/event/the-jokes-on-you/2026-10-07/
LOCATION:VL Lagos\, 642E Akin Adesola Street\, Victoria Island\, Lagos\, 100106\, Nigeria
CATEGORIES:Concert,Party,Things To Do In Lagos
ATTACH;FMTTYPE=image/jpeg:https://viewlagos.ng/wp-content/uploads/2026/02/628164223_17894649477403399_8901867661305073954_n.jpg
END:VEVENT
BEGIN:VEVENT
DTSTART;TZID=Africa/Lagos:20261014T180000
DTEND;TZID=Africa/Lagos:20261014T230000
DTSTAMP:20260422T023421
CREATED:20260205T101249Z
LAST-MODIFIED:20260205T101340Z
UID:10005301-1792000800-1792018800@viewlagos.ng
SUMMARY:The Joke's On You
DESCRIPTION:We’re bringing comedy to VL Lagos.\nBrunch Club starts at 2PM; good food\, good energy\, easy laughs. \nBy 6PM\, the room shifts and the night begins.\nOur headliner Jesta takes the stage\, and you don’t want to miss this. \nReservations are now open.
URL:https://viewlagos.ng/event/the-jokes-on-you/2026-10-14/
LOCATION:VL Lagos\, 642E Akin Adesola Street\, Victoria Island\, Lagos\, 100106\, Nigeria
CATEGORIES:Concert,Party,Things To Do In Lagos
ATTACH;FMTTYPE=image/jpeg:https://viewlagos.ng/wp-content/uploads/2026/02/628164223_17894649477403399_8901867661305073954_n.jpg
END:VEVENT
BEGIN:VEVENT
DTSTART;TZID=Africa/Lagos:20261021T180000
DTEND;TZID=Africa/Lagos:20261021T230000
DTSTAMP:20260422T023421
CREATED:20260205T101249Z
LAST-MODIFIED:20260205T101340Z
UID:10005302-1792605600-1792623600@viewlagos.ng
SUMMARY:The Joke's On You
DESCRIPTION:We’re bringing comedy to VL Lagos.\nBrunch Club starts at 2PM; good food\, good energy\, easy laughs. \nBy 6PM\, the room shifts and the night begins.\nOur headliner Jesta takes the stage\, and you don’t want to miss this. \nReservations are now open.
URL:https://viewlagos.ng/event/the-jokes-on-you/2026-10-21/
LOCATION:VL Lagos\, 642E Akin Adesola Street\, Victoria Island\, Lagos\, 100106\, Nigeria
CATEGORIES:Concert,Party,Things To Do In Lagos
ATTACH;FMTTYPE=image/jpeg:https://viewlagos.ng/wp-content/uploads/2026/02/628164223_17894649477403399_8901867661305073954_n.jpg
END:VEVENT
BEGIN:VEVENT
DTSTART;TZID=Africa/Lagos:20261028T180000
DTEND;TZID=Africa/Lagos:20261028T230000
DTSTAMP:20260422T023421
CREATED:20260205T101249Z
LAST-MODIFIED:20260205T101340Z
UID:10005303-1793210400-1793228400@viewlagos.ng
SUMMARY:The Joke's On You
DESCRIPTION:We’re bringing comedy to VL Lagos.\nBrunch Club starts at 2PM; good food\, good energy\, easy laughs. \nBy 6PM\, the room shifts and the night begins.\nOur headliner Jesta takes the stage\, and you don’t want to miss this. \nReservations are now open.
URL:https://viewlagos.ng/event/the-jokes-on-you/2026-10-28/
LOCATION:VL Lagos\, 642E Akin Adesola Street\, Victoria Island\, Lagos\, 100106\, Nigeria
CATEGORIES:Concert,Party,Things To Do In Lagos
ATTACH;FMTTYPE=image/jpeg:https://viewlagos.ng/wp-content/uploads/2026/02/628164223_17894649477403399_8901867661305073954_n.jpg
END:VEVENT
BEGIN:VEVENT
DTSTART;TZID=Africa/Lagos:20261104T180000
DTEND;TZID=Africa/Lagos:20261104T230000
DTSTAMP:20260422T023421
CREATED:20260205T101249Z
LAST-MODIFIED:20260205T101340Z
UID:10005304-1793815200-1793833200@viewlagos.ng
SUMMARY:The Joke's On You
DESCRIPTION:We’re bringing comedy to VL Lagos.\nBrunch Club starts at 2PM; good food\, good energy\, easy laughs. \nBy 6PM\, the room shifts and the night begins.\nOur headliner Jesta takes the stage\, and you don’t want to miss this. \nReservations are now open.
URL:https://viewlagos.ng/event/the-jokes-on-you/2026-11-04/
LOCATION:VL Lagos\, 642E Akin Adesola Street\, Victoria Island\, Lagos\, 100106\, Nigeria
CATEGORIES:Concert,Party,Things To Do In Lagos
ATTACH;FMTTYPE=image/jpeg:https://viewlagos.ng/wp-content/uploads/2026/02/628164223_17894649477403399_8901867661305073954_n.jpg
END:VEVENT
END:VCALENDAR