BEGIN:VCALENDAR
VERSION:2.0
PRODID:-//VIEWLAGOS - ECPv6.15.11//NONSGML v1.0//EN
CALSCALE:GREGORIAN
METHOD:PUBLISH
X-ORIGINAL-URL:https://viewlagos.ng
X-WR-CALDESC:Events for VIEWLAGOS
REFRESH-INTERVAL;VALUE=DURATION:PT1H
X-Robots-Tag:noindex
X-PUBLISHED-TTL:PT1H
BEGIN:VTIMEZONE
TZID:Africa/Lagos
BEGIN:STANDARD
TZOFFSETFROM:+0100
TZOFFSETTO:+0100
TZNAME:WAT
DTSTART:20250101T000000
END:STANDARD
END:VTIMEZONE
BEGIN:VEVENT
DTSTART;TZID=Africa/Lagos:20260218T180000
DTEND;TZID=Africa/Lagos:20260218T230000
DTSTAMP:20260420T062531
CREATED:20260205T101249Z
LAST-MODIFIED:20260205T101340Z
UID:10005267-1771437600-1771455600@viewlagos.ng
SUMMARY:The Joke's On You
DESCRIPTION:We’re bringing comedy to VL Lagos.\nBrunch Club starts at 2PM; good food\, good energy\, easy laughs. \nBy 6PM\, the room shifts and the night begins.\nOur headliner Jesta takes the stage\, and you don’t want to miss this. \nReservations are now open.
URL:https://viewlagos.ng/event/the-jokes-on-you/2026-02-18/
LOCATION:VL Lagos\, 642E Akin Adesola Street\, Victoria Island\, Lagos\, 100106\, Nigeria
CATEGORIES:Concert,Party,Things To Do In Lagos
ATTACH;FMTTYPE=image/jpeg:https://viewlagos.ng/wp-content/uploads/2026/02/628164223_17894649477403399_8901867661305073954_n.jpg
END:VEVENT
BEGIN:VEVENT
DTSTART;TZID=Africa/Lagos:20260218T200000
DTEND;TZID=Africa/Lagos:20260218T200000
DTSTAMP:20260420T062531
CREATED:20260131T233140Z
LAST-MODIFIED:20260131T233634Z
UID:10005256-1771444800-1771444800@viewlagos.ng
SUMMARY:Until Dawn
DESCRIPTION:UNTIL DAWN is more than a party — it’s an immersive nightlife experience that keeps the energy electric from midnight till morning. \nExpect heavy sounds\, relentless energy\, non-stop dancing\, and an atmosphere that won’t let you rest. \nIf you love late nights\, high vibes\, and unforgettable moments\, this one is for you. \nWe party… UNTIL DAWN. 🔥✨
URL:https://viewlagos.ng/event/until-dawn/
LOCATION:Dulles Lagos\, 41 Bishop Oluwole St\, off Akin Adesola Street\, Victoria Island\, Lagos\, 106104\, Nigeria
CATEGORIES:Party
ATTACH;FMTTYPE=image/webp:https://viewlagos.ng/wp-content/uploads/2026/02/nnvelxjo3r6lnin5z4ma.webp
END:VEVENT
END:VCALENDAR