BEGIN:VCALENDAR
VERSION:2.0
PRODID:-//VIEWLAGOS - ECPv6.15.11//NONSGML v1.0//EN
CALSCALE:GREGORIAN
METHOD:PUBLISH
X-WR-CALNAME:VIEWLAGOS
X-ORIGINAL-URL:https://viewlagos.ng
X-WR-CALDESC:Events for VIEWLAGOS
REFRESH-INTERVAL;VALUE=DURATION:PT1H
X-Robots-Tag:noindex
X-PUBLISHED-TTL:PT1H
BEGIN:VTIMEZONE
TZID:Africa/Lagos
BEGIN:STANDARD
TZOFFSETFROM:+0100
TZOFFSETTO:+0100
TZNAME:WAT
DTSTART:20250101T000000
END:STANDARD
END:VTIMEZONE
BEGIN:VEVENT
DTSTART;TZID=Africa/Lagos:20260302T200000
DTEND;TZID=Africa/Lagos:20270104T030000
DTSTAMP:20260419T224016
CREATED:20260304T093503Z
LAST-MODIFIED:20260320T195546Z
UID:10005407-1772481600-1799031600@viewlagos.ng
SUMMARY:Obi's House Lagos- Monday Nights
DESCRIPTION:Mondays in Lagos just got a permanent upgrade. \nObi’s House Lagos is the ultimate start-of-the-week escape — a high-energy night party hosted by DJ Obi\, taking over the iconic Shiro Lagos every single Monday night. \nKicking off on March 2nd and running weekly all the way through January 4th\, 2027\, Obi’s House isn’t a one-off — it’s a weekly ritual. A space where music lovers\, tastemakers\, creatives\, and nightlife enthusiasts gather to reset the vibe and set the tone for the week ahead. \nExpect electrifying DJ sets\, infectious energy\, curated sounds that move from smooth grooves to high-tempo anthems\, and a dancefloor that refuses to slow down. This isn’t your typical “ease into the week” kind of night — it’s bold\, stylish\, and unapologetically Lagos. \nFrom after-work linkups to full-blown late-night turn-ups\, Obi’s House blends premium ambiance\, good drinks\, great company\, and the signature musical mastery that DJ Obi is known for. \nIf your Mondays have been boring\, consider that officially over. \n📅 Every Monday🗓 March 2\, 2026 – January 4\, 2027📍 Shiro Lagos \nThe week starts here. Don’t just hear about it — be in the House. 🔥
URL:https://viewlagos.ng/event/obis-house-lagos-monday-nights/
LOCATION:Shiro Lagos\, Block XVI 3 & 4\, Oniru Estate\, Victoria Island\, Lagos 101241\, Lagos\, Lagos\, Lagos\, 101241\, Nigeria
CATEGORIES:Dance,Party
ATTACH;FMTTYPE=image/jpeg:https://viewlagos.ng/wp-content/uploads/2026/03/SaveClip.App_642451740_18043489583738847_1090962558812456707_n.jpg
END:VEVENT
BEGIN:VEVENT
DTSTART;TZID=Africa/Lagos:20260304T180000
DTEND;TZID=Africa/Lagos:20260304T230000
DTSTAMP:20260419T224016
CREATED:20260205T101249Z
LAST-MODIFIED:20260205T101340Z
UID:10005269-1772647200-1772665200@viewlagos.ng
SUMMARY:The Joke's On You
DESCRIPTION:We’re bringing comedy to VL Lagos.\nBrunch Club starts at 2PM; good food\, good energy\, easy laughs. \nBy 6PM\, the room shifts and the night begins.\nOur headliner Jesta takes the stage\, and you don’t want to miss this. \nReservations are now open.
URL:https://viewlagos.ng/event/the-jokes-on-you/2026-03-04/
LOCATION:VL Lagos\, 642E Akin Adesola Street\, Victoria Island\, Lagos\, 100106\, Nigeria
CATEGORIES:Concert,Party,Things To Do In Lagos
ATTACH;FMTTYPE=image/jpeg:https://viewlagos.ng/wp-content/uploads/2026/02/628164223_17894649477403399_8901867661305073954_n.jpg
END:VEVENT
BEGIN:VEVENT
DTSTART;TZID=Africa/Lagos:20260306T220000
DTEND;TZID=Africa/Lagos:20260307T020000
DTSTAMP:20260419T224016
CREATED:20260223T095206Z
LAST-MODIFIED:20260223T095206Z
UID:10005356-1772834400-1772848800@viewlagos.ng
SUMMARY:Amapiano District: Pretty Girls Love Piano
DESCRIPTION:This edition is dedicated to the women who keep the culture alive and thriving. A celebration of the brilliant\, bold\, and creative women shaping the entertainment scene — from powerhouse DJs and unstoppable hypewomen to the masterminds working tirelessly behind the scenes. And of course… the pretty girls who simply love Amapiano and show up every time the beat drops. \nAmapiano District: Pretty Girls Love Piano is more than a party — it’s a statement. It’s about spotlighting feminine energy\, creativity\, confidence\, and community\, all set to the irresistible rhythm of drums and soulful melodies. Expect a carefully curated lineup delivering the smoothest\, hardest-hitting Amapiano sounds\, creating an atmosphere where the dancefloor becomes a celebration of style\, rhythm\, and self-expression. \nThis is where good music meets great energy. Where the girls step out looking flawless\, the vibe is effortless\, and every song feels like your favorite one. Whether you’re coming to dance all night\, vibe with your crew\, or simply soak in the energy\, this edition promises nothing but premium experiences and unforgettable moments. \n📅 Friday\, March 6th📍 Hard Rock Cafe Lagos (Victoria Island) \nLog your date. Plan your outfit. Call your girls.Come ready to move\, connect\, and celebrate. \nBecause at Amapiano District… Pretty Girls Love Piano. 💃🏽✨
URL:https://viewlagos.ng/event/amapiano-district-pretty-girls-love-piano/
LOCATION:Hard Rock Cafe\, Plot 2 & 3\, Water Corporation Dr\,\, Victoria Island\, Lagos\, 106104\, Nigeria
CATEGORIES:Dance,night,Party
ATTACH;FMTTYPE=image/jpeg:https://viewlagos.ng/wp-content/uploads/2026/02/SaveClip.App_640397904_17991393467930436_8473094304851231745_n.jpg
END:VEVENT
BEGIN:VEVENT
DTSTART;TZID=Africa/Lagos:20260306T230000
DTEND;TZID=Africa/Lagos:20260307T170000
DTSTAMP:20260419T224016
CREATED:20260225T125657Z
LAST-MODIFIED:20260225T125657Z
UID:10005374-1772838000-1772902800@viewlagos.ng
SUMMARY:Element House Lagos
DESCRIPTION:On March 6th\, we step into the elements. \nElement House Lagos is not just a night party — it’s a full sensory takeover. A high-voltage gathering where music\, movement\, and atmosphere merge into one unforgettable experience. From the moment the doors open at 11PM\, expect the energy to rise and the tempo to take control. \nSet inside the iconic Landmark Event Centre\, Element House transforms the space into a late-night sanctuary for sound lovers and nightlife connoisseurs. Deep rhythms. Heavy basslines. Hypnotic transitions. The kind of music that doesn’t just play — it possesses the room. \nFrom 11PM till 5AM\, we move through waves of sound — building\, peaking\, releasing — surrounded by a crowd that understands that the best nights are felt\, not forced. This is where the stylish\, the free-spirited\, and the rhythm-obsessed come together under one roof. \nNo distractions.No half energy.Just pure house culture. \nELEMENT HOUSE LAGOS📅 March 6th⏰ 11PM – 5AM \nEnter the element. Stay till sunrise.
URL:https://viewlagos.ng/event/element-house-lagos/
LOCATION:Landmark Event Centre\, Plot 2 & 3\, Water Corporation Drive\, Victoria Island\, Lagos State\, 106104\, Nigeria
CATEGORIES:night,Party,Things To Do In Lagos
ATTACH;FMTTYPE=image/jpeg:https://viewlagos.ng/wp-content/uploads/2026/02/SaveClip.App_634954243_18444717445108776_5058760573932815925_n.jpg
END:VEVENT
BEGIN:VEVENT
DTSTART;TZID=Africa/Lagos:20260307T090000
DTEND;TZID=Africa/Lagos:20260307T170000
DTSTAMP:20260419T224016
CREATED:20260223T110921Z
LAST-MODIFIED:20260223T110921Z
UID:10005360-1772874000-1772902800@viewlagos.ng
SUMMARY:Oriflame Wellosophy Fitness Party 2026
DESCRIPTION:Join us for the Wellosophy Fitness Party\, a high-energy experience packed with workouts\, wellness tips\, and a chance to connect with celebrity influencers who are redefining health and beauty! \nSo\, are you ready to break a sweat\, have fun\, and be inspired by some of the biggest names in fitness and wellness? Join us at the most electrifying Fitness event with Kafayat Oluwatoyin Shafau (a.k.a Kaffy) on the 7th of March\, 2026 at the Podium Event Centre Lekki\, Lagos. \nWhy You Can’t Miss This Event\nThis isn’t just a fitness session—it’s a full-blown celebration of health\, beauty\, and empowerment! Whether you’re a fitness and wellness enthusiast or just looking for a fun way to stay active\, this event has something for everyone.
URL:https://viewlagos.ng/event/oriflame-wellosophy-fitness-party-2026/
LOCATION:Podium event center\, 124 T. F. Kuboye Rd\, Lekki Phase I\, Lekki 106104\, Lagos\, Lagos\, Lagos\, 106104\, Nigeria
CATEGORIES:Party
ATTACH;FMTTYPE=image/webp:https://viewlagos.ng/wp-content/uploads/2026/02/hwdcdnbvfawlzlk0avio.webp
END:VEVENT
BEGIN:VEVENT
DTSTART;TZID=Africa/Lagos:20260307T190000
DTEND;TZID=Africa/Lagos:20260307T233000
DTSTAMP:20260419T224016
CREATED:20260304T102450Z
LAST-MODIFIED:20260304T102450Z
UID:10005410-1772910000-1772926200@viewlagos.ng
SUMMARY:Games Night
DESCRIPTION:RO: Game Night just got a serious upgrade… and Lagos\, you’re officially invited. \nThis isn’t your regular link-up. It’s not just “let’s hang and gist.” This is a fully loaded night of games\, music\, friendly competition\, and a silent disco twist — all packed into one unforgettable experience. \nOn Saturday\, March 7th at 7PM\, we’re taking over Johnny Rockets Lagos for a night where strategy meets vibes and every move counts. \nRoll the dice.Make your move.Switch channels.Own the night. \nFrom high-energy board games and interactive challenges to pulse-raising competitive moments\, RO: Game Night is built for those who like their fun with a little edge. Whether you’re in it for the laughs\, the thrill of winning\, or pure bragging rights\, there’s something waiting for you at every corner. \nAnd when the competition heats up? Slip on your headphones and step into the silent disco experience. Multiple DJ channels. Different genres. One dancefloor. You control your vibe while the party unfolds around you. \nExpect:🎲 Engaging games & competitive challenges🎧 Silent disco with multi-channel DJs🎶 Great music & high-energy atmosphere🍔 Good food\, drinks & rooftop energy🏆 Bragging rights that last beyond the night \nWhether you’re pulling up with your crew or stepping in solo ready to make new connections\, this is the kind of night you show up for — not hear about the next day. \n🗓 Saturday\, March 7th⏰ 7PM📍 Johnny Rockets\, 16 Eletu Ogabi Street\, Victoria Island
URL:https://viewlagos.ng/event/games-night/
LOCATION:Jonny Rockets\, Eletu Ogabi St\, Victoria Island\, Lagos 106104\, Lagos\, Lagos\, Lagos\, 106104\, Nigeria
CATEGORIES:Games,night,Party,Things To Do In Lagos
ATTACH;FMTTYPE=image/jpeg:https://viewlagos.ng/wp-content/uploads/2026/03/SaveClip.App_641776924_26721778590747744_8660685973147522160_n.jpg
END:VEVENT
BEGIN:VEVENT
DTSTART;TZID=Africa/Lagos:20260307T190000
DTEND;TZID=Africa/Lagos:20260308T050000
DTSTAMP:20260419T224016
CREATED:20260306T174812Z
LAST-MODIFIED:20260306T174812Z
UID:10005419-1772910000-1772946000@viewlagos.ng
SUMMARY:House At Sundown
DESCRIPTION:Cozy Ctrl & The Baccyard invite you to House at Sundown\, a vibrant beachside house music experience designed for lovers of rhythm\, community\, and late-night energy. Taking place every other Saturday\, this gathering brings together music\, people\, and atmosphere for a night where the vibe flows as naturally as the ocean breeze. \nOn March 7th from 7PM till 5AM\, the dancefloor moves to the sand at Danfo on the Beach\, where the sunset sets the tone for an unforgettable night of sound and connection. From the golden hour glow of early evening to the deep hours of the night\, guests will experience a carefully curated soundtrack of house music that keeps the energy building long after the sun goes down. \nHouse at Sundown isn’t just a party — it’s a gathering for people who appreciate great music\, good company\, and the magic of dancing by the water. Expect a relaxed but electric atmosphere where friends link up\, strangers become dance partners\, and the rhythm carries the night forward. \nWhether you’re coming for the music\, the beachside vibe\, or simply to unwind and enjoy the moment\, this is the perfect escape from the usual nightlife routine. \n🌅 Beachside sunset atmosphere🎶 Curated house music all night🕺🏽 A community of music lovers and free spirits \n📅 March 7th\, 2026⏰ 7PM – 5AM📍 Danfo on the Beach \nAs the sun goes down\, the music rises. Come dance with us.
URL:https://viewlagos.ng/event/house-at-sundown/
LOCATION:Danfo on the beach\, Elegushi private beach gate 2\, Elegushi\, Elegushi\, Lagos 106104\, Lagos\, Nigeria\, Lagos\, Lagos\, 106104\, Nigeria
CATEGORIES:night,Party,Social
ATTACH;FMTTYPE=image/webp:https://viewlagos.ng/wp-content/uploads/2026/03/jquh4uan0gmnakycgd67.webp
END:VEVENT
END:VCALENDAR