BEGIN:VCALENDAR
VERSION:2.0
PRODID:-//VIEWLAGOS - ECPv6.15.11//NONSGML v1.0//EN
CALSCALE:GREGORIAN
METHOD:PUBLISH
X-WR-CALNAME:VIEWLAGOS
X-ORIGINAL-URL:https://viewlagos.ng
X-WR-CALDESC:Events for VIEWLAGOS
REFRESH-INTERVAL;VALUE=DURATION:PT1H
X-Robots-Tag:noindex
X-PUBLISHED-TTL:PT1H
BEGIN:VTIMEZONE
TZID:Africa/Lagos
BEGIN:STANDARD
TZOFFSETFROM:+0100
TZOFFSETTO:+0100
TZNAME:WAT
DTSTART:20240101T000000
END:STANDARD
END:VTIMEZONE
BEGIN:VEVENT
DTSTART;TZID=Africa/Lagos:20250801T210000
DTEND;TZID=Africa/Lagos:20250802T050000
DTSTAMP:20260419T161350
CREATED:20250801T104404Z
LAST-MODIFIED:20250801T104404Z
UID:10000670-1754082000-1754110800@viewlagos.ng
SUMMARY:Madhouse - Zone Red
DESCRIPTION:What happens when you go far from home? You cross over. You enter ZONE RED\, an alternate universe where rules dissolve\, the lights never dim\, and every heartbeat syncs with the bass. \nThis isn’t just another party. It’s a full-body escape. A night drenched in red heat\, raw energy\, and zero inhibitions. \nWhat to Expect: \n\nExplosive performances\nPounding beats\nA dancefloor on fire\n\nNo judgment. No limits. No holding back.Once you step in\, you’re in.
URL:https://viewlagos.ng/event/madhouse-zone-red/
LOCATION:Hard Rock Cafe\, Plot 2 & 3\, Water Corporation Dr\,\, Victoria Island\, Lagos\, 106104\, Nigeria
CATEGORIES:Things To Do In Lagos
ATTACH;FMTTYPE=image/webp:https://viewlagos.ng/wp-content/uploads/2025/08/xriqojipc7tyr3xt4mnk.webp
END:VEVENT
BEGIN:VEVENT
DTSTART;TZID=Africa/Lagos:20250802T220000
DTEND;TZID=Africa/Lagos:20250803T033000
DTSTAMP:20260419T161350
CREATED:20250802T174344Z
LAST-MODIFIED:20250802T174344Z
UID:10000679-1754172000-1754191800@viewlagos.ng
SUMMARY:Flexy Saturday
DESCRIPTION:Flexy Saturday is here to light up your night. \nThis August 2nd\, step into the weekend the right way — with bold vibes\, smooth drinks\, and beats that don’t quit. \nMusic Policy: DJ Alex RolexHype: SkezayoVenue: Bellies Club\, 30 Addo Rd\, Adunni Mall Rooftop\, beside Our Lady of Perpetual Catholic Church\, Ajah Lekki\, LagosTime: 10PM till late \nThis is where the rhythm meets the rooftop. No drama\, just pure nightlife energy. \nFor reservations: +234 704 223 2047
URL:https://viewlagos.ng/event/flexy-saturday/
LOCATION:Bellies Club\, Roof Top\, 30 Addo Road\, Ajah\, Lagos\, 106104\, Nigeria
CATEGORIES:Things To Do In Lagos
ATTACH;FMTTYPE=image/png:https://viewlagos.ng/wp-content/uploads/2025/08/02-AUG.png
END:VEVENT
BEGIN:VEVENT
DTSTART;TZID=Africa/Lagos:20250810T120000
DTEND;TZID=Africa/Lagos:20250810T210000
DTSTAMP:20260419T161350
CREATED:20250624T205316Z
LAST-MODIFIED:20250624T205431Z
UID:10000529-1754827200-1754859600@viewlagos.ng
SUMMARY:Motorbikes and FoodFest - Jollof and Palmie 7.0
DESCRIPTION:Jollof & Palmie is a Motorbikes and Food Festival organised by the Biker’s with Attitude and Determination (B.A.D Gang). This is an annual celebration that fosters positive connections between riding and non-riding communities. \nNow in its 7th edition\, Jollof & Palmie 7.0 promises an electrifying experience featuring vibrant music\, thrilling games and competitions\, dazzling bike and car displays\, VIP appearances\, and mouth-watering African cuisine. \nGet ready to RIDE\, EAT\, DRINK\, PARTY & REPEAT—we can’t wait to welcome you to the biggest biker and food culture event.
URL:https://viewlagos.ng/event/motorbikes-and-foodfest-jollof-and-palmie-7-0/
LOCATION:Muri Okunola Park\, CCQG+528\, Adeyemo Alakija St\, Victoria Island\, Lagos\, 106104\, Nigeria
CATEGORIES:Things To Do In Lagos
ATTACH;FMTTYPE=image/png:https://viewlagos.ng/wp-content/uploads/2025/06/bikefest.png
END:VEVENT
BEGIN:VEVENT
DTSTART;TZID=Africa/Lagos:20250810T140000
DTEND;TZID=Africa/Lagos:20250810T220000
DTSTAMP:20260419T161350
CREATED:20250725T174755Z
LAST-MODIFIED:20250725T174755Z
UID:10000604-1754834400-1754863200@viewlagos.ng
SUMMARY:Couple's Delight
DESCRIPTION:Couple’s Delight is a monthly event that holds every 2nd Sunday of the month where Old Couples who are renewing their Vow and New Couples in town 🎊 gather to relax\, enjoy and get entertained together with each other. The FLOOR is FREE. \nThe Swimming pool is also FREE for the Old or New Couples when your friends and family turn up massively to buy our drinks\, food\, swim and patronize our other hotel services. \nOur MC And DJ are set to make you enjoy every bit of the event. For more Inquiries\, Sponsorship\, partnership\,  participation\, bookings and reservations kindly call Whatsapp/telegram: +2349028565154
URL:https://viewlagos.ng/event/couples-delight/2025-08-10/
LOCATION:Club Duban\, 61/65 Ogunnusi Road\, Formerly Isheri Road\,\, Ogba\, Lagos\, Nigeria
CATEGORIES:Things To Do In Lagos
ATTACH;FMTTYPE=image/webp:https://viewlagos.ng/wp-content/uploads/2025/07/ui9qpem7knwsz8waoqie.webp
END:VEVENT
BEGIN:VEVENT
DTSTART;TZID=Africa/Lagos:20250816T120000
DTEND;TZID=Africa/Lagos:20250817T000000
DTSTAMP:20260419T161350
CREATED:20250801T112402Z
LAST-MODIFIED:20250801T112402Z
UID:10000673-1755345600-1755388800@viewlagos.ng
SUMMARY:Softlife Experience At Tarkwabay
DESCRIPTION:Escape the City\, Embrace the Softlife.\nSoftlife NG is curating an unforgettable LUXURY/CAMPING beach getaway at Tarkwa Bay designed to offer guests the ultimate escape\, This is MORE than a party\, it’s a 24-hour IMMERSIVE EXPERIENCE that fuses beachside serenity\, premium hospitality\, curated fun\, and soft living.\n\nThink boat cruise\, Glamping under the stars\, Bonfire vibes\, Beach games\, Swimming\, Movies\, Party\, Gourmet dinner & Breakfast\, and a whole lot of soft living. 🏝️ \nWhether you’re coming solo\, VIP or as a couple\, this is your chance to experience the ultimate Softlife Experience. \n📍 Sunset Haven\, Tarkwabay\n⛴️ Meet at Jetty: 12PM. Location will be disclosed upon ticket purchase.\n📞 Enquires: 09069961938
URL:https://viewlagos.ng/event/softlife-experience-at-tarkwabay/
LOCATION:Sunset Haven Tarkwa Bay\, Lotu St\,\, Lekki\, Lagos\, 105101\, Nigeria
CATEGORIES:Things To Do In Lagos
ATTACH;FMTTYPE=image/webp:https://viewlagos.ng/wp-content/uploads/2025/08/eezxnbwyiaj6bnlbpkki.webp
END:VEVENT
BEGIN:VEVENT
DTSTART;TZID=Africa/Lagos:20250816T150000
DTEND;TZID=Africa/Lagos:20250816T230000
DTSTAMP:20260419T161350
CREATED:20250815T183158Z
LAST-MODIFIED:20250815T183158Z
UID:10000687-1755356400-1755385200@viewlagos.ng
SUMMARY:Beats In The Park 25
DESCRIPTION:Join us at Beats in the Park\, a spectacular celebration of creativity\, sound\, and community in the heart of Lagos\, Nigeria. This immersive event showcases diverse lineups featuring LLona\, Ara Music and Oiza and Meyi and many others who are all emerging artists + a Special Guest to be Revealed later\, also performing are DJ Venmak + Surprise Guests\, Titanium\, Naffythedeejay\, DJ Pampam\, BIGBIMI and a host of other DJ’s and Hypemen on the night. They all will be delivering unforgettable performances that defy musical boundaries. \nExperience an explosion of innovative beats\, soulful melodies\, and electrifying rhythms that captivate the senses. Beyond the music there will be local culinary delights\, and creative workshops that enrich the musical experience. Beats in the Park is more than a concert; it is a dynamic convergence of culture and art\, inspiring unity and the transformative power of music. \nDon’t miss this chance to be part of a groundbreaking event that promises to ignite passion\, foster creativity\, and celebrate the vibrant spirit of Lagos. Prepare to be inspired by an unforgettable experience that resonates beyond the final note.
URL:https://viewlagos.ng/event/beats-in-the-park-25/
LOCATION:Muri Okunola Park\, CCQG+528\, Adeyemo Alakija St\, Victoria Island\, Lagos\, 106104\, Nigeria
CATEGORIES:Things To Do In Lagos
ATTACH;FMTTYPE=image/webp:https://viewlagos.ng/wp-content/uploads/2025/08/x0j6zuj8q0eivogskxzx.webp
END:VEVENT
BEGIN:VEVENT
DTSTART;TZID=Africa/Lagos:20250816T180000
DTEND;TZID=Africa/Lagos:20250816T180000
DTSTAMP:20260419T161350
CREATED:20250815T183900Z
LAST-MODIFIED:20250815T183936Z
UID:10000689-1755367200-1755367200@viewlagos.ng
SUMMARY:808’s Kitchen
DESCRIPTION:808’s Kitchen is DJ 808’s high-energy rave a fusion of Afrobeats\, amapiano\, and global sounds\, cooked up for all-night dancing and unforgettable vibes.
URL:https://viewlagos.ng/event/808s-kitchen/
LOCATION:Cook Am For Me\, 35 Vineyard Road\, Oshodi-Isolo\, Lagos\, 100263\, Nigeria
CATEGORIES:Things To Do In Lagos
ATTACH;FMTTYPE=image/webp:https://viewlagos.ng/wp-content/uploads/2025/08/znxc6q9pied3vr5pm6my-scaled.webp
END:VEVENT
BEGIN:VEVENT
DTSTART;TZID=Africa/Lagos:20250820T175900
DTEND;TZID=Africa/Lagos:20250820T210000
DTSTAMP:20260419T161350
CREATED:20250818T112759Z
LAST-MODIFIED:20250818T113357Z
UID:10000709-1755712740-1755723600@viewlagos.ng
SUMMARY:Movie Watch Party at Hub30
DESCRIPTION:Get ready for an evening of fun\, movies\, and vibes at Hub30 Coworking Space. \n📅 Date: Wednesday\, 20th August⏰ Time: 5:59 PM (No Naija Time)📍 Venue: No 29\, 204 Road\, Festac Town\, Lagos \nWhat’s in store: \n\n\nFree popcorn to keep you munching \n\n\nDrinks to set the mood \n\n\n15% off workspace passes just for you \n\n\nBring your friends\, sit back on the couch\, and enjoy the big screen experience in style. \n👉 RSVP now by texting “MOVIENIGHT” to 09058211154
URL:https://viewlagos.ng/event/movie-watch-party-at-hub30/
LOCATION:Hub30 Coworking Space\, 29\, 204 Road\, 2nd Avenue\, Festac Town\, Lagos\, 102312\, Nigeria
CATEGORIES:Things To Do In Lagos
ATTACH;FMTTYPE=image/jpeg:https://viewlagos.ng/wp-content/uploads/2025/08/Movie-.jpg
END:VEVENT
BEGIN:VEVENT
DTSTART;TZID=Africa/Lagos:20250822T220000
DTEND;TZID=Africa/Lagos:20250823T060000
DTSTAMP:20260419T161350
CREATED:20250801T102042Z
LAST-MODIFIED:20250801T102042Z
UID:10000668-1755900000-1755928800@viewlagos.ng
SUMMARY:Group Therapy - 2 Year Anniversary
DESCRIPTION:Lagos\, are you ready to go deep? 🔊💥 \nOn August 22\, the iconic NITEFREAK lands in Lagos\, Nigeria for an explosive celebration marking 2 years of Group Therapy\, the party series that’s been redefining nightlife across the globe. \nExpect pulsating beats\, immersive energy\, and a crowd that came to lose themselves in sound. This isn’t just a party\, it’s a movement\, a ritual\, a high-frequency experience. \nDate: August 22Location: Lagos\, NGVibe: Afro House\, Deep Tech\, Electronic Soul \nCurated for true music heads and night seekers. Let’s make history.
URL:https://viewlagos.ng/event/group-therapy-2-year-anniversary/
LOCATION:Lagos
CATEGORIES:Things To Do In Lagos
ATTACH;FMTTYPE=image/webp:https://viewlagos.ng/wp-content/uploads/2025/08/zve399gnmgh7vlx9hklf-scaled.webp
END:VEVENT
BEGIN:VEVENT
DTSTART;TZID=Africa/Lagos:20250823T220000
DTEND;TZID=Africa/Lagos:20250824T030000
DTSTAMP:20260419T161350
CREATED:20250815T182935Z
LAST-MODIFIED:20250815T182935Z
UID:10000686-1755986400-1756004400@viewlagos.ng
SUMMARY:Afro Extravaganza 9000
DESCRIPTION:Afro Extravaganza 9000 is back for round two—bigger\, bolder\, and badder than ever! \nThe ultimate fusion of afrobeats\, culture\, and high-energy vibes is about to light up the city once again.
URL:https://viewlagos.ng/event/afro-extravaganza-9000/
LOCATION:NOK By Alara\, 2A Akin Olugbade Street\, Victoria Island\, Lagos\, 106104\, Nigeria
CATEGORIES:Things To Do In Lagos
ATTACH;FMTTYPE=image/webp:https://viewlagos.ng/wp-content/uploads/2025/08/avefd1fmokjvwkbtcshm.webp
END:VEVENT
BEGIN:VEVENT
DTSTART;TZID=Africa/Lagos:20250829T080000
DTEND;TZID=Africa/Lagos:20250829T160000
DTSTAMP:20260419T161350
CREATED:20250815T182244Z
LAST-MODIFIED:20250815T182244Z
UID:10000685-1756454400-1756483200@viewlagos.ng
SUMMARY:Vogue Boys DIRTY\, SEXY RAVE
DESCRIPTION:We spent the first half of the year mesmerising Milan\, peppering Paris and arousing Abuja and now we’re bringing the masquerades back home to where it all started! Dust off your sluttiest outfits and come have a sexy time with us. \nPICTURE THIS: you’ve been to every rave since Herod’s step-daughter twerked her way to getting the head of John the Baptist on a gold platter but you’ve never experienced anything quite as exciting as this. People are hugging masquerades\, raging in cages and singing at the top of their lungs to genres from Mara to Afro-House. As you wade through an ocean of scantily clad baddies trying to get to the bar from the moshpits\, you look up to the heavens and thank your stars you bought those tickets to Vogue Boys DIRTY\, SEXY RAVE.
URL:https://viewlagos.ng/event/vogue-boys-dirty-sexy-rave/
LOCATION:Lagos Island\, Lagos Island\, Lagos\, 101001\, Nigeria
CATEGORIES:Things To Do In Lagos
ATTACH;FMTTYPE=image/webp:https://viewlagos.ng/wp-content/uploads/2025/08/r1s6kizwdnmkdwvn8zoq.webp
END:VEVENT
BEGIN:VEVENT
DTSTART;TZID=Africa/Lagos:20250830T140000
DTEND;TZID=Africa/Lagos:20250831T040000
DTSTAMP:20260419T161350
CREATED:20250815T183606Z
LAST-MODIFIED:20250815T183606Z
UID:10000688-1756562400-1756612800@viewlagos.ng
SUMMARY:PM2AM: HOT BODY SUMMER
DESCRIPTION:WE ARE BACK AND BETTER\, THIS TIME\, ANOTHER MAZZA AT VODA BEACH WITH MAVIN \nInspired by all the hot bodies out there\, it’s about to be a Hot Body Summer for real. We want everybody to come out\, get lit\, and get wet with the gang. Expect a lot of pop-up activities during the day before we transition into a full-on party at night. \n\nSet agains the Coastline of Lagos\, Hot Body Summer brings together music\, fashion\, and soft-life energy for a truly unforgettable day-to-night experience.\nThe day kicks off with the pop-up before we shift into rave mode. Think your favourite makeup\, swimwear\, and beauty brands (brand stalls are limited\, so apply early to secure yours).\nFrom golden-hour slushies to midnight dancefloors\, the event will uplift all expressions of beauty and create a space where anything goes.\nExpect a euphoric sonic journey across Afrobeats\, Amapiano\, and Afrohouse—fused with immersive attractions\, playful side activities\, and fashion-forward energy.\nWhether you’re showing skin or just showing up\, this summer\, your body is the vibe.
URL:https://viewlagos.ng/event/pm2am-hot-body-summer/
LOCATION:VODA BEACH\, CFFM+54\, Eti-Osa\, Lekki\, Lagos\, 106104\, Nigeria
CATEGORIES:Things To Do In Lagos
ATTACH;FMTTYPE=image/webp:https://viewlagos.ng/wp-content/uploads/2025/08/jssgvnmeuys3ifmh2qhm.webp
END:VEVENT
BEGIN:VEVENT
DTSTART;TZID=Africa/Lagos:20250831T160000
DTEND;TZID=Africa/Lagos:20250831T200000
DTSTAMP:20260419T161350
CREATED:20250826T111644Z
LAST-MODIFIED:20250826T112145Z
UID:10000719-1756656000-1756670400@viewlagos.ng
SUMMARY:Ara Monthly @ KAP Hub
DESCRIPTION:Get ready for an electrifying cultural experience as the legendary Ara\, Africa’s first female talking drummer\, brings her energy and artistry to the heart of Ikeja! \nJoin us at the Kunle Afolayan Production Centre (KAPHub) for an unforgettable evening of music\, drums\, storytelling\, and raw\, unfiltered talent. \n📍 Venue: 41\, Ogundana Street\, off Allen Avenue\, Allen\, Ikeja📅 Date: 31st August\, 2025⏰ Time: 4PM – 8PM🎟 Ticket: ₦50\,000 \nLimited seats available!Purchase tickets online on ViewLagos \n🔥 Come experience the rhythm\, the passion\, and the magic.Unleashed. Unfiltered. Unforgettable. \nFor sponsorship or participation\, call: 0703 533 8776
URL:https://viewlagos.ng/event/ara-monthly-kap-hub/
LOCATION:KAP Hub\, 41 Ogundana Street off Allen Avenue\, Ikeja\, Lagos\, 100102\, Nigeria
CATEGORIES:Entertainment,Things To Do In Lagos
ATTACH;FMTTYPE=image/jpeg:https://viewlagos.ng/wp-content/uploads/2025/08/ara.jpeg
END:VEVENT
END:VCALENDAR