BEGIN:VCALENDAR
VERSION:2.0
PRODID:-//VIEWLAGOS - ECPv6.15.11//NONSGML v1.0//EN
CALSCALE:GREGORIAN
METHOD:PUBLISH
X-ORIGINAL-URL:https://viewlagos.ng
X-WR-CALDESC:Events for VIEWLAGOS
REFRESH-INTERVAL;VALUE=DURATION:PT1H
X-Robots-Tag:noindex
X-PUBLISHED-TTL:PT1H
BEGIN:VTIMEZONE
TZID:Africa/Lagos
BEGIN:STANDARD
TZOFFSETFROM:+0100
TZOFFSETTO:+0100
TZNAME:WAT
DTSTART:20240101T000000
END:STANDARD
END:VTIMEZONE
BEGIN:VEVENT
DTSTART;TZID=Africa/Lagos:20250419T080000
DTEND;TZID=Africa/Lagos:20250420T030000
DTSTAMP:20260420T073140
CREATED:20250417T124008Z
LAST-MODIFIED:20250417T124008Z
UID:10000112-1745049600-1745118000@viewlagos.ng
SUMMARY:Club In The Park
DESCRIPTION:“Club in the Park” is the ultimate outdoor party experience happening at Gameland by lekki coliseum on April 19th! Get ready to vibe with electrifying music\, top DJs\, and an unbeatable atmosphere. With DJ Neptune\, VJ Adams and Slimcase confirmed\, don’t miss this perfect mix of nature\, nightlife\, and unforgettable energy!
URL:https://viewlagos.ng/event/club-in-the-park/
LOCATION:Gameland\, The Lekki Coliseum - 14 Providence street\, off Admiralty Way\,\, Lekki Phase 1\, Lagos\, 106104\, Nigeria
CATEGORIES:Easter,Things To Do In Lagos
ATTACH;FMTTYPE=image/jpeg:https://viewlagos.ng/wp-content/uploads/2025/04/3ea9f01a-d193-413c-826a-dc42cbc6c3b3-600x667-2.jpeg
END:VEVENT
BEGIN:VEVENT
DTSTART;TZID=Africa/Lagos:20250420T053000
DTEND;TZID=Africa/Lagos:20250420T233000
DTSTAMP:20260420T073140
CREATED:20250418T133545Z
LAST-MODIFIED:20250418T133545Z
UID:10000118-1745127000-1745191800@viewlagos.ng
SUMMARY:Smirnoff Hangouts Lagos
DESCRIPTION:We got the littest party this Easter headlined by Reekado Banks! Get ready to rave and have so much fun like never before. Access is FREE\, however registration is compulsory!
URL:https://viewlagos.ng/event/smirnoff-hangouts-lagos/
LOCATION:Sinatra Place\, 16B Ladipo Oluwole St\, Ogba\, Ikeja\, Lagos\, 101233
CATEGORIES:Easter,Things To Do In Lagos
ATTACH;FMTTYPE=image/webp:https://viewlagos.ng/wp-content/uploads/2025/04/mjrojrl33zujkslma2v6.webp
END:VEVENT
BEGIN:VEVENT
DTSTART;TZID=Africa/Lagos:20250420T110000
DTEND;TZID=Africa/Lagos:20250420T180000
DTSTAMP:20260420T073140
CREATED:20250418T082754Z
LAST-MODIFIED:20250418T103229Z
UID:10000114-1745146800-1745172000@viewlagos.ng
SUMMARY:Sunday At Ilashe
DESCRIPTION:SUNDAY AT ILASHE IS BACK this Easter Holiday with a special ALL WHTE PARTY AT THE BEACH \nWe have a full day beach experience that includes:\n-Private Boat Rides 🛥️\n-Jeep Rides 🏁\n-Food🍱\n-Drinks 🥂\n-Games 🎮 \nAnd many more surprises in store for all guests attending!\nGet your tickets today. We will have limited tickets for this event! \nTake off Point: CCRG+VVP\, Falomo Brg\, Ikoyi\, Lagos 110233\, Lagos\, Nigeria \n \n 
URL:https://viewlagos.ng/event/sunday-at-ilashe/
LOCATION:ILASHE BEACH\, Lagos\, Nigeria
CATEGORIES:Easter,Things To Do In Lagos
ATTACH;FMTTYPE=image/png:https://viewlagos.ng/wp-content/uploads/2025/04/SAI.png
ORGANIZER;CN="SOD Experience":MAILTO:sod@sod.co
END:VEVENT
BEGIN:VEVENT
DTSTART;TZID=Africa/Lagos:20250420T110000
DTEND;TZID=Africa/Lagos:20250420T233000
DTSTAMP:20260420T073140
CREATED:20250418T130553Z
LAST-MODIFIED:20250418T130553Z
UID:10000116-1745146800-1745191800@viewlagos.ng
SUMMARY:Lagos Freedom Festival
DESCRIPTION:LAGOS FREEDOM FESTIVAL 2025 – Where Entertainment\, Culture\, Resistance & Celebration Collide! ✨ \nLagos is more than a city—it’s a rhythm\, a movement\, a fusion of cultures and histories. Join us at the Lagos Freedom Festival as we honor the fearless women of the 1929 Ikot Abasi Revolt\, celebrate Lagos’ rich ethnic diversity\, and ignite a new wave of art\, activism\, and entertainment! \nWhat’s in Store?\nTheatre – MMA UDOMA:\nExperience the powerful retelling of the forgotten women’s resistance before the Aba Women’s Riot. \nMusic & DJ Sets:\nA pulsating mix of Afrobeat\, Highlife\, Fuji\, Hip-Hop\, and indigenous rhythms that capture the spirit of Lagos. \n💬 Panel Discussion:\nDeep conversations on activism\, identity\, and the role of art in shaping our society. \n💃🏾 Dance & Art:\nA vibrant showcase of movement and creativity from diverse cultural backgrounds. \nCulture & Activism:\nCelebrate the ethnic blend that makes Lagos a melting pot of resilience\, storytelling\, and revolution. \n  \nThis is not just an event—it’s a movement\, a festival of voices\, a fusion of past and present\, a call to celebrate and rise. Whether you are Yoruba\, Igbo\, Hausa\, Efik\, Tiv\, any part of the globe—Lagos Freedom Festival welcomes YOU! \n  \n📅 Date: April 20\, 2025\n⏰ Time: 11 AM\n📍 Venue: FESTIVAL HOTEL ( Former Golden Tulip) Opposite ShopRite\, Arthur Mbadiwe Hall\,\nDiamond Estate\, Amuwo Odofin\, Lagos Nigeria \n🎟️ Get your tickets NOW! Be part of history\, culture\, and the unstoppable energy of Lagos! \n#LagosFreedomFestival #MmaUdoma #WeAreLagos #CultureUnitesUs #ArtForChange
URL:https://viewlagos.ng/event/lagos-freedom-festival/
LOCATION:Festival Hotel (Former Golden Tulip)\, Diamond Estate\, Janet Fajemigbesin St\, off Festac Link Bridge\, Amuwo Odofin Estate\, Festac\, Lagos\, 102102\, Nigeria
CATEGORIES:Festival,Things To Do In Lagos
ATTACH;FMTTYPE=image/jpeg:https://viewlagos.ng/wp-content/uploads/2025/04/d2fb0aa5-458b-4391-93c6-24b813d44f05-600x300-1.jpeg
ORGANIZER;CN="iRise":MAILTO:contact@iriseinitiative.org
END:VEVENT
BEGIN:VEVENT
DTSTART;TZID=Africa/Lagos:20250420T120000
DTEND;TZID=Africa/Lagos:20250420T180000
DTSTAMP:20260420T073140
CREATED:20250416T222754Z
LAST-MODIFIED:20250416T222754Z
UID:10000107-1745150400-1745172000@viewlagos.ng
SUMMARY:Be Bold\, Be Hoppy
DESCRIPTION:Hop into the Fun this Easter at Hard Rock Cafe Lagos! 🐣🎨🔥 \nWe’re bringing the joy of the season to life with our Easter Village Fun Day & Bazaar — a playful\, family-friendly celebration filled with all the excitement kids (and grown-ups) love. \nFun Activities Include:\nEgg Hunts\nFace Painting\nKids Talent Show Competition\nMusic\, Games & More. \nExpect a day filled with joy\, laughter\, and playful memories.\nBring the whole family and join in on the fun this Easter! \n📅 Date: Sunday\, April 20th\n⏰ Time: 12pm – 6pm \nTo make reservations\, 📞call 09066990660
URL:https://viewlagos.ng/event/be-bold-be-hoppy/
LOCATION:Hard Rock Cafe\, Plot 2 & 3\, Water Corporation Dr\,\, Victoria Island\, Lagos\, 106104\, Nigeria
CATEGORIES:Easter,Things To Do In Lagos
ATTACH;FMTTYPE=image/webp:https://viewlagos.ng/wp-content/uploads/2025/04/490294397_18470010319068806_9208339037929585812_n.webp
END:VEVENT
BEGIN:VEVENT
DTSTART;TZID=Africa/Lagos:20250420T163000
DTEND;TZID=Africa/Lagos:20250420T200000
DTSTAMP:20260420T073140
CREATED:20250321T093143Z
LAST-MODIFIED:20250321T093429Z
UID:10000076-1745166600-1745179200@viewlagos.ng
SUMMARY:Lagos Karaoke & Games with Alali VI
DESCRIPTION:Lagos Karaoke & Games with Alali VI \nJoin us for an evening of fun and entertainment at the Lagos Karaoke & Games with Alali VI event! Get ready to unleash your inner superstar and show off your singing skills in the heart of Lagos. \nOn Sundays\, starting at 16:30\, come down to 32 Musa Yar’ Adua St. and be part of this exciting event. Whether you’re a seasoned karaoke enthusiast or a first-timer\, this is the perfect opportunity to showcase your talent and have a blast with friends and family. \nGet ready to sing your heart out with a wide selection of songs\, ranging from classic hits to the latest chart-toppers. \nBut wait\, there’s more! In addition to karaoke\, we have an array of instagrammable games lined up for you. Challenge your friends to a friendly competition and see who comes out on top. From interactive trivia to exciting dance-offs\, there’s something for everyone. \nSo mark your calendars and don’t miss out on the Lagos Karaoke & Games with Alali VI event. It’s going to be an evening filled with laughter\, music\, and memories. Grab your friends\, warm up those vocal cords\, and get ready for an unforgettable night of entertainment. We can’t wait to see you there!
URL:https://viewlagos.ng/event/lagos-karaoke-games-with-alali-vi/2025-04-20/
LOCATION:Alali\, 32 Musa Yar' Adua Street\, Victoria Island\, Lagos State\, 106104\, Nigeria
CATEGORIES:Things To Do In Lagos
ATTACH;FMTTYPE=image/jpeg:https://viewlagos.ng/wp-content/uploads/2025/03/karaoke.jpeg
END:VEVENT
BEGIN:VEVENT
DTSTART;TZID=Africa/Lagos:20250420T163000
DTEND;TZID=Africa/Lagos:20250420T230000
DTSTAMP:20260420T073140
CREATED:20250316T201958Z
LAST-MODIFIED:20250316T211947Z
UID:10000014-1745166600-1745190000@viewlagos.ng
SUMMARY:Its Selfie Sunday at Alali VI!
DESCRIPTION:Welcome to Its Selfie Sunday at Alali VI! Looking for fun things to do in Lagos every Sunday? Look no further! Join us at Alali VI for a day filled with selfie-taking\, music\, food\, and good vibes. Whether you’re a selfie pro or just looking to snap a few pics with friends\, this event is perfect for you. Don’t miss out on the opportunity to capture some amazing memories in one of Lagos’s hottest spots. See you there!
URL:https://viewlagos.ng/event/its-selfie-sunday-at-alali-vi/2025-04-20/
LOCATION:Alali\, 32 Musa Yar' Adua Street\, Victoria Island\, Lagos State\, 106104\, Nigeria
CATEGORIES:Things To Do In Lagos
ATTACH;FMTTYPE=image/jpeg:https://viewlagos.ng/wp-content/uploads/2025/03/selfie.jpeg
END:VEVENT
BEGIN:VEVENT
DTSTART;TZID=Africa/Lagos:20250420T170000
DTEND;TZID=Africa/Lagos:20250421T000000
DTSTAMP:20260420T073140
CREATED:20250418T140821Z
LAST-MODIFIED:20250418T140821Z
UID:10000120-1745168400-1745193600@viewlagos.ng
SUMMARY:Movie In The Park\, All White Edition
DESCRIPTION:Movie in the Park is the largest outdoor movie screening experience in Nigeria. It offers a unique bonding experience through movies\, food and music. We’re excited to be coming back to the park this April\, for the first time this year for another unforgettable outdoor movie screening! 🍿 \nCome dressed in your All White outfits and immerse yourself in a night of movies\, good food\, good music and good people. \n🗓️: 20th April\n📍: Muri Okunola park VI\, Lagos.\n🕔: Event starts 5PM\, movie starts 7PM\nAfter party till midnight \nIt’s going to be a good evening with your favorite Nollywood actors and influencers. \nDon’t miss out 😍
URL:https://viewlagos.ng/event/movie-in-the-park-all-white-edition/
LOCATION:Muri Okunola Park\, CCQG+528\, Adeyemo Alakija St\, Victoria Island\, Lagos\, 106104\, Nigeria
CATEGORIES:Easter,Things To Do In Lagos
ATTACH;FMTTYPE=image/jpeg:https://viewlagos.ng/wp-content/uploads/2025/04/489585105_18017720924705166_1420393894267769883_n.jpg
END:VEVENT
BEGIN:VEVENT
DTSTART;TZID=Africa/Lagos:20250420T190000
DTEND;TZID=Africa/Lagos:20250421T050000
DTSTAMP:20260420T073140
CREATED:20250418T135812Z
LAST-MODIFIED:20250418T135812Z
UID:10000119-1745175600-1745211600@viewlagos.ng
SUMMARY:Fire&Sand Easter
DESCRIPTION:The Biggest Bonfire Party in Lagos is Back!!! \nThe only rave created for people looking for a wild night in Lagos where the fun never stops. \nCome let’s set the LAGOS MAINLAND ablaze with music & vibes non stop all night. Get your tickets now and let us rave together \nBrought to you by The Party Company. \nDate: April 20\, 2025\nVenue: Eagle’s Club\, Surulere \nBook your tickets now to get your groove on! \n 
URL:https://viewlagos.ng/event/firesand-easter/
LOCATION:Eagles Club\, 96 Adeniran Ogunsanya St\, off Bode Thomas\, Surulere\, Lagos\, 101241\, Nigeria
CATEGORIES:Easter,Things To Do In Lagos
ATTACH;FMTTYPE=image/jpeg:https://viewlagos.ng/wp-content/uploads/2025/04/491464856_18267438544286677_8408391185822705635_n.jpg
END:VEVENT
END:VCALENDAR