BEGIN:VCALENDAR
VERSION:2.0
PRODID:-//VIEWLAGOS - ECPv6.15.11//NONSGML v1.0//EN
CALSCALE:GREGORIAN
METHOD:PUBLISH
X-ORIGINAL-URL:https://viewlagos.ng
X-WR-CALDESC:Events for VIEWLAGOS
REFRESH-INTERVAL;VALUE=DURATION:PT1H
X-Robots-Tag:noindex
X-PUBLISHED-TTL:PT1H
BEGIN:VTIMEZONE
TZID:Africa/Lagos
BEGIN:STANDARD
TZOFFSETFROM:+0100
TZOFFSETTO:+0100
TZNAME:WAT
DTSTART:20240101T000000
END:STANDARD
END:VTIMEZONE
BEGIN:VEVENT
DTSTART;TZID=Africa/Lagos:20250607T120000
DTEND;TZID=Africa/Lagos:20250608T230000
DTSTAMP:20260419T161949
CREATED:20250605T160446Z
LAST-MODIFIED:20250605T160446Z
UID:10000519-1749297600-1749423600@viewlagos.ng
SUMMARY:Chaka Resort Sallah Pool Party
DESCRIPTION:Get ready for the ultimate Sallah weekend turn-up AT Chaka Beach Resort! It’s fun\, music\, vibes\, and waves all in one sizzling location. \n📍 Chaka Beach Resort\, Eleko📅 June 7th & 8th\, 2025🕛 12 Noon – 11PM daily \n🎤 LIVE PERFORMANCES by:Areezy • Dezign OVO • Teemirror • Ermandha • Siifa • Eben Sax • Soundboy FA • KW33N B • DJ Nana • DJ Maff Blac🎙️ Hosted by the one and only MC Ovie \n🎟️ ENTRY: \n\n\nRegular: ₦20\,000 (Swimming Pool + Beach Arena Access) \n\n\nVIP: ₦50\,000 (Cinema Ticket + Pool + VIP Beach View Arena)👙 First 20 Ladies in Bikini get FREE ENTRY 🚨 Only 100 guests allowed – Early reservation is a must! \n\n\nFor Tickets\, Resort Rooms\, Sponsorship & Exhibits:Call/WhatsApp: 0707 540 5786 | 0812 690 2872 \n📣 Powered by Music Africa🎥 Media Partners: Rhythm FM | Silverbird TV
URL:https://viewlagos.ng/event/chaka-resort-sallah-pool-party/
LOCATION:Chaka Beach Resort\, 1\, Chaka Road\, Off Lekki Free Trade Zone Way\, Mosayo Beach\, Eleko\, Lagos\, 105101\, Nigeria
CATEGORIES:Things To Do In Lagos
ATTACH;FMTTYPE=image/jpeg:https://viewlagos.ng/wp-content/uploads/2025/06/WhatsApp-Image-2025-06-03-at-08.57.44.jpeg
END:VEVENT
BEGIN:VEVENT
DTSTART;TZID=Africa/Lagos:20250607T183000
DTEND;TZID=Africa/Lagos:20250607T200000
DTSTAMP:20260419T161949
CREATED:20250602T142820Z
LAST-MODIFIED:20250602T143544Z
UID:10000147-1749321000-1749326400@viewlagos.ng
SUMMARY:Ye! An Afrobeats Musical (June Edition)
DESCRIPTION:YE! Returns – Love Me Jeje Edition\n\n“Doubling all the excitement from our last outing\, This musical is sublime and every character bangs!” \n\n\nYE! follows Jemi and Rire as they chase fame in a high-stakes talent show\, battling family expectations and self-doubt. With Afrobeats fuelling their journey\, they discover that true success lies in finding their own voices. \n\n\nCan they rise above the noise\, or will their dreams crumble? \n\n***All tickets are non-refundable and non-transferable.
URL:https://viewlagos.ng/event/ye-an-afrobeats-musical-june-edition/2025-06-07/
LOCATION:Muson Centre
CATEGORIES:Theatre/Stage Play,Things To Do In Lagos
ATTACH;FMTTYPE=image/webp:https://viewlagos.ng/wp-content/uploads/2025/06/ye_musical.webp
ORGANIZER;CN="Vibra":MAILTO:Hi@vibracompany.com
GEO:6.443382;3.396671
END:VEVENT
END:VCALENDAR