BEGIN:VCALENDAR
VERSION:2.0
PRODID:-//VIEWLAGOS - ECPv6.15.11//NONSGML v1.0//EN
CALSCALE:GREGORIAN
METHOD:PUBLISH
X-ORIGINAL-URL:https://viewlagos.ng
X-WR-CALDESC:Events for VIEWLAGOS
REFRESH-INTERVAL;VALUE=DURATION:PT1H
X-Robots-Tag:noindex
X-PUBLISHED-TTL:PT1H
BEGIN:VTIMEZONE
TZID:Africa/Lagos
BEGIN:STANDARD
TZOFFSETFROM:+0100
TZOFFSETTO:+0100
TZNAME:WAT
DTSTART:20240101T000000
END:STANDARD
END:VTIMEZONE
BEGIN:VEVENT
DTSTART;TZID=Africa/Lagos:20250822T220000
DTEND;TZID=Africa/Lagos:20250823T060000
DTSTAMP:20260420T034855
CREATED:20250801T102042Z
LAST-MODIFIED:20250801T102042Z
UID:10000668-1755900000-1755928800@viewlagos.ng
SUMMARY:Group Therapy - 2 Year Anniversary
DESCRIPTION:Lagos\, are you ready to go deep? 🔊💥 \nOn August 22\, the iconic NITEFREAK lands in Lagos\, Nigeria for an explosive celebration marking 2 years of Group Therapy\, the party series that’s been redefining nightlife across the globe. \nExpect pulsating beats\, immersive energy\, and a crowd that came to lose themselves in sound. This isn’t just a party\, it’s a movement\, a ritual\, a high-frequency experience. \nDate: August 22Location: Lagos\, NGVibe: Afro House\, Deep Tech\, Electronic Soul \nCurated for true music heads and night seekers. Let’s make history.
URL:https://viewlagos.ng/event/group-therapy-2-year-anniversary/
LOCATION:Lagos
CATEGORIES:Things To Do In Lagos
ATTACH;FMTTYPE=image/webp:https://viewlagos.ng/wp-content/uploads/2025/08/zve399gnmgh7vlx9hklf-scaled.webp
END:VEVENT
END:VCALENDAR