BEGIN:VCALENDAR
VERSION:2.0
PRODID:-//VIEWLAGOS - ECPv6.15.11//NONSGML v1.0//EN
CALSCALE:GREGORIAN
METHOD:PUBLISH
X-ORIGINAL-URL:https://viewlagos.ng
X-WR-CALDESC:Events for VIEWLAGOS
REFRESH-INTERVAL;VALUE=DURATION:PT1H
X-Robots-Tag:noindex
X-PUBLISHED-TTL:PT1H
BEGIN:VTIMEZONE
TZID:Africa/Lagos
BEGIN:STANDARD
TZOFFSETFROM:+0100
TZOFFSETTO:+0100
TZNAME:WAT
DTSTART:20240101T000000
END:STANDARD
END:VTIMEZONE
BEGIN:VEVENT
DTSTART;TZID=Africa/Lagos:20250906T120000
DTEND;TZID=Africa/Lagos:20250906T150000
DTSTAMP:20260424T222307
CREATED:20250901T113841Z
LAST-MODIFIED:20250901T113841Z
UID:10000738-1757160000-1757170800@viewlagos.ng
SUMMARY:Book Hive August Meeting/ Blackout Poetry Sessiom
DESCRIPTION:This is our monthly bookclub meeting featuring a blackout poetry session. We’ll also be discussing The Middle Daughter by Chika Unigwe.
URL:https://viewlagos.ng/event/book-hive-august-meeting-blackout-poetry-sessiom/
LOCATION:CafeOne Unilag\, Bookshop building\, University of Lagos Main Campus\, Akoka\, Yaba\, Lagos\, 101017\, Nigeria
CATEGORIES:Things To Do In Lagos
ATTACH;FMTTYPE=image/webp:https://viewlagos.ng/wp-content/uploads/2025/09/bookhive.webp
END:VEVENT
BEGIN:VEVENT
DTSTART;TZID=Africa/Lagos:20250906T150000
DTEND;TZID=Africa/Lagos:20250906T200000
DTSTAMP:20260424T222307
CREATED:20250901T112600Z
LAST-MODIFIED:20250901T112600Z
UID:10000736-1757170800-1757188800@viewlagos.ng
SUMMARY:Pottery And Pasta With Lu
DESCRIPTION:Our monthly edition of Pottery and Pasta with Chef Lu is back!\nOn the 6th of September\, we will be gathering once again and you want to be a part of this! \nWhat to expect?\n \n\nGuided pottery session 🎨\nChef Lu’s special Pasta 🧑🏽‍🍳\nLots of wine 🍷\nConnecting with beautiful people 👫\n\nWhere is it happening?\nOne Art Gallery. 2/5 Idowu Ajao street\, Anthony village\, Lagos. \nCome and experience all the good vibes of making your own pottery whilst enjoying the best food!
URL:https://viewlagos.ng/event/pottery-and-pasta-with-lu/
LOCATION:One Art Gallery\, 2\, 5 Idowu Ajao Street\, Anthony\, Lagos\, 105102\, Nigeria
CATEGORIES:Things To Do In Lagos
ATTACH;FMTTYPE=image/webp:https://viewlagos.ng/wp-content/uploads/2025/09/potteryandpasta.webp
END:VEVENT
BEGIN:VEVENT
DTSTART;TZID=Africa/Lagos:20250906T170000
DTEND;TZID=Africa/Lagos:20250906T220000
DTSTAMP:20260424T222307
CREATED:20250901T113330Z
LAST-MODIFIED:20250901T113330Z
UID:10000737-1757178000-1757196000@viewlagos.ng
SUMMARY:Brushes & Breeze
DESCRIPTION:A chill evening with painting\, music\, rooftop views and of course\, good vibes. The perfect little serene escape from your late night endeavours\, imagine painting with friends while sipping wine or cocktails and watching the sunset over the streets of Lekki.
URL:https://viewlagos.ng/event/brushes-breeze/
LOCATION:Hotel Helen Lekki\, 36 Omorinre Johnson Street\, Lekki Phase 1\, Lagos\, 106104\, Nigeria
CATEGORIES:Things To Do In Lagos
ATTACH;FMTTYPE=image/webp:https://viewlagos.ng/wp-content/uploads/2025/09/breeze.webp
END:VEVENT
END:VCALENDAR