BEGIN:VCALENDAR
VERSION:2.0
PRODID:-//VIEWLAGOS - ECPv6.15.11//NONSGML v1.0//EN
CALSCALE:GREGORIAN
METHOD:PUBLISH
X-WR-CALNAME:VIEWLAGOS
X-ORIGINAL-URL:https://viewlagos.ng
X-WR-CALDESC:Events for VIEWLAGOS
REFRESH-INTERVAL;VALUE=DURATION:PT1H
X-Robots-Tag:noindex
X-PUBLISHED-TTL:PT1H
BEGIN:VTIMEZONE
TZID:Africa/Lagos
BEGIN:STANDARD
TZOFFSETFROM:+0100
TZOFFSETTO:+0100
TZNAME:WAT
DTSTART:20250101T000000
END:STANDARD
END:VTIMEZONE
BEGIN:VEVENT
DTSTART;VALUE=DATE:20260308
DTEND;VALUE=DATE:20260309
DTSTAMP:20260420T052537
CREATED:20260324T233025Z
LAST-MODIFIED:20260324T233025Z
UID:10005466-1772928000-1773014399@viewlagos.ng
SUMMARY:EASTER AT KYMA
DESCRIPTION:Celebrate Easter in style at KYMA Beach Lagos and enjoy a perfect day of relaxation\, good vibes\, and unforgettable moments by the water. Your best Easter starts here with great music\, delicious food\, refreshing drinks\, and the beautiful beachside atmosphere KYMA is known for. \nGather your friends and family for a festive experience filled with fun\, laughter\, and premium hospitality in one of Lagos’ favorite beach destinations. Whether you’re looking to unwind\, party\, or simply enjoy the holiday outdoors\, KYMA Beach is the place to be this Easter. \nMake it a celebration to remember — Easter is better together at KYMA Beach Lagos. 🐣🥂✨
URL:https://viewlagos.ng/event/easter-at-kyma/2026-03-08/
LOCATION:KYMA Beach\, Elegushi Beach\, Ikate\, Lagos\, 234100\, Nigeria
CATEGORIES:Easter,Things To Do In Lagos
ATTACH;FMTTYPE=image/jpeg:https://viewlagos.ng/wp-content/uploads/2026/03/kyma.jpg
END:VEVENT
BEGIN:VEVENT
DTSTART;TZID=Africa/Lagos:20260308T073000
DTEND;TZID=Africa/Lagos:20260308T230000
DTSTAMP:20260420T052537
CREATED:20260301T183226Z
LAST-MODIFIED:20260301T183226Z
UID:10005387-1772955000-1773010800@viewlagos.ng
SUMMARY:‘Dear Twenty Somethings’ — Dami’s Story
DESCRIPTION:Introducing our first-ever interactive theatre performance\, ‘Dear Twenty Somethings’\, a bold and immersive stage experience coming to the Terra Kulture Lawn this March. \nDirected by the Queen of Theatre\, Bolanle Austen-Peters\, this production goes beyond traditional storytelling. It invites you into the heart and mind of Dami — a young woman navigating ambition\, love\, pressure\, expectations\, and the quiet fears that come with becoming an adult. \nThis is not just a story for people in their twenties. It’s for anyone who has ever questioned their path\, felt the weight of “what’s next?”\, or wondered who they truly are beneath the noise. Through interactive moments and powerful performances\, the audience becomes part of the journey — influencing perspectives\, challenging choices\, and experiencing the emotional highs and lows alongside Dami. \nWhen the game stops and reality begins\, who does Dami become?Is she who the world expects her to be?Or who she chooses to be? \nSet in an intimate outdoor lawn setting\, this production blends drama\, vulnerability\, humor\, and reflection into an unforgettable theatrical experience. It’s relatable\, thought-provoking\, and deeply human — a mirror held up to a generation and to everyone who has ever had to grow through uncertainty. \n📆 March 7\, 8\, 14\, 15\, 21\, 22\, 28\, 29🕔 Showtimes: 5:30 PM & 7:30 PM📍 Terra Kulture Lawn\, Victoria Island \nCome ready to feel.Come ready to reflect.Come ready to witness Dami’s story unfold.
URL:https://viewlagos.ng/event/dear-twenty-somethings-damis-story-2/2026-03-08/
LOCATION:Terra Kulture Arena\, Plot 1376 Tiamiyu Savage Street\, Victoria Island\, Lagos State\, 106104\, Nigeria
CATEGORIES:Entertainment,Theatre/Stage Play,Things To Do In Lagos
ATTACH;FMTTYPE=image/jpeg:https://viewlagos.ng/wp-content/uploads/2026/03/SaveClip.App_641727454_18573135052050701_3024479507560849329_n.jpg
END:VEVENT
BEGIN:VEVENT
DTSTART;TZID=Africa/Lagos:20260308T130000
DTEND;TZID=Africa/Lagos:20260308T170000
DTSTAMP:20260420T052537
CREATED:20260306T145353Z
LAST-MODIFIED:20260306T145549Z
UID:10005417-1772974800-1772989200@viewlagos.ng
SUMMARY:IWD Art & Wellness Experience: Macrame Earring Making & Herbal Tea Blending
DESCRIPTION:This International Women’s Day\, step into a beautifully curated art and wellness experience where women give intentionally\, and gain deeply.\n\nThrough symbolic creation\, thoughtful conversation\, and meaningful exchange\, we gather not just to celebrate womanhood\, but to actively pour into one another. \nThe Experience Includes: \n\nHerbal Tea Blending Ceremony\nCreate a personalized tea blend for another woman: thoughtfully curated based on her strength\, her season\, and her aspirations.\nMacramé Earring Crafting\nHandcraft a pair of bohemian earrings as a symbolic knot of affirmation and intention.\nGuided Exchange Circle\nGift your creations with spoken affirmations in a warm\, intimate closing circle.What You’ll Leave With:\n\nA custom herbal tea blend made just for you\nHandcrafted macramé earrings\nA renewed sense of connection\nMeaningful conversations\nA deeper appreciation of the power of women supporting women\n\n🎟 Investment: N40\,000 / person\nIncludes all materials\, guided facilitation and curated takeaway packaging.Limited seats. Intentionally curated.\nReserve your space and come ready to pour\, and be poured into.
URL:https://viewlagos.ng/event/get-a-ticket-iwd-art-wellness-experience-macrame-earring-making-herbal-tea-blending/
LOCATION:Harbour Point\, Harbour Point 4 Wilmot Point Rd\, Victoria Island\, Lagos\, Lagos\, 106104\, Nigeria
CATEGORIES:Social,Things To Do In Lagos
ATTACH;FMTTYPE=image/webp:https://viewlagos.ng/wp-content/uploads/2026/03/i6npbbzredefhkjgzt3f.webp
END:VEVENT
BEGIN:VEVENT
DTSTART;TZID=Africa/Lagos:20260308T140000
DTEND;TZID=Africa/Lagos:20260308T220000
DTSTAMP:20260420T052537
CREATED:20250725T174755Z
LAST-MODIFIED:20250725T174755Z
UID:10000611-1772978400-1773007200@viewlagos.ng
SUMMARY:Couple's Delight
DESCRIPTION:Couple’s Delight is a monthly event that holds every 2nd Sunday of the month where Old Couples who are renewing their Vow and New Couples in town 🎊 gather to relax\, enjoy and get entertained together with each other. The FLOOR is FREE. \nThe Swimming pool is also FREE for the Old or New Couples when your friends and family turn up massively to buy our drinks\, food\, swim and patronize our other hotel services. \nOur MC And DJ are set to make you enjoy every bit of the event. For more Inquiries\, Sponsorship\, partnership\,  participation\, bookings and reservations kindly call Whatsapp/telegram: +2349028565154
URL:https://viewlagos.ng/event/couples-delight/2026-03-08/
LOCATION:Club Duban\, 61/65 Ogunnusi Road\, Formerly Isheri Road\,\, Ogba\, Lagos\, Nigeria
CATEGORIES:Things To Do In Lagos
ATTACH;FMTTYPE=image/webp:https://viewlagos.ng/wp-content/uploads/2025/07/ui9qpem7knwsz8waoqie.webp
END:VEVENT
BEGIN:VEVENT
DTSTART;TZID=Africa/Lagos:20260308T180000
DTEND;TZID=Africa/Lagos:20260308T220000
DTSTAMP:20260420T052537
CREATED:20251013T212253Z
LAST-MODIFIED:20251013T212253Z
UID:10001191-1772992800-1773007200@viewlagos.ng
SUMMARY:Ako By Terra Kulture’s Live Performance Nights
DESCRIPTION:Step into an unforgettable evening of music\, theatre\, and fine dining at Terra Kulture’s Live Performance Nights.Experience soulful performances in an intimate setting where great food meets artistic expression. Whether you’re winding down after a long week or planning a cozy night out\, this is where the rhythm\, art\, and atmosphere come alive. \nEvent Schedule:Friday: 6 PM – 10 PMSaturday: 6 PM – 10 PMSunday: 5 PM – 8 PM \nVenue: Plot 1376\, Tiamiyu Savage\, Off Ahmadu Bello Way\, Victoria Island\, LagosReservations: 08104224137 \nDine with music and theatre — stay for the vibe.
URL:https://viewlagos.ng/event/ako-by-terra-kultures-live-performance-nights/2026-03-08/
LOCATION:Terra Kulture Arena\, Plot 1376 Tiamiyu Savage Street\, Victoria Island\, Lagos State\, 106104\, Nigeria
CATEGORIES:Things To Do In Lagos
ATTACH;FMTTYPE=image/webp:https://viewlagos.ng/wp-content/uploads/2025/10/Live-performance.webp
END:VEVENT
END:VCALENDAR