BEGIN:VCALENDAR
VERSION:2.0
PRODID:-//VIEWLAGOS - ECPv6.15.11//NONSGML v1.0//EN
CALSCALE:GREGORIAN
METHOD:PUBLISH
X-ORIGINAL-URL:https://viewlagos.ng
X-WR-CALDESC:Events for VIEWLAGOS
REFRESH-INTERVAL;VALUE=DURATION:PT1H
X-Robots-Tag:noindex
X-PUBLISHED-TTL:PT1H
BEGIN:VTIMEZONE
TZID:Africa/Lagos
BEGIN:STANDARD
TZOFFSETFROM:+0100
TZOFFSETTO:+0100
TZNAME:WAT
DTSTART:20250101T000000
END:STANDARD
END:VTIMEZONE
BEGIN:VEVENT
DTSTART;TZID=Africa/Lagos:20260401T100000
DTEND;TZID=Africa/Lagos:20260406T233000
DTSTAMP:20260420T053312
CREATED:20260221T134655Z
LAST-MODIFIED:20260221T194947Z
UID:10005351-1775037600-1775518200@viewlagos.ng
SUMMARY:AFROPOLIS 2026 | SANCTUARY
DESCRIPTION:April arrives with its familiar Lagos paradox: heat and rain\, haste and ceremony\, laughter in the mouth of uncertainty. We are living through an era that demands constant output and constant performance—our lives endlessly translated into something consumable. Many of us feel the cost in the body: attention thinned\, intimacy negotiated\, rest is always postponed. \nAfropolis 2026 gathers under one word: SANCTUARY. \n​ \nNot as decoration\, but as discipline—an agreement we practice together. A way of holding one another through sound\, movement\, language\, food\, silence\, study\, argument\, prayer\, mischief\, and long nights that end in clarity. \nSanctuary\, in our hands\, becomes an ethics of proximity: a room with thresholds\, a circle with listening\, a commons with care. A place where we arrive as full people—artists\, thinkers\, scene-makers\, dancers\, DJs\, writers\, designers\, filmmakers\, photographers\, elders\, apprentices\, and those who keep society alive without being seen. We gather with our unfinishedness intact\, and the courage to be changed by each other. \nThis is a festival shaped by a tradition of study that lives in the everyday—where thinking is not sealed inside institutions\, and knowledge does not require permission to exist. Study appears as rehearsal\, as hanging out with purpose\, as collective attention\, as the slow craft of trust. \nAcross six days\, Afropolis becomes a living field: performances\, labs\, workshops\, screenings\, conversations\, listening sessions\, street intelligence\, ritual gestures\, and the quiet architecture of care. Spaces where the body can speak without being exploited; where archives can be built without being surrendered; where critique stays generous; where celebration carries memory; where rest has dignity. \nLagos creatives already knows sanctuary—in courtyards and backstage corners\, in studios and shrines\, in markets and afterparties that turn into long seminars. Afropolis extends that lineage—contemporary\, porous\, rigorous\, playful—offering a gathering that feels like a wider room for new culture to breathe. \nIf you’ve been searching for your people\, come. \nIf you’ve been building alone\, come. \nIf your practice has been asking for a wider room\, come\, let us make sanctuary together.  \nQ. \nCreative Diviner / Path Clearer
URL:https://viewlagos.ng/event/afropolis-2026-sanctuary/
LOCATION:Lagos\, Onikan Round About\, Lagos Island\, Lagos 102273\, Lagos\, Nigeria\, Lagos\, Onikan Round About\, Lagos Island\, Lagos 102273\, Lagos\, Nigeria\, Lagos\, Lagos\, 102273\, Nigeria
CATEGORIES:Networking,Spirituality,Things To Do In Lagos
ATTACH;FMTTYPE=image/jpeg:https://viewlagos.ng/wp-content/uploads/2026/02/SaveClip.App_632268703_18563444947018008_7651310310182221177_n.jpg
END:VEVENT
BEGIN:VEVENT
DTSTART;VALUE=DATE:20260403
DTEND;VALUE=DATE:20260404
DTSTAMP:20260420T053312
CREATED:20260324T233025Z
LAST-MODIFIED:20260324T233025Z
UID:10005492-1775174400-1775260799@viewlagos.ng
SUMMARY:EASTER AT KYMA
DESCRIPTION:Celebrate Easter in style at KYMA Beach Lagos and enjoy a perfect day of relaxation\, good vibes\, and unforgettable moments by the water. Your best Easter starts here with great music\, delicious food\, refreshing drinks\, and the beautiful beachside atmosphere KYMA is known for. \nGather your friends and family for a festive experience filled with fun\, laughter\, and premium hospitality in one of Lagos’ favorite beach destinations. Whether you’re looking to unwind\, party\, or simply enjoy the holiday outdoors\, KYMA Beach is the place to be this Easter. \nMake it a celebration to remember — Easter is better together at KYMA Beach Lagos. 🐣🥂✨
URL:https://viewlagos.ng/event/easter-at-kyma/2026-04-03/
LOCATION:KYMA Beach\, Elegushi Beach\, Ikate\, Lagos\, 234100\, Nigeria
CATEGORIES:Easter,Things To Do In Lagos
ATTACH;FMTTYPE=image/jpeg:https://viewlagos.ng/wp-content/uploads/2026/03/kyma.jpg
END:VEVENT
BEGIN:VEVENT
DTSTART;VALUE=DATE:20260403
DTEND;VALUE=DATE:20260404
DTSTAMP:20260420T053312
CREATED:20260331T223434Z
LAST-MODIFIED:20260331T223434Z
UID:10006253-1775174400-1775260799@viewlagos.ng
SUMMARY:HOMECOMING
DESCRIPTION:JOIN US FOR 5 DAYS OF MUSIC\, CULTURE\, AND CONNECTION \n02.04.26 – 06.04.26 \nLagos is calling.  HOMECOMING™ 2026 returns for five unforgettable days of live music\, fashion\, art\, sport\, and cultural exchange. Connect with your favourite creatives\, shop top brands\, and see your favourite artists perform live\, all across a dynamic programme designed to entertain and inspire. With something for everyone\, HOMECOMING™ is your unmissable Easter experience in Lagos.
URL:https://viewlagos.ng/event/homecoming/2026-04-03/
LOCATION:Lagos\, Lagos\, Lagos\, 100101\, Nigeria
CATEGORIES:Art,Easter,Entertainment,Fashion,Festival,Things To Do In Lagos
ATTACH;FMTTYPE=image/jpeg:https://viewlagos.ng/wp-content/uploads/2026/03/654573553_18350124808241116_8727049732686653017_n.jpg
END:VEVENT
BEGIN:VEVENT
DTSTART;TZID=Africa/Lagos:20260403T180000
DTEND;TZID=Africa/Lagos:20260403T220000
DTSTAMP:20260420T053312
CREATED:20251013T212253Z
LAST-MODIFIED:20251013T212253Z
UID:10001201-1775239200-1775253600@viewlagos.ng
SUMMARY:Ako By Terra Kulture’s Live Performance Nights
DESCRIPTION:Step into an unforgettable evening of music\, theatre\, and fine dining at Terra Kulture’s Live Performance Nights.Experience soulful performances in an intimate setting where great food meets artistic expression. Whether you’re winding down after a long week or planning a cozy night out\, this is where the rhythm\, art\, and atmosphere come alive. \nEvent Schedule:Friday: 6 PM – 10 PMSaturday: 6 PM – 10 PMSunday: 5 PM – 8 PM \nVenue: Plot 1376\, Tiamiyu Savage\, Off Ahmadu Bello Way\, Victoria Island\, LagosReservations: 08104224137 \nDine with music and theatre — stay for the vibe.
URL:https://viewlagos.ng/event/ako-by-terra-kultures-live-performance-nights/2026-04-03/
LOCATION:Terra Kulture Arena\, Plot 1376 Tiamiyu Savage Street\, Victoria Island\, Lagos State\, 106104\, Nigeria
CATEGORIES:Things To Do In Lagos
ATTACH;FMTTYPE=image/webp:https://viewlagos.ng/wp-content/uploads/2025/10/Live-performance.webp
END:VEVENT
END:VCALENDAR