BEGIN:VCALENDAR
VERSION:2.0
PRODID:-//VIEWLAGOS - ECPv6.15.11//NONSGML v1.0//EN
CALSCALE:GREGORIAN
METHOD:PUBLISH
X-WR-CALNAME:VIEWLAGOS
X-ORIGINAL-URL:https://viewlagos.ng
X-WR-CALDESC:Events for VIEWLAGOS
REFRESH-INTERVAL;VALUE=DURATION:PT1H
X-Robots-Tag:noindex
X-PUBLISHED-TTL:PT1H
BEGIN:VTIMEZONE
TZID:Africa/Lagos
BEGIN:STANDARD
TZOFFSETFROM:+0100
TZOFFSETTO:+0100
TZNAME:WAT
DTSTART:20250101T000000
END:STANDARD
END:VTIMEZONE
BEGIN:VEVENT
DTSTART;VALUE=DATE:20260407
DTEND;VALUE=DATE:20260408
DTSTAMP:20260420T040057
CREATED:20260324T233025Z
LAST-MODIFIED:20260324T233025Z
UID:10005496-1775520000-1775606399@viewlagos.ng
SUMMARY:EASTER AT KYMA
DESCRIPTION:Celebrate Easter in style at KYMA Beach Lagos and enjoy a perfect day of relaxation\, good vibes\, and unforgettable moments by the water. Your best Easter starts here with great music\, delicious food\, refreshing drinks\, and the beautiful beachside atmosphere KYMA is known for. \nGather your friends and family for a festive experience filled with fun\, laughter\, and premium hospitality in one of Lagos’ favorite beach destinations. Whether you’re looking to unwind\, party\, or simply enjoy the holiday outdoors\, KYMA Beach is the place to be this Easter. \nMake it a celebration to remember — Easter is better together at KYMA Beach Lagos. 🐣🥂✨
URL:https://viewlagos.ng/event/easter-at-kyma/2026-04-07/
LOCATION:KYMA Beach\, Elegushi Beach\, Ikate\, Lagos\, 234100\, Nigeria
CATEGORIES:Easter,Things To Do In Lagos
ATTACH;FMTTYPE=image/jpeg:https://viewlagos.ng/wp-content/uploads/2026/03/kyma.jpg
END:VEVENT
END:VCALENDAR