BEGIN:VCALENDAR
VERSION:2.0
PRODID:-//VIEWLAGOS - ECPv6.15.11//NONSGML v1.0//EN
CALSCALE:GREGORIAN
METHOD:PUBLISH
X-ORIGINAL-URL:https://viewlagos.ng
X-WR-CALDESC:Events for VIEWLAGOS
REFRESH-INTERVAL;VALUE=DURATION:PT1H
X-Robots-Tag:noindex
X-PUBLISHED-TTL:PT1H
BEGIN:VTIMEZONE
TZID:Africa/Lagos
BEGIN:STANDARD
TZOFFSETFROM:+0100
TZOFFSETTO:+0100
TZNAME:WAT
DTSTART:20240101T000000
END:STANDARD
END:VTIMEZONE
BEGIN:VEVENT
DTSTART;TZID=Africa/Lagos:20250502T160000
DTEND;TZID=Africa/Lagos:20250502T220000
DTSTAMP:20260420T023707
CREATED:20250416T224934Z
LAST-MODIFIED:20250416T224934Z
UID:10000108-1746201600-1746223200@viewlagos.ng
SUMMARY:GTCO Food & Drink Festival 2025
DESCRIPTION:GTCO Food & Drink is Back! \nGTCO Food & Drink Festival is an annual food exhibition and sales event that projects the diverse angles of the food industry by connecting various businesses involved in the production and sale of food-related items to a cosmopolitan audience of food enthusiasts. \nGet ready for the 8th edition of the GTCO Food & Drink Festival. \n8 years of supporting small businesses\,\n8 years of celebrating authentic flavors\,\n8 years of unforgettable food experiences! \nHere’s what to expect:\n• Free Retail Stalls for over 200 Food Businesses\n• Masterclasses with World-Class Chefs\n• All the Street Food You Can Eat\n• Children’s Play Area \nAttendance is FREE! \nDates: May 2nd\, 3rd & 4th\, 2025! \nVenue: GTCentre\, Plot 1 Water Corporation Drive\, Oniru\, Victoria Island\, Lagos.. \n 
URL:https://viewlagos.ng/event/gtco-food-drink-festival-2025/2025-05-02/
LOCATION:GT Centre\, Plot 1 Water Corporation Drive\, Oniru\, Victoria Island\, Lagos\, 106104\, Nigeria
CATEGORIES:Exhibition,Things To Do In Lagos
ATTACH;FMTTYPE=image/jpeg:https://viewlagos.ng/wp-content/uploads/2025/04/489605023_18503769499059594_2635205044868655442_n.jpg
END:VEVENT
BEGIN:VEVENT
DTSTART;TZID=Africa/Lagos:20250503T100000
DTEND;TZID=Africa/Lagos:20250503T220000
DTSTAMP:20260420T023707
CREATED:20250416T224934Z
LAST-MODIFIED:20250416T224934Z
UID:10000109-1746266400-1746309600@viewlagos.ng
SUMMARY:GTCO Food & Drink Festival 2025
DESCRIPTION:GTCO Food & Drink is Back! \nGTCO Food & Drink Festival is an annual food exhibition and sales event that projects the diverse angles of the food industry by connecting various businesses involved in the production and sale of food-related items to a cosmopolitan audience of food enthusiasts. \nGet ready for the 8th edition of the GTCO Food & Drink Festival. \n8 years of supporting small businesses\,\n8 years of celebrating authentic flavors\,\n8 years of unforgettable food experiences! \nHere’s what to expect:\n• Free Retail Stalls for over 200 Food Businesses\n• Masterclasses with World-Class Chefs\n• All the Street Food You Can Eat\n• Children’s Play Area \nAttendance is FREE! \nDates: May 2nd\, 3rd & 4th\, 2025! \nVenue: GTCentre\, Plot 1 Water Corporation Drive\, Oniru\, Victoria Island\, Lagos.. \n 
URL:https://viewlagos.ng/event/gtco-food-drink-festival-2025/2025-05-03/
LOCATION:GT Centre\, Plot 1 Water Corporation Drive\, Oniru\, Victoria Island\, Lagos\, 106104\, Nigeria
CATEGORIES:Exhibition,Things To Do In Lagos
ATTACH;FMTTYPE=image/jpeg:https://viewlagos.ng/wp-content/uploads/2025/04/489605023_18503769499059594_2635205044868655442_n.jpg
END:VEVENT
BEGIN:VEVENT
DTSTART;TZID=Africa/Lagos:20250503T190000
DTEND;TZID=Africa/Lagos:20250503T220000
DTSTAMP:20260420T023707
CREATED:20250321T095820Z
LAST-MODIFIED:20250321T095820Z
UID:10000091-1746298800-1746309600@viewlagos.ng
SUMMARY:Terraform Hotels' Ladies Night
DESCRIPTION:Join us for a night to remember on the rooftop of the city’s finest restaurant! 🌟👯‍♀️\n\n\n\n\nLadies\, it’s time to let your hair down and get ready to mingle with other fabulous women at our unforgettable ladies night event. Savor delectable dishes prepared by our talented chefs and sip on expertly crafted cocktails as you take in the breathtaking views of the city skyline. \n\n\n\n\n\n\n\n\n\n\n\nBut that’s not all – we’ve got a party DJ spinning the latest amapiano beats that will keep you dancing all night long! Our wild MC & Hypeman will keep the energy high with unlimited fun and games\, especially for the celebrant of the month. \nDon’t miss out on this ultimate girls’ night out – come and experience the thrill of the city under the stars with us! 🔥💃🎊 \n\n\n\n\n\n\n\nLooking for a Girls night out? Look no further!  \n👌🏼😍 Fine dining? ✨🍽️  \n🎵🎧 Amapiano beats to get your groove on? 🎵💃  \n🎲🤩 Fun games with a Hypeman to keep the energy high? 🎲🕺  \n👭💕 Gather your squad and head to our rooftop restaurant for the ultimate celebration!  \n\n\n\n\n\n\n\n👀🍿 Did you catch the amazing highlights from our last event?\nIt was 🔥🔥🔥! Check out the video and see for yourself! 📹👀 \n  \n👉🏼📅 And for those who missed out\, don’t worry – we’ve got you covered! 👌🏼🎉 Join us this weekend for our incredible ladies night event! It’s going to be the 💣💥\, so make sure you book your spot now! 🎟️👍🏼 \n  \n👭🍹🎵 Bring your besties and let’s dance the night away! 🎶💃🏻 Can’t wait to see you there! 🤩👋🏼
URL:https://viewlagos.ng/event/terraform-hotels-ladies-night/2025-05-03/
LOCATION:The Terraform SKYVIEW Restaurant\, 15b Wole Olateju Crescent\, Lekki\, Lagos State\, 101233\, Nigeria
CATEGORIES:Things To Do In Lagos
ATTACH;FMTTYPE=image/jpeg:https://viewlagos.ng/wp-content/uploads/2025/03/ladiesnight.jpeg
END:VEVENT
BEGIN:VEVENT
DTSTART;TZID=Africa/Lagos:20250504T100000
DTEND;TZID=Africa/Lagos:20250504T220000
DTSTAMP:20260420T023707
CREATED:20250416T224934Z
LAST-MODIFIED:20250416T224934Z
UID:10000110-1746352800-1746396000@viewlagos.ng
SUMMARY:GTCO Food & Drink Festival 2025
DESCRIPTION:GTCO Food & Drink is Back! \nGTCO Food & Drink Festival is an annual food exhibition and sales event that projects the diverse angles of the food industry by connecting various businesses involved in the production and sale of food-related items to a cosmopolitan audience of food enthusiasts. \nGet ready for the 8th edition of the GTCO Food & Drink Festival. \n8 years of supporting small businesses\,\n8 years of celebrating authentic flavors\,\n8 years of unforgettable food experiences! \nHere’s what to expect:\n• Free Retail Stalls for over 200 Food Businesses\n• Masterclasses with World-Class Chefs\n• All the Street Food You Can Eat\n• Children’s Play Area \nAttendance is FREE! \nDates: May 2nd\, 3rd & 4th\, 2025! \nVenue: GTCentre\, Plot 1 Water Corporation Drive\, Oniru\, Victoria Island\, Lagos.. \n 
URL:https://viewlagos.ng/event/gtco-food-drink-festival-2025/2025-05-04/
LOCATION:GT Centre\, Plot 1 Water Corporation Drive\, Oniru\, Victoria Island\, Lagos\, 106104\, Nigeria
CATEGORIES:Exhibition,Things To Do In Lagos
ATTACH;FMTTYPE=image/jpeg:https://viewlagos.ng/wp-content/uploads/2025/04/489605023_18503769499059594_2635205044868655442_n.jpg
END:VEVENT
BEGIN:VEVENT
DTSTART;TZID=Africa/Lagos:20250504T163000
DTEND;TZID=Africa/Lagos:20250504T200000
DTSTAMP:20260420T023707
CREATED:20250321T093143Z
LAST-MODIFIED:20250321T093429Z
UID:10000078-1746376200-1746388800@viewlagos.ng
SUMMARY:Lagos Karaoke & Games with Alali VI
DESCRIPTION:Lagos Karaoke & Games with Alali VI \nJoin us for an evening of fun and entertainment at the Lagos Karaoke & Games with Alali VI event! Get ready to unleash your inner superstar and show off your singing skills in the heart of Lagos. \nOn Sundays\, starting at 16:30\, come down to 32 Musa Yar’ Adua St. and be part of this exciting event. Whether you’re a seasoned karaoke enthusiast or a first-timer\, this is the perfect opportunity to showcase your talent and have a blast with friends and family. \nGet ready to sing your heart out with a wide selection of songs\, ranging from classic hits to the latest chart-toppers. \nBut wait\, there’s more! In addition to karaoke\, we have an array of instagrammable games lined up for you. Challenge your friends to a friendly competition and see who comes out on top. From interactive trivia to exciting dance-offs\, there’s something for everyone. \nSo mark your calendars and don’t miss out on the Lagos Karaoke & Games with Alali VI event. It’s going to be an evening filled with laughter\, music\, and memories. Grab your friends\, warm up those vocal cords\, and get ready for an unforgettable night of entertainment. We can’t wait to see you there!
URL:https://viewlagos.ng/event/lagos-karaoke-games-with-alali-vi/2025-05-04/
LOCATION:Alali\, 32 Musa Yar' Adua Street\, Victoria Island\, Lagos State\, 106104\, Nigeria
CATEGORIES:Things To Do In Lagos
ATTACH;FMTTYPE=image/jpeg:https://viewlagos.ng/wp-content/uploads/2025/03/karaoke.jpeg
END:VEVENT
BEGIN:VEVENT
DTSTART;TZID=Africa/Lagos:20250504T163000
DTEND;TZID=Africa/Lagos:20250504T230000
DTSTAMP:20260420T023707
CREATED:20250316T201958Z
LAST-MODIFIED:20250316T211947Z
UID:10000016-1746376200-1746399600@viewlagos.ng
SUMMARY:Its Selfie Sunday at Alali VI!
DESCRIPTION:Welcome to Its Selfie Sunday at Alali VI! Looking for fun things to do in Lagos every Sunday? Look no further! Join us at Alali VI for a day filled with selfie-taking\, music\, food\, and good vibes. Whether you’re a selfie pro or just looking to snap a few pics with friends\, this event is perfect for you. Don’t miss out on the opportunity to capture some amazing memories in one of Lagos’s hottest spots. See you there!
URL:https://viewlagos.ng/event/its-selfie-sunday-at-alali-vi/2025-05-04/
LOCATION:Alali\, 32 Musa Yar' Adua Street\, Victoria Island\, Lagos State\, 106104\, Nigeria
CATEGORIES:Things To Do In Lagos
ATTACH;FMTTYPE=image/jpeg:https://viewlagos.ng/wp-content/uploads/2025/03/selfie.jpeg
END:VEVENT
END:VCALENDAR