BEGIN:VCALENDAR
VERSION:2.0
PRODID:-//VIEWLAGOS - ECPv6.15.11//NONSGML v1.0//EN
CALSCALE:GREGORIAN
METHOD:PUBLISH
X-ORIGINAL-URL:https://viewlagos.ng
X-WR-CALDESC:Events for VIEWLAGOS
REFRESH-INTERVAL;VALUE=DURATION:PT1H
X-Robots-Tag:noindex
X-PUBLISHED-TTL:PT1H
BEGIN:VTIMEZONE
TZID:Africa/Lagos
BEGIN:STANDARD
TZOFFSETFROM:+0100
TZOFFSETTO:+0100
TZNAME:WAT
DTSTART:20240101T000000
END:STANDARD
END:VTIMEZONE
BEGIN:VEVENT
DTSTART;TZID=Africa/Lagos:20250516T160000
DTEND;TZID=Africa/Lagos:20250516T180000
DTSTAMP:20260420T073128
CREATED:20250516T135550Z
LAST-MODIFIED:20250516T135550Z
UID:10000133-1747411200-1747418400@viewlagos.ng
SUMMARY:MTV BASE DAY 2025
DESCRIPTION:A must attend\, high energy urban youth festival featuring top notch music performances\, DJ sets and Hype MC’s. Base Day is an immersive experience\, fusing music\, fashion and lifestyle into one explosive celebration of African pop culture. The event is powered by MTVBase Africa’s No. 1 Leading youth\, music and culture brand.
URL:https://viewlagos.ng/event/mtv-base-day-2025/
LOCATION:VODA BEACH\, CFFM+54\, Eti-Osa\, Lekki\, Lagos\, 106104\, Nigeria
CATEGORIES:Things To Do In Lagos
ATTACH;FMTTYPE=image/webp:https://viewlagos.ng/wp-content/uploads/2025/05/nexz38zhjxa8z05tbtae.webp
END:VEVENT
BEGIN:VEVENT
DTSTART;TZID=Africa/Lagos:20250517T150000
DTEND;TZID=Africa/Lagos:20250517T190000
DTSTAMP:20260420T073128
CREATED:20250516T141313Z
LAST-MODIFIED:20250516T141314Z
UID:10000134-1747494000-1747508400@viewlagos.ng
SUMMARY:House Of Naira
DESCRIPTION:A Modern Musical theatre stage play. A total Nigerian experience of the classic theatre featuring best music\, dance and humor. \nHouse of Naira is a story of a man with four wives from major tribes in Nigeria\, in all the sweetness of cultures and nuances his death though inevitable is shocking to everyone even the wives who love him dearly. \nProduced by Kehinde Oretimehin (IVLPAlum) the Music Director and composer for most entertaining stage plays in Nigeria such as SARO. FELA AND THE KALAKUTA QUEENS (SOUTH AFRICA\, EGYPT\, DUBAI EXPO)\, AWO (Lagos and London)\, ADA the Country\, YE Afropop\, MOREMI\, OLURONBI\, WAKAA\, IJE (Hollywood Los Angeles) Habiba\, CHOSEN\, OMEMMA\, SPEAKING OUT\, HISTORY SINGS\, HEARWORD PIDGIN\, LOVE AND RECESSION\, CHIOMA\, DEAR KAFFY etc. \nThis Stage play/Musical features the most Iconic stage actors in recent times with various local and international accolades and experience such as; Dr. Debbie Ohiri\, Bridget Nkem\, Sharon Adaeze\, Tosin Adeyemi\, Oluchi Odii and Ralph Okoro. These actors performed different plays in Nigeria touring United Kingdom\, United States\, United Arab Emirates\, Germany\, Egypt\, Algeria\, South Africa\, etc. working with different production companies such as\, Iopeneye (hearword)\, Terra Kulture (Bolanle Austen-Peters Production) Beeta Universal Arts Foundation\, Paws studios\, Doyenne Circle\, LUFODO Group\, AMTA (Association of Musical Theatre Artists)\, MUSON (The Musical Society of Nigerian)\, The British Council\, Goethe institute\, Alliance Francaise\, United States Consulate etc. \nPRODUCTION COMPANIES: \nDBO Productions.\nThe OTO ENTERTAINMENT COMPANY\,\nB-RATED Productions\,\nBridge Konnect\,\nTalk of Class\,\nBloom 360 PRODUCTIONS\nKABIYESI STUDIOS \nSupported by\nTERRA KULTURE\nInstinct Pictures\nAMTA \nSaturday: 3pm and 7pm shows\nSunday: 3pm and 7pm shows\nDuration: 90 minutes
URL:https://viewlagos.ng/event/house-of-naira/2025-05-17/
LOCATION:Terra Kulture Arena\, Plot 1376 Tiamiyu Savage Street\, Victoria Island\, Lagos State\, 106104\, Nigeria
CATEGORIES:Theatre/Stage Play,Things To Do In Lagos
ATTACH;FMTTYPE=image/webp:https://viewlagos.ng/wp-content/uploads/2025/05/krgjmdgbnhwudjoswx3l.webp
END:VEVENT
BEGIN:VEVENT
DTSTART;TZID=Africa/Lagos:20250517T190000
DTEND;TZID=Africa/Lagos:20250517T220000
DTSTAMP:20260420T073128
CREATED:20250321T095820Z
LAST-MODIFIED:20250321T095820Z
UID:10000093-1747508400-1747519200@viewlagos.ng
SUMMARY:Terraform Hotels' Ladies Night
DESCRIPTION:Join us for a night to remember on the rooftop of the city’s finest restaurant! 🌟👯‍♀️\n\n\n\n\nLadies\, it’s time to let your hair down and get ready to mingle with other fabulous women at our unforgettable ladies night event. Savor delectable dishes prepared by our talented chefs and sip on expertly crafted cocktails as you take in the breathtaking views of the city skyline. \n\n\n\n\n\n\n\n\n\n\n\nBut that’s not all – we’ve got a party DJ spinning the latest amapiano beats that will keep you dancing all night long! Our wild MC & Hypeman will keep the energy high with unlimited fun and games\, especially for the celebrant of the month. \nDon’t miss out on this ultimate girls’ night out – come and experience the thrill of the city under the stars with us! 🔥💃🎊 \n\n\n\n\n\n\n\nLooking for a Girls night out? Look no further!  \n👌🏼😍 Fine dining? ✨🍽️  \n🎵🎧 Amapiano beats to get your groove on? 🎵💃  \n🎲🤩 Fun games with a Hypeman to keep the energy high? 🎲🕺  \n👭💕 Gather your squad and head to our rooftop restaurant for the ultimate celebration!  \n\n\n\n\n\n\n\n👀🍿 Did you catch the amazing highlights from our last event?\nIt was 🔥🔥🔥! Check out the video and see for yourself! 📹👀 \n  \n👉🏼📅 And for those who missed out\, don’t worry – we’ve got you covered! 👌🏼🎉 Join us this weekend for our incredible ladies night event! It’s going to be the 💣💥\, so make sure you book your spot now! 🎟️👍🏼 \n  \n👭🍹🎵 Bring your besties and let’s dance the night away! 🎶💃🏻 Can’t wait to see you there! 🤩👋🏼
URL:https://viewlagos.ng/event/terraform-hotels-ladies-night/2025-05-17/
LOCATION:The Terraform SKYVIEW Restaurant\, 15b Wole Olateju Crescent\, Lekki\, Lagos State\, 101233\, Nigeria
CATEGORIES:Things To Do In Lagos
ATTACH;FMTTYPE=image/jpeg:https://viewlagos.ng/wp-content/uploads/2025/03/ladiesnight.jpeg
END:VEVENT
BEGIN:VEVENT
DTSTART;TZID=Africa/Lagos:20250518T150000
DTEND;TZID=Africa/Lagos:20250518T190000
DTSTAMP:20260420T073128
CREATED:20250516T141313Z
LAST-MODIFIED:20250516T141314Z
UID:10000135-1747580400-1747594800@viewlagos.ng
SUMMARY:House Of Naira
DESCRIPTION:A Modern Musical theatre stage play. A total Nigerian experience of the classic theatre featuring best music\, dance and humor. \nHouse of Naira is a story of a man with four wives from major tribes in Nigeria\, in all the sweetness of cultures and nuances his death though inevitable is shocking to everyone even the wives who love him dearly. \nProduced by Kehinde Oretimehin (IVLPAlum) the Music Director and composer for most entertaining stage plays in Nigeria such as SARO. FELA AND THE KALAKUTA QUEENS (SOUTH AFRICA\, EGYPT\, DUBAI EXPO)\, AWO (Lagos and London)\, ADA the Country\, YE Afropop\, MOREMI\, OLURONBI\, WAKAA\, IJE (Hollywood Los Angeles) Habiba\, CHOSEN\, OMEMMA\, SPEAKING OUT\, HISTORY SINGS\, HEARWORD PIDGIN\, LOVE AND RECESSION\, CHIOMA\, DEAR KAFFY etc. \nThis Stage play/Musical features the most Iconic stage actors in recent times with various local and international accolades and experience such as; Dr. Debbie Ohiri\, Bridget Nkem\, Sharon Adaeze\, Tosin Adeyemi\, Oluchi Odii and Ralph Okoro. These actors performed different plays in Nigeria touring United Kingdom\, United States\, United Arab Emirates\, Germany\, Egypt\, Algeria\, South Africa\, etc. working with different production companies such as\, Iopeneye (hearword)\, Terra Kulture (Bolanle Austen-Peters Production) Beeta Universal Arts Foundation\, Paws studios\, Doyenne Circle\, LUFODO Group\, AMTA (Association of Musical Theatre Artists)\, MUSON (The Musical Society of Nigerian)\, The British Council\, Goethe institute\, Alliance Francaise\, United States Consulate etc. \nPRODUCTION COMPANIES: \nDBO Productions.\nThe OTO ENTERTAINMENT COMPANY\,\nB-RATED Productions\,\nBridge Konnect\,\nTalk of Class\,\nBloom 360 PRODUCTIONS\nKABIYESI STUDIOS \nSupported by\nTERRA KULTURE\nInstinct Pictures\nAMTA \nSaturday: 3pm and 7pm shows\nSunday: 3pm and 7pm shows\nDuration: 90 minutes
URL:https://viewlagos.ng/event/house-of-naira/2025-05-18/
LOCATION:Terra Kulture Arena\, Plot 1376 Tiamiyu Savage Street\, Victoria Island\, Lagos State\, 106104\, Nigeria
CATEGORIES:Theatre/Stage Play,Things To Do In Lagos
ATTACH;FMTTYPE=image/webp:https://viewlagos.ng/wp-content/uploads/2025/05/krgjmdgbnhwudjoswx3l.webp
END:VEVENT
BEGIN:VEVENT
DTSTART;TZID=Africa/Lagos:20250518T160000
DTEND;TZID=Africa/Lagos:20250518T200000
DTSTAMP:20260420T073128
CREATED:20250516T150834Z
LAST-MODIFIED:20250516T150834Z
UID:10000137-1747584000-1747598400@viewlagos.ng
SUMMARY:The Cave UNILAG (All Ladies Edition)
DESCRIPTION:The Cave UNILAG (All Ladies Edition) is an exclusive empowerment and networking event designed for the bold\, visionary women of the University of Lagos. Join us for an evening of inspiring talks\, interactive sessions\, and meaningful connections in a safe\, supportive space. Whether it’s personal growth\, career development\, or sisterhood\, this event is your chance to learn\, share\, and thrive. \nDate: 18th of May.\nTime: 4pm.\nVenue: Gamers Paradise.\nDress Code: Smart & Stylish. \nDon’t miss out—come unwind\, connect\, and unleash your potential!
URL:https://viewlagos.ng/event/the-cave-unilag-all-ladies-edition/
LOCATION:Gamers Paradise\, 20 University Rd\, Akoka yaba\, Akoka\, Lagos 100001\, Yaba\, Lagos\, 100101\, Nigeria
CATEGORIES:Games,Things To Do In Lagos
ATTACH;FMTTYPE=image/webp:https://viewlagos.ng/wp-content/uploads/2025/05/lbcrazujwidnjt6av7zf.webp
END:VEVENT
BEGIN:VEVENT
DTSTART;TZID=Africa/Lagos:20250518T163000
DTEND;TZID=Africa/Lagos:20250518T200000
DTSTAMP:20260420T073128
CREATED:20250321T093143Z
LAST-MODIFIED:20250321T093429Z
UID:10000080-1747585800-1747598400@viewlagos.ng
SUMMARY:Lagos Karaoke & Games with Alali VI
DESCRIPTION:Lagos Karaoke & Games with Alali VI \nJoin us for an evening of fun and entertainment at the Lagos Karaoke & Games with Alali VI event! Get ready to unleash your inner superstar and show off your singing skills in the heart of Lagos. \nOn Sundays\, starting at 16:30\, come down to 32 Musa Yar’ Adua St. and be part of this exciting event. Whether you’re a seasoned karaoke enthusiast or a first-timer\, this is the perfect opportunity to showcase your talent and have a blast with friends and family. \nGet ready to sing your heart out with a wide selection of songs\, ranging from classic hits to the latest chart-toppers. \nBut wait\, there’s more! In addition to karaoke\, we have an array of instagrammable games lined up for you. Challenge your friends to a friendly competition and see who comes out on top. From interactive trivia to exciting dance-offs\, there’s something for everyone. \nSo mark your calendars and don’t miss out on the Lagos Karaoke & Games with Alali VI event. It’s going to be an evening filled with laughter\, music\, and memories. Grab your friends\, warm up those vocal cords\, and get ready for an unforgettable night of entertainment. We can’t wait to see you there!
URL:https://viewlagos.ng/event/lagos-karaoke-games-with-alali-vi/2025-05-18/
LOCATION:Alali\, 32 Musa Yar' Adua Street\, Victoria Island\, Lagos State\, 106104\, Nigeria
CATEGORIES:Things To Do In Lagos
ATTACH;FMTTYPE=image/jpeg:https://viewlagos.ng/wp-content/uploads/2025/03/karaoke.jpeg
END:VEVENT
BEGIN:VEVENT
DTSTART;TZID=Africa/Lagos:20250518T163000
DTEND;TZID=Africa/Lagos:20250518T230000
DTSTAMP:20260420T073128
CREATED:20250316T201958Z
LAST-MODIFIED:20250316T211947Z
UID:10000018-1747585800-1747609200@viewlagos.ng
SUMMARY:Its Selfie Sunday at Alali VI!
DESCRIPTION:Welcome to Its Selfie Sunday at Alali VI! Looking for fun things to do in Lagos every Sunday? Look no further! Join us at Alali VI for a day filled with selfie-taking\, music\, food\, and good vibes. Whether you’re a selfie pro or just looking to snap a few pics with friends\, this event is perfect for you. Don’t miss out on the opportunity to capture some amazing memories in one of Lagos’s hottest spots. See you there!
URL:https://viewlagos.ng/event/its-selfie-sunday-at-alali-vi/2025-05-18/
LOCATION:Alali\, 32 Musa Yar' Adua Street\, Victoria Island\, Lagos State\, 106104\, Nigeria
CATEGORIES:Things To Do In Lagos
ATTACH;FMTTYPE=image/jpeg:https://viewlagos.ng/wp-content/uploads/2025/03/selfie.jpeg
END:VEVENT
END:VCALENDAR