BEGIN:VCALENDAR
VERSION:2.0
PRODID:-//VIEWLAGOS - ECPv6.15.11//NONSGML v1.0//EN
CALSCALE:GREGORIAN
METHOD:PUBLISH
X-WR-CALNAME:VIEWLAGOS
X-ORIGINAL-URL:https://viewlagos.ng
X-WR-CALDESC:Events for VIEWLAGOS
REFRESH-INTERVAL;VALUE=DURATION:PT1H
X-Robots-Tag:noindex
X-PUBLISHED-TTL:PT1H
BEGIN:VTIMEZONE
TZID:Africa/Lagos
BEGIN:STANDARD
TZOFFSETFROM:+0100
TZOFFSETTO:+0100
TZNAME:WAT
DTSTART:20250101T000000
END:STANDARD
END:VTIMEZONE
BEGIN:VEVENT
DTSTART;VALUE=DATE:20260420
DTEND;VALUE=DATE:20260421
DTSTAMP:20260419T231104
CREATED:20260324T233025Z
LAST-MODIFIED:20260324T233025Z
UID:10005509-1776643200-1776729599@viewlagos.ng
SUMMARY:EASTER AT KYMA
DESCRIPTION:Celebrate Easter in style at KYMA Beach Lagos and enjoy a perfect day of relaxation\, good vibes\, and unforgettable moments by the water. Your best Easter starts here with great music\, delicious food\, refreshing drinks\, and the beautiful beachside atmosphere KYMA is known for. \nGather your friends and family for a festive experience filled with fun\, laughter\, and premium hospitality in one of Lagos’ favorite beach destinations. Whether you’re looking to unwind\, party\, or simply enjoy the holiday outdoors\, KYMA Beach is the place to be this Easter. \nMake it a celebration to remember — Easter is better together at KYMA Beach Lagos. 🐣🥂✨
URL:https://viewlagos.ng/event/easter-at-kyma/2026-04-20/
LOCATION:KYMA Beach\, Elegushi Beach\, Ikate\, Lagos\, 234100\, Nigeria
CATEGORIES:Easter,Things To Do In Lagos
ATTACH;FMTTYPE=image/jpeg:https://viewlagos.ng/wp-content/uploads/2026/03/kyma.jpg
END:VEVENT
BEGIN:VEVENT
DTSTART;VALUE=DATE:20260421
DTEND;VALUE=DATE:20260422
DTSTAMP:20260419T231104
CREATED:20260324T233025Z
LAST-MODIFIED:20260324T233025Z
UID:10005510-1776729600-1776815999@viewlagos.ng
SUMMARY:EASTER AT KYMA
DESCRIPTION:Celebrate Easter in style at KYMA Beach Lagos and enjoy a perfect day of relaxation\, good vibes\, and unforgettable moments by the water. Your best Easter starts here with great music\, delicious food\, refreshing drinks\, and the beautiful beachside atmosphere KYMA is known for. \nGather your friends and family for a festive experience filled with fun\, laughter\, and premium hospitality in one of Lagos’ favorite beach destinations. Whether you’re looking to unwind\, party\, or simply enjoy the holiday outdoors\, KYMA Beach is the place to be this Easter. \nMake it a celebration to remember — Easter is better together at KYMA Beach Lagos. 🐣🥂✨
URL:https://viewlagos.ng/event/easter-at-kyma/2026-04-21/
LOCATION:KYMA Beach\, Elegushi Beach\, Ikate\, Lagos\, 234100\, Nigeria
CATEGORIES:Easter,Things To Do In Lagos
ATTACH;FMTTYPE=image/jpeg:https://viewlagos.ng/wp-content/uploads/2026/03/kyma.jpg
END:VEVENT
BEGIN:VEVENT
DTSTART;VALUE=DATE:20260422
DTEND;VALUE=DATE:20260423
DTSTAMP:20260419T231104
CREATED:20260324T233025Z
LAST-MODIFIED:20260324T233025Z
UID:10005511-1776816000-1776902399@viewlagos.ng
SUMMARY:EASTER AT KYMA
DESCRIPTION:Celebrate Easter in style at KYMA Beach Lagos and enjoy a perfect day of relaxation\, good vibes\, and unforgettable moments by the water. Your best Easter starts here with great music\, delicious food\, refreshing drinks\, and the beautiful beachside atmosphere KYMA is known for. \nGather your friends and family for a festive experience filled with fun\, laughter\, and premium hospitality in one of Lagos’ favorite beach destinations. Whether you’re looking to unwind\, party\, or simply enjoy the holiday outdoors\, KYMA Beach is the place to be this Easter. \nMake it a celebration to remember — Easter is better together at KYMA Beach Lagos. 🐣🥂✨
URL:https://viewlagos.ng/event/easter-at-kyma/2026-04-22/
LOCATION:KYMA Beach\, Elegushi Beach\, Ikate\, Lagos\, 234100\, Nigeria
CATEGORIES:Easter,Things To Do In Lagos
ATTACH;FMTTYPE=image/jpeg:https://viewlagos.ng/wp-content/uploads/2026/03/kyma.jpg
END:VEVENT
BEGIN:VEVENT
DTSTART;TZID=Africa/Lagos:20260422T180000
DTEND;TZID=Africa/Lagos:20260422T230000
DTSTAMP:20260419T231104
CREATED:20260205T101249Z
LAST-MODIFIED:20260205T101340Z
UID:10005276-1776880800-1776898800@viewlagos.ng
SUMMARY:The Joke's On You
DESCRIPTION:We’re bringing comedy to VL Lagos.\nBrunch Club starts at 2PM; good food\, good energy\, easy laughs. \nBy 6PM\, the room shifts and the night begins.\nOur headliner Jesta takes the stage\, and you don’t want to miss this. \nReservations are now open.
URL:https://viewlagos.ng/event/the-jokes-on-you/2026-04-22/
LOCATION:VL Lagos\, 642E Akin Adesola Street\, Victoria Island\, Lagos\, 100106\, Nigeria
CATEGORIES:Concert,Party,Things To Do In Lagos
ATTACH;FMTTYPE=image/jpeg:https://viewlagos.ng/wp-content/uploads/2026/02/628164223_17894649477403399_8901867661305073954_n.jpg
END:VEVENT
BEGIN:VEVENT
DTSTART;VALUE=DATE:20260423
DTEND;VALUE=DATE:20260424
DTSTAMP:20260419T231104
CREATED:20260324T233025Z
LAST-MODIFIED:20260324T233025Z
UID:10005512-1776902400-1776988799@viewlagos.ng
SUMMARY:EASTER AT KYMA
DESCRIPTION:Celebrate Easter in style at KYMA Beach Lagos and enjoy a perfect day of relaxation\, good vibes\, and unforgettable moments by the water. Your best Easter starts here with great music\, delicious food\, refreshing drinks\, and the beautiful beachside atmosphere KYMA is known for. \nGather your friends and family for a festive experience filled with fun\, laughter\, and premium hospitality in one of Lagos’ favorite beach destinations. Whether you’re looking to unwind\, party\, or simply enjoy the holiday outdoors\, KYMA Beach is the place to be this Easter. \nMake it a celebration to remember — Easter is better together at KYMA Beach Lagos. 🐣🥂✨
URL:https://viewlagos.ng/event/easter-at-kyma/2026-04-23/
LOCATION:KYMA Beach\, Elegushi Beach\, Ikate\, Lagos\, 234100\, Nigeria
CATEGORIES:Easter,Things To Do In Lagos
ATTACH;FMTTYPE=image/jpeg:https://viewlagos.ng/wp-content/uploads/2026/03/kyma.jpg
END:VEVENT
BEGIN:VEVENT
DTSTART;VALUE=DATE:20260424
DTEND;VALUE=DATE:20260425
DTSTAMP:20260419T231104
CREATED:20260324T233025Z
LAST-MODIFIED:20260324T233025Z
UID:10005513-1776988800-1777075199@viewlagos.ng
SUMMARY:EASTER AT KYMA
DESCRIPTION:Celebrate Easter in style at KYMA Beach Lagos and enjoy a perfect day of relaxation\, good vibes\, and unforgettable moments by the water. Your best Easter starts here with great music\, delicious food\, refreshing drinks\, and the beautiful beachside atmosphere KYMA is known for. \nGather your friends and family for a festive experience filled with fun\, laughter\, and premium hospitality in one of Lagos’ favorite beach destinations. Whether you’re looking to unwind\, party\, or simply enjoy the holiday outdoors\, KYMA Beach is the place to be this Easter. \nMake it a celebration to remember — Easter is better together at KYMA Beach Lagos. 🐣🥂✨
URL:https://viewlagos.ng/event/easter-at-kyma/2026-04-24/
LOCATION:KYMA Beach\, Elegushi Beach\, Ikate\, Lagos\, 234100\, Nigeria
CATEGORIES:Easter,Things To Do In Lagos
ATTACH;FMTTYPE=image/jpeg:https://viewlagos.ng/wp-content/uploads/2026/03/kyma.jpg
END:VEVENT
BEGIN:VEVENT
DTSTART;TZID=Africa/Lagos:20260424T180000
DTEND;TZID=Africa/Lagos:20260424T220000
DTSTAMP:20260419T231104
CREATED:20251013T212253Z
LAST-MODIFIED:20251013T212253Z
UID:10001210-1777053600-1777068000@viewlagos.ng
SUMMARY:Ako By Terra Kulture’s Live Performance Nights
DESCRIPTION:Step into an unforgettable evening of music\, theatre\, and fine dining at Terra Kulture’s Live Performance Nights.Experience soulful performances in an intimate setting where great food meets artistic expression. Whether you’re winding down after a long week or planning a cozy night out\, this is where the rhythm\, art\, and atmosphere come alive. \nEvent Schedule:Friday: 6 PM – 10 PMSaturday: 6 PM – 10 PMSunday: 5 PM – 8 PM \nVenue: Plot 1376\, Tiamiyu Savage\, Off Ahmadu Bello Way\, Victoria Island\, LagosReservations: 08104224137 \nDine with music and theatre — stay for the vibe.
URL:https://viewlagos.ng/event/ako-by-terra-kultures-live-performance-nights/2026-04-24/
LOCATION:Terra Kulture Arena\, Plot 1376 Tiamiyu Savage Street\, Victoria Island\, Lagos State\, 106104\, Nigeria
CATEGORIES:Things To Do In Lagos
ATTACH;FMTTYPE=image/webp:https://viewlagos.ng/wp-content/uploads/2025/10/Live-performance.webp
END:VEVENT
BEGIN:VEVENT
DTSTART;VALUE=DATE:20260425
DTEND;VALUE=DATE:20260426
DTSTAMP:20260419T231104
CREATED:20260324T233025Z
LAST-MODIFIED:20260324T233025Z
UID:10005514-1777075200-1777161599@viewlagos.ng
SUMMARY:EASTER AT KYMA
DESCRIPTION:Celebrate Easter in style at KYMA Beach Lagos and enjoy a perfect day of relaxation\, good vibes\, and unforgettable moments by the water. Your best Easter starts here with great music\, delicious food\, refreshing drinks\, and the beautiful beachside atmosphere KYMA is known for. \nGather your friends and family for a festive experience filled with fun\, laughter\, and premium hospitality in one of Lagos’ favorite beach destinations. Whether you’re looking to unwind\, party\, or simply enjoy the holiday outdoors\, KYMA Beach is the place to be this Easter. \nMake it a celebration to remember — Easter is better together at KYMA Beach Lagos. 🐣🥂✨
URL:https://viewlagos.ng/event/easter-at-kyma/2026-04-25/
LOCATION:KYMA Beach\, Elegushi Beach\, Ikate\, Lagos\, 234100\, Nigeria
CATEGORIES:Easter,Things To Do In Lagos
ATTACH;FMTTYPE=image/jpeg:https://viewlagos.ng/wp-content/uploads/2026/03/kyma.jpg
END:VEVENT
BEGIN:VEVENT
DTSTART;TZID=Africa/Lagos:20260425T180000
DTEND;TZID=Africa/Lagos:20260425T220000
DTSTAMP:20260419T231104
CREATED:20251013T212253Z
LAST-MODIFIED:20251013T212253Z
UID:10001211-1777140000-1777154400@viewlagos.ng
SUMMARY:Ako By Terra Kulture’s Live Performance Nights
DESCRIPTION:Step into an unforgettable evening of music\, theatre\, and fine dining at Terra Kulture’s Live Performance Nights.Experience soulful performances in an intimate setting where great food meets artistic expression. Whether you’re winding down after a long week or planning a cozy night out\, this is where the rhythm\, art\, and atmosphere come alive. \nEvent Schedule:Friday: 6 PM – 10 PMSaturday: 6 PM – 10 PMSunday: 5 PM – 8 PM \nVenue: Plot 1376\, Tiamiyu Savage\, Off Ahmadu Bello Way\, Victoria Island\, LagosReservations: 08104224137 \nDine with music and theatre — stay for the vibe.
URL:https://viewlagos.ng/event/ako-by-terra-kultures-live-performance-nights/2026-04-25/
LOCATION:Terra Kulture Arena\, Plot 1376 Tiamiyu Savage Street\, Victoria Island\, Lagos State\, 106104\, Nigeria
CATEGORIES:Things To Do In Lagos
ATTACH;FMTTYPE=image/webp:https://viewlagos.ng/wp-content/uploads/2025/10/Live-performance.webp
END:VEVENT
BEGIN:VEVENT
DTSTART;TZID=Africa/Lagos:20260425T210000
DTEND;TZID=Africa/Lagos:20260426T020000
DTSTAMP:20260419T231104
CREATED:20260314T114048Z
LAST-MODIFIED:20260314T114048Z
UID:10005434-1777150800-1777168800@viewlagos.ng
SUMMARY:BIOSKYSPLAYHOUSE CITY TENSION
DESCRIPTION:Biosky’s Playhouse returns with even bigger energy\, louder vibes\, and unforgettable moments at BIOSKYSPLAYHOUSE: City Tension — an electrifying nightlife experience designed to bring Lagos together for a night of music\, movement\, and pure celebration. \nThis isn’t just another party. It’s a full-scale experience where sound\, crowd energy\, and atmosphere collide to create a night that lives long after the music stops. From the moment guests step into the venue\, the goal is simple: deliver a space where people can let loose\, connect with friends\, and fully immerse themselves in the rhythm of the night. \nExpect a carefully curated lineup of DJs and sounds that keep the energy building from start to finish. Whether you’re coming for the music\, the dancefloor\, or the vibrant community that shows up for Biosky’s Playhouse events\, City Tension promises a night filled with excitement\, great company\, and non-stop vibes. \nSet against the lively backdrop of Elegushi Beach\, the event takes over Wave Beach Hall Elegushi\, creating the perfect setting for a high-energy celebration by the water. \nPull up with your crew\, bring the energy\, and get ready for a night Lagos won’t forget. \n📅 April 25th\, 2026📍 Wave Beach Hall\, Elegushi🌊 Elegushi Beach \nThe tension in the city is rising… come experience it.
URL:https://viewlagos.ng/event/bioskysplayhouse-city-tension/
LOCATION:Wave Beach\, Oba Elegushi Beach Rd\, Lekki Phase I\, Lagos\, Lagos\, 106104\, Nigeria
CATEGORIES:night,Party,Things To Do In Lagos
ATTACH;FMTTYPE=image/jpeg:https://viewlagos.ng/wp-content/uploads/2026/03/SaveClip.App_645728040_17946045333116248_8259505930257867048_n.jpg
END:VEVENT
BEGIN:VEVENT
DTSTART;VALUE=DATE:20260426
DTEND;VALUE=DATE:20260427
DTSTAMP:20260419T231104
CREATED:20260324T233025Z
LAST-MODIFIED:20260324T233025Z
UID:10005515-1777161600-1777247999@viewlagos.ng
SUMMARY:EASTER AT KYMA
DESCRIPTION:Celebrate Easter in style at KYMA Beach Lagos and enjoy a perfect day of relaxation\, good vibes\, and unforgettable moments by the water. Your best Easter starts here with great music\, delicious food\, refreshing drinks\, and the beautiful beachside atmosphere KYMA is known for. \nGather your friends and family for a festive experience filled with fun\, laughter\, and premium hospitality in one of Lagos’ favorite beach destinations. Whether you’re looking to unwind\, party\, or simply enjoy the holiday outdoors\, KYMA Beach is the place to be this Easter. \nMake it a celebration to remember — Easter is better together at KYMA Beach Lagos. 🐣🥂✨
URL:https://viewlagos.ng/event/easter-at-kyma/2026-04-26/
LOCATION:KYMA Beach\, Elegushi Beach\, Ikate\, Lagos\, 234100\, Nigeria
CATEGORIES:Easter,Things To Do In Lagos
ATTACH;FMTTYPE=image/jpeg:https://viewlagos.ng/wp-content/uploads/2026/03/kyma.jpg
END:VEVENT
BEGIN:VEVENT
DTSTART;TZID=Africa/Lagos:20260426T120000
DTEND;TZID=Africa/Lagos:20260426T170000
DTSTAMP:20260419T231104
CREATED:20260319T180747Z
LAST-MODIFIED:20260323T132002Z
UID:10005438-1777204800-1777222800@viewlagos.ng
SUMMARY:Creative Hangout with Ajijola
DESCRIPTION:Finally\, the long-anticipated hangout is here!!!\nIf you have anywhere to be on the 26th of April\, cancel it now!!! One of the most intimate\, fun\, and team-bonding game hangout is here. 💃🕺Hangout with Ajijola is here again and this time it is in LAGOS\, with a spice! It is a hangout for creatives\, yes\, you! 🌊Have you been looking for where to showcase your imagination? Explore your limitless mind? Unlock a part of yourself you don’t even know you had? Or even to figure out your talent? \nWell now is the time! You do not want to miss this. Come and get your ticket NOW!!!!
URL:https://viewlagos.ng/event/creative-hangout-with-ajijola/
LOCATION:JJT Park\, by House of Assembly beside Lagos State Secretariat Alausa\, Ikeja 100001\, Lagos\, Lagos\, 100001\, Nigeria
CATEGORIES:Games,Party,Social,Things To Do In Lagos
ATTACH;FMTTYPE=image/jpeg:https://viewlagos.ng/wp-content/uploads/2026/03/WhatsApp-Image-2026-03-19-at-14.28.47.jpeg
END:VEVENT
BEGIN:VEVENT
DTSTART;TZID=Africa/Lagos:20260426T180000
DTEND;TZID=Africa/Lagos:20260426T220000
DTSTAMP:20260419T231104
CREATED:20251013T212253Z
LAST-MODIFIED:20251013T212253Z
UID:10001212-1777226400-1777240800@viewlagos.ng
SUMMARY:Ako By Terra Kulture’s Live Performance Nights
DESCRIPTION:Step into an unforgettable evening of music\, theatre\, and fine dining at Terra Kulture’s Live Performance Nights.Experience soulful performances in an intimate setting where great food meets artistic expression. Whether you’re winding down after a long week or planning a cozy night out\, this is where the rhythm\, art\, and atmosphere come alive. \nEvent Schedule:Friday: 6 PM – 10 PMSaturday: 6 PM – 10 PMSunday: 5 PM – 8 PM \nVenue: Plot 1376\, Tiamiyu Savage\, Off Ahmadu Bello Way\, Victoria Island\, LagosReservations: 08104224137 \nDine with music and theatre — stay for the vibe.
URL:https://viewlagos.ng/event/ako-by-terra-kultures-live-performance-nights/2026-04-26/
LOCATION:Terra Kulture Arena\, Plot 1376 Tiamiyu Savage Street\, Victoria Island\, Lagos State\, 106104\, Nigeria
CATEGORIES:Things To Do In Lagos
ATTACH;FMTTYPE=image/webp:https://viewlagos.ng/wp-content/uploads/2025/10/Live-performance.webp
END:VEVENT
END:VCALENDAR