BEGIN:VCALENDAR
VERSION:2.0
PRODID:-//VIEWLAGOS - ECPv6.15.11//NONSGML v1.0//EN
CALSCALE:GREGORIAN
METHOD:PUBLISH
X-ORIGINAL-URL:https://viewlagos.ng
X-WR-CALDESC:Events for VIEWLAGOS
REFRESH-INTERVAL;VALUE=DURATION:PT1H
X-Robots-Tag:noindex
X-PUBLISHED-TTL:PT1H
BEGIN:VTIMEZONE
TZID:Africa/Lagos
BEGIN:STANDARD
TZOFFSETFROM:+0100
TZOFFSETTO:+0100
TZNAME:WAT
DTSTART:20240101T000000
END:STANDARD
END:VTIMEZONE
BEGIN:VEVENT
DTSTART;TZID=Africa/Lagos:20251128T090000
DTEND;TZID=Africa/Lagos:20251128T140000
DTSTAMP:20260420T001201
CREATED:20251117T132405Z
LAST-MODIFIED:20251117T132405Z
UID:10001992-1764320400-1764338400@viewlagos.ng
SUMMARY:Connect Nigeria and Africa Wedding Expo November 2025 Business Mixer
DESCRIPTION:The Business Mixer is back and better! \nThis time\, we’re teaming up with Africa Wedding Expo 2025 (Nigeria Edition) to bring you a special Business Mixer this November \nAnd guess what? It’s absolutely FREE to attend! \nCome learn\, have fun\, and network with business owners and creatives 🔥 \nVenue: NECA House\, Ikeja \nDate: Nov 28th \nTime: 9 am \nSecure your spot now at connectnigeria.com/bizmix
URL:https://viewlagos.ng/event/connect-nigeria-and-africa-wedding-expo-november-2025-business-mixer/
LOCATION:NECA House\, Ikeja\, NECA House Events Centre\, Alausa\, Lagos\, Nigeria
CATEGORIES:Business,Networking
ATTACH;FMTTYPE=image/jpeg:https://viewlagos.ng/wp-content/uploads/2025/11/WhatsApp-Image-2025-11-12-at-11.34.31-AM.jpeg
ORGANIZER;CN="Connect Nigeria":MAILTO:businesses@connectnigeria.com
END:VEVENT
BEGIN:VEVENT
DTSTART;TZID=Africa/Lagos:20251031T160000
DTEND;TZID=Africa/Lagos:20251031T200000
DTSTAMP:20260420T001201
CREATED:20251007T055130Z
LAST-MODIFIED:20251007T055130Z
UID:10001126-1761926400-1761940800@viewlagos.ng
SUMMARY:Connect Nigeria Business Mixer\, October 2025 Edition
DESCRIPTION:Who You Meet This October Could Change Your 2025 \nThink about it\, how many times has that unexpected conversation changed your story? \nThat client who became your biggest contract. \nThat friend who introduced you to an investor. \nThat “random” meeting that opened new doors. \nOctober’s BizMix is where those moments happen by design. \nEarly Bird: runs for 2 weeks and it is Free for Club Connect Members! 🥳 \nSo\, mark the date\, clear your schedule\, and bring your energy \nLast month was a vibe! This month will be even better!✨ \nDate: 31st October\, 2025 \nTime: 4pm \nLocation: Ikoyi \n👉 Reserve your spot: https://connectnigeria.com/bizmix
URL:https://viewlagos.ng/event/connect-nigeria-business-mixer-october-2025-edition/
LOCATION:Ikoyi Plaza\, Awolowo Road Lagos\, Ikoyi\, Lagos\, 106104\, Nigeria
CATEGORIES:Awareness,Business,Masterclass,Networking
ATTACH;FMTTYPE=image/jpeg:https://viewlagos.ng/wp-content/uploads/2025/10/Instagram-Early-Bird-October_1080x1350-1.jpg
ORGANIZER;CN="Connect Nigeria":MAILTO:businesses@connectnigeria.com
END:VEVENT
BEGIN:VEVENT
DTSTART;TZID=Africa/Lagos:20250708T080000
DTEND;TZID=Africa/Lagos:20250708T190000
DTSTAMP:20260420T001201
CREATED:20250327T150747Z
LAST-MODIFIED:20250327T151002Z
UID:10000096-1751961600-1752001200@viewlagos.ng
SUMMARY:10th Nigeria Energy Forum
DESCRIPTION:Welcome to the 10th Nigeria Energy Forum! \nWith the theme DECADE OF ENERGY TRANSITION FOR ECONOMIC PROSPERITY. \nJoin 450+ attendees globally at 10th Nigeria Energy Forum (NEF2025) on Tuesday 8th July 2025 in at Marcellina Conference Centre\, Ikeja GRA\, Lagos\, Nigeria for a day filled with insightful discussions\, networking opportunities\, and innovative ideas in the energy sector. \nDon’t miss out on the chance to connect with industry experts\, investors\, government officials\, business leaders\, exhibitors and fellow professionals. Get ready to be inspired\, learn something new\, and contribute to shaping the energy transition in Nigeria and Africa. \nRegister NOW at www.thenef.org/register \nWe look forward to welcoming you!
URL:https://viewlagos.ng/event/10th-nigeria-energy-forum/
LOCATION:Marcellina Conference Centre\, 36\, Isaac John street\, Ikeja\, Lagos\, 101233\, Nigeria
CATEGORIES:Conference
ATTACH;FMTTYPE=image/jpeg:https://viewlagos.ng/wp-content/uploads/2025/03/nef.jpeg
END:VEVENT
END:VCALENDAR