BEGIN:VCALENDAR
VERSION:2.0
PRODID:-//VIEWLAGOS - ECPv6.15.11//NONSGML v1.0//EN
CALSCALE:GREGORIAN
METHOD:PUBLISH
X-ORIGINAL-URL:https://viewlagos.ng
X-WR-CALDESC:Events for VIEWLAGOS
REFRESH-INTERVAL;VALUE=DURATION:PT1H
X-Robots-Tag:noindex
X-PUBLISHED-TTL:PT1H
BEGIN:VTIMEZONE
TZID:Africa/Lagos
BEGIN:STANDARD
TZOFFSETFROM:+0100
TZOFFSETTO:+0100
TZNAME:WAT
DTSTART:20240101T000000
END:STANDARD
END:VTIMEZONE
BEGIN:VEVENT
DTSTART;TZID=Africa/Lagos:20251116T180000
DTEND;TZID=Africa/Lagos:20251117T020000
DTSTAMP:20260423T155142
CREATED:20251027T145016Z
LAST-MODIFIED:20251027T145016Z
UID:10001938-1763316000-1763344800@viewlagos.ng
SUMMARY:The Night Wayve Experience (Rave System)
DESCRIPTION:We’re back\, and it’s time to RAVE.\nIt’s been a minute since the last shutdown\, but guess what? The Night Wayve Experience is back\, bigger\, louder\, and crazier than ever. We’ve missed that energy\, those screams\, and every unforgettable moment we’ve shared with you.\n\nGet ready to step into the RAVE SYSTEM\, as we celebrate the 10th Edition of The Night Wayve Experience\, an unforgettable night built for pure energy\, sound\, and vibes.\n\nDate: Sunday\, November 16th\nVenue: Trib3 Lagos\, Victoria Island\nTime: 6:00 PM till 2:00 AM\n\nExpect the usual madness\, DJs\, Hypemen\, Drummers\, Booze\, and that unbeatable vibe that only The Night Wayve Experience delivers.\n\nEntry is FREE\, but registration is required\, secure your spot early.\nLet’s activate the RAVE SYSTEM and make history again.
URL:https://viewlagos.ng/event/the-night-wayve-experience-rave-system/
LOCATION:Trib3 Lagos\, 288b Ajose Adeogun St\, Victoria Island\, Lagos\, Lagos\, 100232\, Nigeria
CATEGORIES:Things To Do In Lagos
ATTACH;FMTTYPE=image/webp:https://viewlagos.ng/wp-content/uploads/2025/10/ilucdgwszrip6lpmyybh.webp
END:VEVENT
BEGIN:VEVENT
DTSTART;TZID=Africa/Lagos:20251119T090000
DTEND;TZID=Africa/Lagos:20251119T130000
DTSTAMP:20260423T155142
CREATED:20251028T210559Z
LAST-MODIFIED:20251028T210559Z
UID:10001942-1763542800-1763557200@viewlagos.ng
SUMMARY:Creative Business Summit Nigeria
DESCRIPTION:Join our summit and experience a unique mix of pitching competitions and panel discussions\n\n\n\nThe Creative Summit Nigeria is part of Nigeria’s Creative Business Cup final event\, as part of continuous learning and networking for young people in the sector. The cultural and creative industries in Africa have shown great potential to accelerate economic growth and the creation of job opportunities in the region and as you know\, it has become an important aspect in Nigeria. \nAs part of our Global Entrepreneurship Week 2025\, The summit is expected to attract entrepreneurs and participants from across Africa who will share their experiences. \nBe part of this epic event. \nEvent Details \nTheme: Create. Collaborate. Grow: The Business of Creativity \nDate: Wednesday\, November 19\, 2025 \nVenue: Radisson Blu Hotel\, 38/40 Isaac John Street\, Ikeja G.R.A\, Lagos. \nTime: 9:00 AM
URL:https://viewlagos.ng/event/creative-business-summit-nigeria/
LOCATION:Radisson Blu Ikeja\, 38/40 Isaac John Street\, Ikeja\, Lagos\, 100201\, Nigeria
CATEGORIES:Business
ATTACH;FMTTYPE=image/jpeg:https://viewlagos.ng/wp-content/uploads/2025/10/cbsriginal.jpeg
END:VEVENT
BEGIN:VEVENT
DTSTART;TZID=Africa/Lagos:20251119T090000
DTEND;TZID=Africa/Lagos:20251121T170000
DTSTAMP:20260423T155142
CREATED:20250625T124720Z
LAST-MODIFIED:20250625T125310Z
UID:10000540-1763542800-1763744400@viewlagos.ng
SUMMARY:Nigeria Decor Expo 2025
DESCRIPTION:The 5th edition of Nigeria Decor Expo is an international exhibition dedicated to interior design\, home décor\, furniture\, lighting\, and lifestyle solutions. As one of West Africa’s leading decor trade events\, it brings together top brands\, designers\, manufacturers\, and professionals from across the globe. \nThe expo serves as a vibrant platform to showcase the latest trends\, innovative products\, and creative design solutions. With opportunities for networking\, collaboration\, and business development\, Nigeria Decor Expo 2025 promises to be a must-attend event for anyone passionate about transforming spaces and staying ahead in the decor industry.
URL:https://viewlagos.ng/event/nigeria-decor-expo-2025/
LOCATION:Landmark Event Centre\, Plot 2 & 3\, Water Corporation Drive\, Victoria Island\, Lagos State\, 106104\, Nigeria
CATEGORIES:Expo
ATTACH;FMTTYPE=image/png:https://viewlagos.ng/wp-content/uploads/2025/06/DE.png
END:VEVENT
BEGIN:VEVENT
DTSTART;TZID=Africa/Lagos:20251121T100000
DTEND;TZID=Africa/Lagos:20251121T163000
DTSTAMP:20260423T155142
CREATED:20251028T214508Z
LAST-MODIFIED:20251028T214508Z
UID:10001947-1763719200-1763742600@viewlagos.ng
SUMMARY:RHYTHM AND REVENUE
DESCRIPTION:An exclusive masterclass for emerging artists\, creatives in entertainment and music business executives.\n\n\n\nRhythm and Revenue 2025 is an initiative created to provide exclusive and experiential knowledge by established music business professionals\, consultants\, and executives to emerging artists alongside intending music business professionals. \nRhythm and Revenue 2025 is an exclusive event for fast-rising\, determined\, emerging artists\, alongside ambitious\, aspiring music business executives who desire to gain more understanding\, insight\, and direction on their journey in the African Entertainment Ecosystem from already established professionals\, consultants\, and thought leaders with results that speak to their credibility. \nThis event is designed and curated to meet specific needs relevant to the African entertainment industry and its ecosystem. \n\nAgenda\n\n\n10:30 – 11:30 \nThe Power of Vision \nThis topic is foundational to our curriculum\, designed to inspire attendees to build careers with purpose\, scalability\, and lasting impact. For the emerging artists in the room\, the session will challenge them to answer the essential question: “Who am I\, and what do I stand for beyond my music?” For the music business executives\, it will guide them in defining their core “why” and shaping a vision that transcends transactional relationships. \n\n11:30 – 12:30 \nYour Career\, Mastered: Business of Being Creative. \nThis topic reframes business as the essential tool that protects and funds their creativity and framework to build sustainable\, investable artist-brands. It provides the foundational mindset shift from being just a talent-for-hire to becoming the CEO of their own career\, empowering them to make strategic decisions that ensure longevity and profit. \n\n12:30 – 13:30 \nContent Architecture and Storytelling \nThis topic is the masterclass on moving from making noise to building a universe turning both creativity and business into an irresistible story that commands attention and drives revenue. \n\n13:30 – 14:30 \nAmplify Your Impact; Maximize Your Income \nThis topic provides the framework for systematizing success. Executives will learn how to position their artists or services strategically to command higher fees\, secure lucrative partnerships\, and build valuable assets (like a strong catalog or a recognizable brand)\, maximizing the financial return for everyone involved. \n\n14:30 – 15:30 \nSpotlight Strategy \nThis topic shows people to move beyond random social media posts to a deliberate plan for visibility. It teaches artists how to position themselves uniquely\, target key industry gatekeepers\, and use strategic content to convert casual listeners into dedicated fans\, ensuring they attract opportunities that align with their brand. \n\n15:30 – 16:30 \nBeyond The Gig-Sustainable Life In Music and Entertainment \nThis topic addresses the core goal of a lasting career: moving from a vulnerable\, project-dependent income to building a resilient\, multifaceted enterprise that withstands industry shifts and personal burnout.
URL:https://viewlagos.ng/event/rhythm-and-revenue/
LOCATION:Fidelity SME Hub\, 22 Lanre Awolokun Street\, Gbagada\, Lagos\, 102216\, Nigeria
CATEGORIES:Business,Career
ATTACH;FMTTYPE=image/jpeg:https://viewlagos.ng/wp-content/uploads/2025/10/rhytmrevenue.jpeg
END:VEVENT
BEGIN:VEVENT
DTSTART;TZID=Africa/Lagos:20251121T170000
DTEND;TZID=Africa/Lagos:20251121T220000
DTSTAMP:20260423T155142
CREATED:20251028T213655Z
LAST-MODIFIED:20251120T003940Z
UID:10001946-1763744400-1763762400@viewlagos.ng
SUMMARY:Entrepreneurs Lounge
DESCRIPTION:Join us for a transformative gathering where pioneering entrepreneurs share invaluable insights and practical advice across diverse sectors.\n\n\n\nJoin us for a transformative gathering where pioneering entrepreneurs share invaluable insights and practical advice across diverse sectors. From networking opportunities to live music performances and live pitch session\, this event transcends mere status—it’s a movement. \nBe part of this epic event. \nVenue -Lekki \, Lagos \nDate – Friday 21st November\, 2025 \nTime – 5 00pm
URL:https://viewlagos.ng/event/entrepreneurs-lounge/
LOCATION:Providus Bank Admiralty Way\, Block 55\, Plot 1A Admiralty Way\, Lekki Phase 1\, Lagos\, 105102\, Nigeria
CATEGORIES:Business
ATTACH;FMTTYPE=image/jpeg:https://viewlagos.ng/wp-content/uploads/2025/10/1ffca20fbd006125.jpg
END:VEVENT
BEGIN:VEVENT
DTSTART;TZID=Africa/Lagos:20251121T180000
DTEND;TZID=Africa/Lagos:20251121T180000
DTSTAMP:20260423T155142
CREATED:20251103T231411Z
LAST-MODIFIED:20251103T231443Z
UID:10001958-1763748000-1763748000@viewlagos.ng
SUMMARY:Night of Bliss With Pastor Chris
DESCRIPTION:Get Ready for Night Of Bliss with Pastor Chris! It’s happening right here in Lagos! The man of God\, Pastor Chris Oyakhilome\, will be LIVE.\n\n\n\nLagos\, are you ready? On Friday\, November 21st\, 2025\, something extraordinary is coming your way: ” Night of Bliss with Pastor Chris\, “LIVE in Lagos! Starting at 5 PM\, get set for a night filled with miracles\, worship\, healing\, and divine transformation. Pastor Chris will be ministering live\, bringing God’s Word with power to change lives\, restore hope\, and ignite destinies. \nThis is not just another event; it’s your moment of encounter\, your night of divine visitation. Whether you’re on the Mainland or the Island\, make your way there and witness the move of the Spirit like never before. Lagos will never be the same again! \n✨ Date: Friday\, Nov 21\, 2025\n📍 Venue: Lagos\, Nigeria\n⏰ Time: 5 PM\n🌐 Visit: nightofbliss.org\n📞 Lagos Call Center Numbers\n08145887457\n08153271448
URL:https://viewlagos.ng/event/night-of-bliss-with-pastor-chris/
LOCATION:Lagos
CATEGORIES:Christian,Spirituality
ATTACH;FMTTYPE=image/jpeg:https://viewlagos.ng/wp-content/uploads/2025/11/https___cdn.evbuc_.com_images_1164192753_2972623370571_1_original.jpeg
END:VEVENT
BEGIN:VEVENT
DTSTART;TZID=Africa/Lagos:20251121T180000
DTEND;TZID=Africa/Lagos:20251121T220000
DTSTAMP:20260423T155142
CREATED:20251013T212253Z
LAST-MODIFIED:20251013T212253Z
UID:10001144-1763748000-1763762400@viewlagos.ng
SUMMARY:Ako By Terra Kulture’s Live Performance Nights
DESCRIPTION:Step into an unforgettable evening of music\, theatre\, and fine dining at Terra Kulture’s Live Performance Nights.Experience soulful performances in an intimate setting where great food meets artistic expression. Whether you’re winding down after a long week or planning a cozy night out\, this is where the rhythm\, art\, and atmosphere come alive. \nEvent Schedule:Friday: 6 PM – 10 PMSaturday: 6 PM – 10 PMSunday: 5 PM – 8 PM \nVenue: Plot 1376\, Tiamiyu Savage\, Off Ahmadu Bello Way\, Victoria Island\, LagosReservations: 08104224137 \nDine with music and theatre — stay for the vibe.
URL:https://viewlagos.ng/event/ako-by-terra-kultures-live-performance-nights/2025-11-21/
LOCATION:Terra Kulture Arena\, Plot 1376 Tiamiyu Savage Street\, Victoria Island\, Lagos State\, 106104\, Nigeria
CATEGORIES:Things To Do In Lagos
ATTACH;FMTTYPE=image/webp:https://viewlagos.ng/wp-content/uploads/2025/10/Live-performance.webp
END:VEVENT
BEGIN:VEVENT
DTSTART;TZID=Africa/Lagos:20251122T070000
DTEND;TZID=Africa/Lagos:20251122T120000
DTSTAMP:20260423T155142
CREATED:20250815T184620Z
LAST-MODIFIED:20250815T184620Z
UID:10000704-1763794800-1763812800@viewlagos.ng
SUMMARY:ZERO RUN CLUB
DESCRIPTION:ZERO RUN CLUB — Lace up\, Lagos!Join us this Saturday\, 16th August\, for a refreshing 5KM run. Whether you’re walking\, jogging\, or sprinting\, it’s all about moving together and having fun. \n📍 Meeting Point: VGC Club Roundabout🕖 Time: 7:00 AM📏 Distance: 5KM🎯 Pace: All levels welcome \nBring your energy\, your friends\, and let’s make the road ours!
URL:https://viewlagos.ng/event/zero-run-club/2025-11-22/
LOCATION:VGC\, Eti-Osa\, VGC\, Lagos\, 106104\, Nigeria
CATEGORIES:Sports
ATTACH;FMTTYPE=image/webp:https://viewlagos.ng/wp-content/uploads/2025/08/rk6vv2vgalcynv9kocn9.webp
END:VEVENT
BEGIN:VEVENT
DTSTART;TZID=Africa/Lagos:20251122T090000
DTEND;TZID=Africa/Lagos:20251122T150000
DTSTAMP:20260423T155142
CREATED:20251028T212009Z
LAST-MODIFIED:20251028T212115Z
UID:10001944-1763802000-1763823600@viewlagos.ng
SUMMARY:NorthStar 2.0
DESCRIPTION:NorthStar is a tech mixer that offers networking opportunities for tech professionals to learn from industry leaders. It also provides a platform that connects African tech talent to job opportunities in top companies across the US\, UK\, and Canada. \nTicket Details \nFree Pass \n\nAccess to all main sessions & panels\nNetworking with attendees\nEvent materials & resources\n\nVIP Pass – ₦10\,000 (Only 30 available) \n\nAll Free Pass benefits\n1:1 access with speakers\nPrivate mentorship opportunities\nFood & refreshments\nReserved front-row seating
URL:https://viewlagos.ng/event/northstar-2-0/
LOCATION:Lagos
CATEGORIES:Technology
ATTACH;FMTTYPE=image/jpeg:https://viewlagos.ng/wp-content/uploads/2025/10/northstar-original.jpeg
END:VEVENT
BEGIN:VEVENT
DTSTART;TZID=Africa/Lagos:20251122T180000
DTEND;TZID=Africa/Lagos:20251122T220000
DTSTAMP:20260423T155142
CREATED:20251013T212253Z
LAST-MODIFIED:20251013T212253Z
UID:10001145-1763834400-1763848800@viewlagos.ng
SUMMARY:Ako By Terra Kulture’s Live Performance Nights
DESCRIPTION:Step into an unforgettable evening of music\, theatre\, and fine dining at Terra Kulture’s Live Performance Nights.Experience soulful performances in an intimate setting where great food meets artistic expression. Whether you’re winding down after a long week or planning a cozy night out\, this is where the rhythm\, art\, and atmosphere come alive. \nEvent Schedule:Friday: 6 PM – 10 PMSaturday: 6 PM – 10 PMSunday: 5 PM – 8 PM \nVenue: Plot 1376\, Tiamiyu Savage\, Off Ahmadu Bello Way\, Victoria Island\, LagosReservations: 08104224137 \nDine with music and theatre — stay for the vibe.
URL:https://viewlagos.ng/event/ako-by-terra-kultures-live-performance-nights/2025-11-22/
LOCATION:Terra Kulture Arena\, Plot 1376 Tiamiyu Savage Street\, Victoria Island\, Lagos State\, 106104\, Nigeria
CATEGORIES:Things To Do In Lagos
ATTACH;FMTTYPE=image/webp:https://viewlagos.ng/wp-content/uploads/2025/10/Live-performance.webp
END:VEVENT
BEGIN:VEVENT
DTSTART;TZID=Africa/Lagos:20251122T210000
DTEND;TZID=Africa/Lagos:20251122T233000
DTSTAMP:20260423T155142
CREATED:20251121T111504Z
LAST-MODIFIED:20251121T111504Z
UID:10002861-1763845200-1763854200@viewlagos.ng
SUMMARY:A Lit Night with Emmy Brown
DESCRIPTION:Get ready for an electrifying night as Bellies Lounge brings you A Lit Night with Emmy Brown! Join us for an explosive evening of music\, energy\, and unforgettable performances from some of the hottest rising acts. With powerful stage vibes\, nonstop entertainment\, and the best crowd in the city\, this is one Saturday you don’t want to miss. \nCome turn up\, sing along\, and party late into the night as DJ Alex Rolex delivers the baddest mixes and HypeMan Skezayo keeps the energy sky-high. \nBellies Club is the place to be — pull up with your squad!
URL:https://viewlagos.ng/event/a-lit-night-with-emmy-brown/
LOCATION:Bellies Club\, Roof Top\, 30 Addo Road\, Ajah\, Lagos\, 106104\, Nigeria
CATEGORIES:Things To Do In Lagos
ATTACH;FMTTYPE=image/jpeg:https://viewlagos.ng/wp-content/uploads/2025/11/WhatsApp-Image-2025-11-21-at-08.57.01.jpeg
END:VEVENT
BEGIN:VEVENT
DTSTART;TZID=Africa/Lagos:20251123T160000
DTEND;TZID=Africa/Lagos:20251123T233000
DTSTAMP:20260423T155142
CREATED:20251017T210812Z
LAST-MODIFIED:20251101T100755Z
UID:10001931-1763913600-1763940600@viewlagos.ng
SUMMARY:LAFFMATTAZZ with Gbenga Adeyinka & Friends Lagos
DESCRIPTION:Laffmattazz with Gbenga Adeyinka & Friends returns for its grand Lagos edition — “LAGOS: THE LAST”\, a night of laughter\, culture\, and unforgettable entertainment. \nJoin Nigeria’s finest comedians\, musicians\, and entertainers for a spectacular evening that celebrates the spirit of Lagos through humor\, music\, and storytelling. From New Lagos to Eko Ile and Iga Idunganran\, this edition takes you on a comic journey through the city’s vibrant energy and rich heritage. \nEvent Details:📅 Date: Sunday\, November 23rd⏰ Time: 4:00 PM📍 Venues: Balmoral Convention Center & Federal Palace Hotel\, Lagos \nTickets:🎟 Regular: ₦10\,000🎟 VIP: ₦25\,000🎫 Available now at www.ariiyatickets.com \nHighlights: \n\n\nNew Lagos \n\n\nLagos Marina \n\n\nEko Ile \n\n\nIga Idunganran \n\n\nExpect laughter\, culture\, and pure Lagos energy as Gbenga Adeyinka and friends close the year in grand style.
URL:https://viewlagos.ng/event/laffmattazz-with-gbenga-adeyinka-friends-lagos/
LOCATION:Balmoral Convention Centre\, Federal Palace Hotel and Casino\, 6-8 Ahmadu Bello Wy\,\, Victoria Island\, Lagos\, 101241\, Nigeria
CATEGORIES:Comedy
ATTACH;FMTTYPE=image/jpeg:https://viewlagos.ng/wp-content/uploads/2025/10/8646f566-55c6-471b-894b-30516c80f606.jpeg
END:VEVENT
BEGIN:VEVENT
DTSTART;TZID=Africa/Lagos:20251123T180000
DTEND;TZID=Africa/Lagos:20251123T220000
DTSTAMP:20260423T155142
CREATED:20251013T212253Z
LAST-MODIFIED:20251013T212253Z
UID:10001146-1763920800-1763935200@viewlagos.ng
SUMMARY:Ako By Terra Kulture’s Live Performance Nights
DESCRIPTION:Step into an unforgettable evening of music\, theatre\, and fine dining at Terra Kulture’s Live Performance Nights.Experience soulful performances in an intimate setting where great food meets artistic expression. Whether you’re winding down after a long week or planning a cozy night out\, this is where the rhythm\, art\, and atmosphere come alive. \nEvent Schedule:Friday: 6 PM – 10 PMSaturday: 6 PM – 10 PMSunday: 5 PM – 8 PM \nVenue: Plot 1376\, Tiamiyu Savage\, Off Ahmadu Bello Way\, Victoria Island\, LagosReservations: 08104224137 \nDine with music and theatre — stay for the vibe.
URL:https://viewlagos.ng/event/ako-by-terra-kultures-live-performance-nights/2025-11-23/
LOCATION:Terra Kulture Arena\, Plot 1376 Tiamiyu Savage Street\, Victoria Island\, Lagos State\, 106104\, Nigeria
CATEGORIES:Things To Do In Lagos
ATTACH;FMTTYPE=image/webp:https://viewlagos.ng/wp-content/uploads/2025/10/Live-performance.webp
END:VEVENT
END:VCALENDAR