BEGIN:VCALENDAR
VERSION:2.0
PRODID:-//VIEWLAGOS - ECPv6.15.11//NONSGML v1.0//EN
CALSCALE:GREGORIAN
METHOD:PUBLISH
X-WR-CALNAME:VIEWLAGOS
X-ORIGINAL-URL:https://viewlagos.ng
X-WR-CALDESC:Events for VIEWLAGOS
REFRESH-INTERVAL;VALUE=DURATION:PT1H
X-Robots-Tag:noindex
X-PUBLISHED-TTL:PT1H
BEGIN:VTIMEZONE
TZID:Africa/Lagos
BEGIN:STANDARD
TZOFFSETFROM:+0100
TZOFFSETTO:+0100
TZNAME:WAT
DTSTART:20250101T000000
END:STANDARD
END:VTIMEZONE
BEGIN:VEVENT
DTSTART;TZID=Africa/Lagos:20260304T100000
DTEND;TZID=Africa/Lagos:20260304T150000
DTSTAMP:20260421T122115
CREATED:20260218T223512Z
LAST-MODIFIED:20260218T223512Z
UID:10005345-1772618400-1772636400@viewlagos.ng
SUMMARY:Africa Study Abroad Fair
DESCRIPTION:GUESS WHO’S BACK? (And yes… we’re bigger.) 🌍✈️ \nWe’ve been working behind the scenes\, building something even more impactful — and now it’s time. The Africa Study Abroad Fair is returning this March\, and this year\, we’re raising the bar. \nThis isn’t just another education fair with flyers and promises. We’re bringing the real decision-makers — official school representatives\, admission officers\, and international education experts ready to answer your questions directly and guide you step-by-step. \nIf you’ve been dreaming about studying in Canada\, France\, Ireland\, or the United Kingdom\, this is your moment to turn “someday” into a clear\, practical plan. From undergraduate to postgraduate opportunities\, scholarships\, visa guidance\, career pathways\, and application support — everything you need to take the next step will be under one roof. \nWhether you’re a student\, graduate\, or parent looking for trusted information\, the Africa Study Abroad Fair gives you direct access\, real answers\, and real opportunities. No guesswork. No middle confusion. Just clarity and connection. \n📍 LAGOS: Wednesday\, March 04\, 2026🏨 Lagos Marriott Hotel Ikeja \nAccess is completely FREE — but the opportunities waiting for you are priceless. \nYour global journey could start here. Will you be in the room? 🌎✨
URL:https://viewlagos.ng/event/africa-study-abroad-fair/
LOCATION:Lagos Marriott Hotel Ikeja\, 122 Joel Ogunnaike Street Lagos\, LA 100271122 Joel Ogunnaike Street Lagos\, LA\, Ikeja GRA\, Lagos\, 100271\, Nigeria
CATEGORIES:Education,Travel
ATTACH;FMTTYPE=image/jpeg:https://viewlagos.ng/wp-content/uploads/2026/02/SaveClip.App_631670353_1846268306029294_7226385386470509533_n.jpg
END:VEVENT
END:VCALENDAR