BEGIN:VCALENDAR
VERSION:2.0
PRODID:-//VIEWLAGOS - ECPv6.15.11//NONSGML v1.0//EN
CALSCALE:GREGORIAN
METHOD:PUBLISH
X-WR-CALNAME:VIEWLAGOS
X-ORIGINAL-URL:https://viewlagos.ng
X-WR-CALDESC:Events for VIEWLAGOS
REFRESH-INTERVAL;VALUE=DURATION:PT1H
X-Robots-Tag:noindex
X-PUBLISHED-TTL:PT1H
BEGIN:VTIMEZONE
TZID:Africa/Lagos
BEGIN:STANDARD
TZOFFSETFROM:+0100
TZOFFSETTO:+0100
TZNAME:WAT
DTSTART:20240101T000000
END:STANDARD
END:VTIMEZONE
BEGIN:VEVENT
DTSTART;TZID=Africa/Lagos:20250713T190000
DTEND;TZID=Africa/Lagos:20250713T233000
DTSTAMP:20260421T134606
CREATED:20250712T121022Z
LAST-MODIFIED:20250712T121022Z
UID:10000577-1752433200-1752449400@viewlagos.ng
SUMMARY:Gilded Strokes Party
DESCRIPTION:Prepare for an unforgettable blend of creativity and celebration. This is the perfect event for art enthusiasts who also love to party. Immerse yourself in a vibrant atmosphere where artistic expression meets lively entertainment. Expect an evening filled with creative inspiration\, great music to set the mood\, and the chance to connect with fellow art and party lovers. It’s your opportunity to add some gilded strokes to your weekend. Don’t miss out on this unique experience that promises to be as engaging as it is fun.
URL:https://viewlagos.ng/event/gilded-strokes-party-2/
LOCATION:Trib3 Lagos\, 288b Ajose Adeogun St\, Victoria Island\, Lagos\, Lagos\, 100232\, Nigeria
CATEGORIES:Party
ATTACH;FMTTYPE=image/jpeg:https://viewlagos.ng/wp-content/uploads/2025/07/Gilded-Strokes-Party.jpg
END:VEVENT
END:VCALENDAR