BEGIN:VCALENDAR
VERSION:2.0
PRODID:-//VIEWLAGOS - ECPv6.15.11//NONSGML v1.0//EN
CALSCALE:GREGORIAN
METHOD:PUBLISH
X-WR-CALNAME:VIEWLAGOS
X-ORIGINAL-URL:https://viewlagos.ng
X-WR-CALDESC:Events for VIEWLAGOS
REFRESH-INTERVAL;VALUE=DURATION:PT1H
X-Robots-Tag:noindex
X-PUBLISHED-TTL:PT1H
BEGIN:VTIMEZONE
TZID:Africa/Lagos
BEGIN:STANDARD
TZOFFSETFROM:+0100
TZOFFSETTO:+0100
TZNAME:WAT
DTSTART:20240101T000000
END:STANDARD
END:VTIMEZONE
BEGIN:VEVENT
DTSTART;TZID=Africa/Lagos:20250829T080000
DTEND;TZID=Africa/Lagos:20250829T180000
DTSTAMP:20260419T185103
CREATED:20250822T214910Z
LAST-MODIFIED:20250822T214910Z
UID:10000717-1756454400-1756490400@viewlagos.ng
SUMMARY:Lagos Students Career Expo 2.0
DESCRIPTION:The Lagos Students Career Expo (LSCE) is a yearly event created by students and recent graduates from across Nigeria.\nWe know how confusing it can be figuring out what’s next after school\, so this event is built to make that process easier and more accessible for YOU. \n\nHOW THE EVENT IS STRUCTURED\nThe day is split into two main parts: \nThe conference in the Morning\nFrom morning till noon\, we’ll host a mix of speaker sessions\, panel discussions\, and fireside chats with professionals working in tech\, finance\, engineering\, marketing\, and more. \nThe exhibition in the afternoon\nFrom noon till evening\, we’ll open up the exhibition where you can meet directly with over 20 companies.\nYou’ll be able to ask questions\, get clarity on how to apply\, and understand what different industries are looking for. \nWHO IS LSCE FOR\nLSCE is open to:\n✅Students in tertiary institution\n✅NYSC candidates figuring out their next steps\n✅Recent graduates looking to enter the job market
URL:https://viewlagos.ng/event/lagos-students-career-expo-2-0/
LOCATION:Tayo Aderinokun Lecture Theatre\, UNILAG\, Tayo Aderinokun Lecture Theatre G9CX+R89\, Akoka\, Lagos 101245\, Lagos\, Lagos\, Lagos\, 101245\, Nigeria
CATEGORIES:Education,Expo
ATTACH;FMTTYPE=image/webp:https://viewlagos.ng/wp-content/uploads/2025/08/kgn3l4dp79gqari0n3tr.webp
END:VEVENT
END:VCALENDAR