BEGIN:VCALENDAR
VERSION:2.0
PRODID:-//VIEWLAGOS - ECPv6.15.11//NONSGML v1.0//EN
CALSCALE:GREGORIAN
METHOD:PUBLISH
X-WR-CALNAME:VIEWLAGOS
X-ORIGINAL-URL:https://viewlagos.ng
X-WR-CALDESC:Events for VIEWLAGOS
REFRESH-INTERVAL;VALUE=DURATION:PT1H
X-Robots-Tag:noindex
X-PUBLISHED-TTL:PT1H
BEGIN:VTIMEZONE
TZID:Africa/Lagos
BEGIN:STANDARD
TZOFFSETFROM:+0100
TZOFFSETTO:+0100
TZNAME:WAT
DTSTART:20250101T000000
END:STANDARD
END:VTIMEZONE
BEGIN:VEVENT
DTSTART;TZID=Africa/Lagos:20260228T190000
DTEND;TZID=Africa/Lagos:20260228T230000
DTSTAMP:20260424T190135
CREATED:20260206T122346Z
LAST-MODIFIED:20260206T122458Z
UID:10005331-1772305200-1772319600@viewlagos.ng
SUMMARY:The Playroom Lagos
DESCRIPTION:This is a relaxed community games night designed for good energy\, friendly competition\, and genuine connection. Come with your friends or come solo and meet new people through fun\, interactive games in a welcoming space. Whether you’re here to play\, laugh\, or just vibe\, this night is about unwinding\, socialising\, and having a good time.
URL:https://viewlagos.ng/event/the-playroom-lagos/
LOCATION:PAWAHOUSE\, 16 Admiralty Wy\, Lekki Phase I\, Lekki\, Lekki Phase 1\, Lagos\, 106104\, Nigeria
CATEGORIES:Party,Things To Do In Lagos
ATTACH;FMTTYPE=image/webp:https://viewlagos.ng/wp-content/uploads/2026/02/fodxwrydpquq6zxofgtr.webp
END:VEVENT
END:VCALENDAR