BEGIN:VCALENDAR
VERSION:2.0
PRODID:-//VIEWLAGOS - ECPv6.15.11//NONSGML v1.0//EN
CALSCALE:GREGORIAN
METHOD:PUBLISH
X-ORIGINAL-URL:https://viewlagos.ng
X-WR-CALDESC:Events for VIEWLAGOS
REFRESH-INTERVAL;VALUE=DURATION:PT1H
X-Robots-Tag:noindex
X-PUBLISHED-TTL:PT1H
BEGIN:VTIMEZONE
TZID:Africa/Lagos
BEGIN:STANDARD
TZOFFSETFROM:+0100
TZOFFSETTO:+0100
TZNAME:WAT
DTSTART:20250101T000000
END:STANDARD
END:VTIMEZONE
BEGIN:VEVENT
DTSTART;TZID=Africa/Lagos:20260214T180000
DTEND;TZID=Africa/Lagos:20260214T233000
DTSTAMP:20260419T192246
CREATED:20260206T025319Z
LAST-MODIFIED:20260206T025319Z
UID:10005328-1771092000-1771111800@viewlagos.ng
SUMMARY:Love On The Rocks
DESCRIPTION:Some moments deserve more than just dinner; they deserve an experience\nCelebrate Valentine’s Day with a specially curated menu\, love music and an atmosphere made for love
URL:https://viewlagos.ng/event/love-on-the-rocks/
LOCATION:355 Restaurant Ikeja\, Jara Mall - 22 Simbiat Abiola Way\, Ikeja\, Lagos\, 101233\, Nigeria
CATEGORIES:Things To Do In Lagos,Valentine
ATTACH;FMTTYPE=image/jpeg:https://viewlagos.ng/wp-content/uploads/2026/02/628028202_18054675827693971_6684373365473609743_n.jpg
END:VEVENT
END:VCALENDAR