BEGIN:VCALENDAR
VERSION:2.0
PRODID:-//VIEWLAGOS - ECPv6.15.11//NONSGML v1.0//EN
CALSCALE:GREGORIAN
METHOD:PUBLISH
X-WR-CALNAME:VIEWLAGOS
X-ORIGINAL-URL:https://viewlagos.ng
X-WR-CALDESC:Events for VIEWLAGOS
REFRESH-INTERVAL;VALUE=DURATION:PT1H
X-Robots-Tag:noindex
X-PUBLISHED-TTL:PT1H
BEGIN:VTIMEZONE
TZID:Africa/Lagos
BEGIN:STANDARD
TZOFFSETFROM:+0100
TZOFFSETTO:+0100
TZNAME:WAT
DTSTART:20240101T000000
END:STANDARD
END:VTIMEZONE
BEGIN:VEVENT
DTSTART;TZID=Africa/Lagos:20251011T100000
DTEND;TZID=Africa/Lagos:20251011T183000
DTSTAMP:20260419T184943
CREATED:20250901T104020Z
LAST-MODIFIED:20250901T104020Z
UID:10000731-1760176800-1760207400@viewlagos.ng
SUMMARY:ThriveFest 2025
DESCRIPTION:ThriveFest 2025 – Igniting Growth Through Tech & Creativity\nStep into a powerful gathering where innovation meets ambition!\n\nThriveFest 2025 is a high-energy Tech festival for entrepreneurs\, creatives\, tech enthusiasts\, and future-focused minds.\nJoin us this October 11th Mainland Lagos for a day packed with bold ideas\, live product demos\, brand showcases\, real business stories\, and exciting networking.\n\nFrom business panels to tech tools in action\, creative exhibitions\, and impactful connections\, this isn’t just another event — it’s a movement to spotlight African innovation and empower small brands making big moves.
URL:https://viewlagos.ng/event/thrivefest-2025/
LOCATION:Divine Infinity College Road\, 117 Okota Road\, Near Cele Bus Stop\, Oshodi-Isolo\, Lagos\, 102214\, Nigeria
CATEGORIES:Business,Festival,Technology
ATTACH;FMTTYPE=image/webp:https://viewlagos.ng/wp-content/uploads/2025/09/hepgart4o1glwczegxez.webp
END:VEVENT
END:VCALENDAR