BEGIN:VCALENDAR
VERSION:2.0
PRODID:-//VIEWLAGOS - ECPv6.15.11//NONSGML v1.0//EN
CALSCALE:GREGORIAN
METHOD:PUBLISH
X-ORIGINAL-URL:https://viewlagos.ng
X-WR-CALDESC:Events for VIEWLAGOS
REFRESH-INTERVAL;VALUE=DURATION:PT1H
X-Robots-Tag:noindex
X-PUBLISHED-TTL:PT1H
BEGIN:VTIMEZONE
TZID:Africa/Lagos
BEGIN:STANDARD
TZOFFSETFROM:+0100
TZOFFSETTO:+0100
TZNAME:WAT
DTSTART:20250101T000000
END:STANDARD
END:VTIMEZONE
BEGIN:VEVENT
DTSTART;TZID=Africa/Lagos:20260222T170000
DTEND;TZID=Africa/Lagos:20260222T210000
DTSTAMP:20260419T163820
CREATED:20260131T222617Z
LAST-MODIFIED:20260131T222617Z
UID:10005250-1771779600-1771794000@viewlagos.ng
SUMMARY:Beautiful Nubia Live In Concert
DESCRIPTION:Get ready for a soul-stirring night of music\, culture\, and storytelling as the legendary Beautiful Nubia takes the stage live in Lagos! \nExperience his poetic lyrics\, rich Afro-fusion sound\, and powerful live performance that speaks to heritage\, love\, and social consciousness. This is more than a concert — it’s a musical journey through history\, rhythm\, and identity. \n🌿 Don’t miss a night of deep vibes\, meaningful melodies\, and pure artistry.
URL:https://viewlagos.ng/event/beautiful-nubia-live-in-concert/
LOCATION:Eniobanke\, 51 Adekunle Fajuyi Way\, Ikeja GRA\, Lagos\, 101233\, Nigeria
CATEGORIES:Concert
ATTACH;FMTTYPE=image/webp:https://viewlagos.ng/wp-content/uploads/2026/01/621173531_18563562571009595_7867666819340675683_n.webp
END:VEVENT
END:VCALENDAR