BEGIN:VCALENDAR
VERSION:2.0
PRODID:-//VIEWLAGOS - ECPv6.15.11//NONSGML v1.0//EN
CALSCALE:GREGORIAN
METHOD:PUBLISH
X-WR-CALNAME:VIEWLAGOS
X-ORIGINAL-URL:https://viewlagos.ng
X-WR-CALDESC:Events for VIEWLAGOS
REFRESH-INTERVAL;VALUE=DURATION:PT1H
X-Robots-Tag:noindex
X-PUBLISHED-TTL:PT1H
BEGIN:VTIMEZONE
TZID:Africa/Lagos
BEGIN:STANDARD
TZOFFSETFROM:+0100
TZOFFSETTO:+0100
TZNAME:WAT
DTSTART:20240101T000000
END:STANDARD
END:VTIMEZONE
BEGIN:VEVENT
DTSTART;TZID=Africa/Lagos:20250913T100000
DTEND;TZID=Africa/Lagos:20250913T140000
DTSTAMP:20260420T021535
CREATED:20250901T094658Z
LAST-MODIFIED:20250901T094658Z
UID:10000727-1757757600-1757772000@viewlagos.ng
SUMMARY:Realtors Bootcamp 4.0
DESCRIPTION:REALTORS BOOTCAMP is back and better than ever! Join us for a day filled with valuable insights\, networking opportunities\, and expert-led workshops. Whether you’re a seasoned pro or just starting out in the real estate game\, this event is perfect for you. Get ready to learn from the best in the business at Frontier Homes – Frontier Commercial Services Limited. Don’t miss out on this chance to level up your real estate game! \n\n\nGet ready to sharpen your skills at REALTORS BOOTCAMP 4.0 – it’s time to level up!
URL:https://viewlagos.ng/event/realtors-bootcamp-4-0/
LOCATION:Frontier Place\, 3 Gbenle Street\, Orelope Street\, Egbeda\, Lagos\, 102213\, Nigeria
CATEGORIES:Real Estate
ATTACH;FMTTYPE=image/jpeg:https://viewlagos.ng/wp-content/uploads/2025/09/frontier.jpeg
END:VEVENT
END:VCALENDAR